PDS_VERSION_ID = PDS3
/* FILE DATA ELEMENTS */
RECORD_TYPE = STREAM
/* POINTERS TO DATA OBJECTS */
^COMPRESSED_FILE = "H2513_0000_P23.JP2"
/* IDENTIFICATION DATA ELEMENTS */
DATA_SET_ID = "MEX-M-HRSC-5-REFDR-MAPPROJECTED-V3.0"
DATA_SET_NAME = "MARS EXPRESS HRSC MAP PROJECTED REFDR V3.0"
DETECTOR_ID = MEX_HRSC_P2
EVENT_TYPE = "MARS-REGIONAL-MAPPING-Im-Pf"
INSTRUMENT_HOST_ID = MEX
INSTRUMENT_HOST_NAME = "MARS EXPRESS"
INSTRUMENT_ID = HRSC
INSTRUMENT_NAME = "HIGH RESOLUTION STEREO CAMERA"
MISSION_NAME = "MARS EXPRESS"
MISSION_PHASE_NAME = ME_Phase_1
PROCESSING_LEVEL_ID = 3
PRODUCT_CREATION_TIME = 2016-04-07T06:49:26.000Z
PRODUCT_ID = "H2513_0000_P23.JP2"
RELEASE_ID = 0031
REVISION_ID = 0000
/* QUALITY DATA ELEMENTS */
DATA_QUALITY_ID = 1
DATA_QUALITY_DESC = "Data calculated based on original SPICE kernels"
/* TIME DATA ELEMENTS */
SPACECRAFT_CLOCK_START_COUNT = "1/0083752879.56195"
SPACECRAFT_CLOCK_STOP_COUNT = "1/0083753309.61652"
START_TIME = 2005-12-27T08:42:19.537Z
STOP_TIME = 2005-12-27T08:48:07.430Z
/* ORBITAL DATA ELEMENTS */
ASCENDING_NODE_LONGITUDE = 175.52
MAXIMUM_RESOLUTION = 60.2
FOOTPRINT_POINT_LATITUDE = (-63.2425,-63.3525,-62.9291,-62.5086, -62.0807,-61.6602,-61.2353,-60.8155, -60.397,-59.9838,-59.5632,-58.9503, -58.5374,-58.1179,-57.7093,-57.302, -56.8952,-56.4895,-56.087,-55.4832, -55.0853,-54.6845,-54.2869,-53.8914, -53.4986,-53.1022,-52.5133,-52.1231, -51.7344,-51.3504,-50.7772,-50.3935, -49.8187,-49.4405,-49.0619,-48.6865, -48.1249,-47.7521,-47.3799,-47.011, -46.6434,-46.2769,-45.9127,-45.5497, -45.1882,-44.8281,-44.4694,-44.1119, -43.7204,-43.7174,-43.7012,-43.6869, -44.0308,-44.7432,-45.4596,-45.8216, -46.1852,-46.5508,-46.9174,-47.2855, -47.655,-48.0255,-48.3979,-48.7715, -49.1476,-49.5246,-49.9027,-50.2826, -50.6634,-51.0457,-51.4293,-51.8148, -52.2031,-52.7852,-53.1776,-53.5694, -53.964,-54.3599,-54.7568,-55.1558, -55.5547,-55.956,-56.3591,-56.7612, -57.1671,-57.5763,-57.9831,-58.3912, -58.802,-59.2143,-59.6277,-60.0423, -60.4576,-60.8748,-61.2928,-61.7128, -62.1339,-62.5562,-62.9798,-63.2425)
FOOTPRINT_POINT_LONGITUDE = (158.984,160.334,160.432,160.528, 160.617,160.706,160.789,160.87,160.95, 161.028,161.1,161.211,161.279,161.341, 161.406,161.469,161.529,161.588,161.645 ,161.728,161.782,161.832,161.882, 161.931,161.98,162.024,162.09,162.133, 162.174,162.216,162.278,162.315,162.369 ,162.406,162.44,162.475,162.524,162.556 ,162.587,162.618,162.648,162.677, 162.706,162.733,162.761,162.788,162.814 ,162.839,162.516,161.873,160.847, 160.172,159.711,159.691,159.669,159.656 ,159.641,159.626,159.61,159.593,159.575 ,159.556,159.536,159.515,159.492, 159.469,159.444,159.418,159.392,159.364 ,159.334,159.303,159.269,159.219,159.18 ,159.142,159.101,159.058,159.013, 158.966,158.918,158.867,158.813,158.76, 158.702,158.638,158.576,158.512,158.443 ,158.371,158.296,158.217,158.137, 158.051,157.962,157.869,157.771,157.668 ,157.561,158.984)
ORBIT_NUMBER = 2513
ORBITAL_ECCENTRICITY = 0.572
ORBITAL_INCLINATION = 86.62
ORBITAL_SEMIMAJOR_AXIS = 8529.3
PERIAPSIS_ALTITUDE = 277.58
PERIAPSIS_ARGUMENT_ANGLE = 276.64
PERIAPSIS_TIME = 2005-12-27T08:36:58.000Z
SPACECRAFT_ORIENTATION = (0.0,-1.0,0.0)
^MEX_ORIENTATION_DESC = "MEX_ORIENTATION_DESC.TXT"
SPACECRAFT_POINTING_MODE = ACROSSTRACK
^MEX_POINTING_DESC = "MEX_POINTING_DESC.TXT"
RIGHT_ASCENSION = -1e+32
DECLINATION = -1e+32
OFFSET_ANGLE = 0.2
SPACECRAFT_SOLAR_DISTANCE = 2.28173e+08
TARGET_NAME = MARS
/* CAMERA DATA ELEMENTS */
DETECTOR_TEMPERATURE = 18.5744
FOCAL_PLANE_TEMPERATURE = 8.3794
INST_CMPRS_NAME = "DISCRETE COSINE TRANSFORMATION (DCT)"
INST_CMPRS_RATIO = 15.3334
INST_CMPRS_QUALITY = 0
INST_CMPRS_QUANTZ_TBL_ID = 0
INSTRUMENT_TEMPERATURE = 11.0301
LENS_TEMPERATURE = 8.5833
MACROPIXEL_SIZE = 4
MISSING_FRAMES = 0
PIXEL_SUBSAMPLING_FLAG = N
SIGNAL_CHAIN_ID = 3
/* RADIOMETRIC DATA ELEMENTS */
BANDWIDTH = 177.0
CENTER_FILTER_WAVELENGTH = 676.5
RADIANCE_OFFSET = 2.15847
RADIANCE_SCALING_FACTOR = 0.0197507
REFLECTANCE_SCALING_FACTOR = 0.000545218
MEX:REFLECTANCE_OFFSET = 0.0595845
/* IMAGE OBJECT DEFINITIONS */
OBJECT = IMAGE
  INTERCHANGE_FORMAT = BINARY
  LINES = 23343
  LINE_SAMPLES = 3348
  SAMPLE_TYPE = UNSIGNED_INTEGER
  SAMPLE_BITS = 8
  BANDS = 1
  BAND_STORAGE_TYPE = BAND_SEQUENTIAL
  MAXIMUM = 255
  MEAN = 117.204
  MINIMUM = 1
  STANDARD_DEVIATION = 39.9467
END_OBJECT = IMAGE
/* MAP OBJECT DEFINITIONS */
OBJECT = IMAGE_MAP_PROJECTION
  ^DATA_SET_MAP_PROJECTION_CATALOG= "DSMAP.CAT"
  A_AXIS_RADIUS = 3396.0
  B_AXIS_RADIUS = 3396.0
  C_AXIS_RADIUS = 3396.0
  CENTER_LATITUDE = 0.0
  CENTER_LONGITUDE = 161.0
  COORDINATE_SYSTEM_NAME = PLANETOGRAPHIC
  COORDINATE_SYSTEM_TYPE = "BODY-FIXED ROTATING"
  EASTERNMOST_LONGITUDE = 162.839
  FIRST_STANDARD_PARALLEL = "N/A"
  LINE_FIRST_PIXEL = 1
  LINE_LAST_PIXEL = 23343
  LINE_PROJECTION_OFFSET = -51770.375
  MAP_PROJECTION_ROTATION = 0.0
  MAP_PROJECTION_TYPE = SINUSOIDAL
  MAP_RESOLUTION = 1185.42760773333
  MAP_SCALE = 0.05
  MAXIMUM_LATITUDE = -43.6869
  MINIMUM_LATITUDE = -63.3525
  POSITIVE_LONGITUDE_DIRECTION = EAST
  REFERENCE_LATITUDE = "N/A"
  REFERENCE_LONGITUDE = "N/A"
  SAMPLE_FIRST_PIXEL = 1
  SAMPLE_LAST_PIXEL = 3348
  SAMPLE_PROJECTION_OFFSET = 1849.875
  SECOND_STANDARD_PARALLEL = "N/A"
  WESTERNMOST_LONGITUDE = 157.561
END_OBJECT = IMAGE_MAP_PROJECTION
/* The JPEG2000 image data file associated with this label. */
OBJECT = COMPRESSED_FILE
  FILE_NAME = "H2513_0000_P23.JP2"
  RECORD_TYPE = UNDEFINED
  FILE_RECORDS = UNK
  ENCODING_TYPE = "JP2"
  INTERCHANGE_FORMAT = BINARY
  UNCOMPRESSED_FILE_NAME = "H2513_0000_P23.IMG"
  REQUIRED_STORAGE_BYTES = "78175800"
  ^DESCRIPTION = "JP2INFO.TXT"
END_OBJECT = COMPRESSED_FILE
END
