PDS_VERSION_ID = PDS3
/* FILE DATA ELEMENTS */
RECORD_TYPE = STREAM
/* POINTERS TO DATA OBJECTS */
^COMPRESSED_FILE = "H2514_0000_GR3.JP2"
/* IDENTIFICATION DATA ELEMENTS */
DATA_SET_ID = "MEX-M-HRSC-5-REFDR-MAPPROJECTED-V3.0"
DATA_SET_NAME = "MARS EXPRESS HRSC MAP PROJECTED REFDR V3.0"
DETECTOR_ID = MEX_HRSC_GREEN
EVENT_TYPE = "MARS-TERMINATOR-VARIABLE-Gl-At"
INSTRUMENT_HOST_ID = MEX
INSTRUMENT_HOST_NAME = "MARS EXPRESS"
INSTRUMENT_ID = HRSC
INSTRUMENT_NAME = "HIGH RESOLUTION STEREO CAMERA"
MISSION_NAME = "MARS EXPRESS"
MISSION_PHASE_NAME = ME_Phase_1
PROCESSING_LEVEL_ID = 3
PRODUCT_CREATION_TIME = 2016-04-07T06:49:26.000Z
PRODUCT_ID = "H2514_0000_GR3.JP2"
RELEASE_ID = 0031
REVISION_ID = 0000
/* QUALITY DATA ELEMENTS */
DATA_QUALITY_ID = 1
DATA_QUALITY_DESC = "Data calculated based on original SPICE kernels"
/* TIME DATA ELEMENTS */
SPACECRAFT_CLOCK_START_COUNT = "1/0083776568.57964"
SPACECRAFT_CLOCK_STOP_COUNT = "1/0083776687.50397"
START_TIME = 2005-12-27T15:16:39.632Z
STOP_TIME = 2005-12-27T15:17:42.974Z
/* ORBITAL DATA ELEMENTS */
ASCENDING_NODE_LONGITUDE = 175.5
MAXIMUM_RESOLUTION = 92.4
FOOTPRINT_POINT_LATITUDE = (-82.2969,-82.3648,-82.435,-82.5026, -82.5598,-82.6344,-82.687,-82.8308, -82.9081,-82.9855,-83.1011,-83.217, -83.2939,-83.4083,-83.5228,-83.5988, -83.6741,-83.7495,-83.8247,-83.8996, -83.9742,-84.0461,-84.1535,-84.2247, -84.2956,-84.4012,-84.5059,-84.5754, -84.6448,-84.7481,-84.8165,-84.8846, -84.9523,-85.0195,-85.086,-85.1853, -85.2509,-85.316,-85.3807,-85.4448, -85.5394,-85.6016,-85.663,-85.724, -85.7845,-85.8441,-85.902,-86.0132, -86.1722,-86.0954,-86.0235,-85.9361, -85.8251,-85.7049,-85.5827,-85.5056, -85.4043,-85.3304,-85.239,-85.1441, -85.0941,-85.0424,-84.9903,-84.9102, -84.8287,-84.7736,-84.6896,-84.6327, -84.5751,-84.4875,-84.3986,-84.3387, -84.2782,-84.2172,-84.1557,-84.0937, -84.0312,-83.9683,-83.9048,-83.8089, -83.712,-83.647,-83.5816,-83.4827, -83.4165,-83.3474,-83.278,-83.1732, -83.1029,-83.0323,-82.9614,-82.8902, -82.783,-82.7111,-82.6028,-82.5303, -82.4576,-82.3481,-82.2748,-82.2969)
FOOTPRINT_POINT_LONGITUDE = (279.083,278.141,277.117,276.076,275.15 ,273.87,272.91,273.12,273.395,273.675, 274.106,274.55,274.855,275.33,275.819, 276.155,276.502,276.857,277.219,277.591 ,277.972,278.347,278.929,279.329,279.74 ,280.377,281.04,281.496,281.962,282.686 ,283.184,283.696,284.221,284.761, 285.318,286.18,286.774,287.385,288.013, 288.659,289.665,290.36,291.077,291.812, 292.568,293.346,294.133,295.741,298.311 ,299.302,300.182,301.196,302.403, 303.621,304.773,305.461,306.322,305.732 ,304.157,302.646,301.901,301.163, 300.432,299.371,298.339,297.664,296.682 ,296.047,295.427,294.521,293.642, 293.073,292.515,291.968,291.433,290.911 ,290.399,289.899,289.41,288.696,288.006 ,287.555,287.114,286.473,286.053, 285.629,285.214,284.606,284.212,283.826 ,283.447,283.077,282.536,282.183,281.67 ,281.337,281.009,280.529,280.216, 279.083)
ORBIT_NUMBER = 2514
ORBITAL_ECCENTRICITY = 0.572
ORBITAL_INCLINATION = 86.63
ORBITAL_SEMIMAJOR_AXIS = 8528.36
PERIAPSIS_ALTITUDE = 276.34
PERIAPSIS_ARGUMENT_ANGLE = 276.47
PERIAPSIS_TIME = 2005-12-27T15:20:01.000Z
SPACECRAFT_ORIENTATION = (0.0,-1.0,0.0)
^MEX_ORIENTATION_DESC = "MEX_ORIENTATION_DESC.TXT"
SPACECRAFT_POINTING_MODE = NADIR
^MEX_POINTING_DESC = "MEX_POINTING_DESC.TXT"
RIGHT_ASCENSION = -1e+32
DECLINATION = -1e+32
OFFSET_ANGLE = -1e+32
SPACECRAFT_SOLAR_DISTANCE = 2.28228e+08
TARGET_NAME = MARS
/* CAMERA DATA ELEMENTS */
DETECTOR_TEMPERATURE = 18.5744
FOCAL_PLANE_TEMPERATURE = 8.3794
INST_CMPRS_NAME = "DISCRETE COSINE TRANSFORMATION (DCT)"
INST_CMPRS_RATIO = 34.8097
INST_CMPRS_QUALITY = 0
INST_CMPRS_QUANTZ_TBL_ID = 0
INSTRUMENT_TEMPERATURE = 11.4379
LENS_TEMPERATURE = 8.5833
MACROPIXEL_SIZE = 8
MISSING_FRAMES = 0
PIXEL_SUBSAMPLING_FLAG = N
SIGNAL_CHAIN_ID = 2
/* RADIOMETRIC DATA ELEMENTS */
BANDWIDTH = 88.0
CENTER_FILTER_WAVELENGTH = 538.0
RADIANCE_OFFSET = 0.0462924
RADIANCE_SCALING_FACTOR = 0.00236
REFLECTANCE_SCALING_FACTOR = 0.000105836
MEX:REFLECTANCE_OFFSET = 0.00207602
/* IMAGE OBJECT DEFINITIONS */
OBJECT = IMAGE
  INTERCHANGE_FORMAT = BINARY
  LINES = 2314
  LINE_SAMPLES = 1956
  SAMPLE_TYPE = UNSIGNED_INTEGER
  SAMPLE_BITS = 8
  BANDS = 1
  BAND_STORAGE_TYPE = BAND_SEQUENTIAL
  MAXIMUM = 254
  MEAN = 91.7355
  MINIMUM = 11
  STANDARD_DEVIATION = 54.0921
END_OBJECT = IMAGE
/* MAP OBJECT DEFINITIONS */
OBJECT = IMAGE_MAP_PROJECTION
  ^DATA_SET_MAP_PROJECTION_CATALOG= "DSMAP.CAT"
  A_AXIS_RADIUS = 3396.0
  B_AXIS_RADIUS = 3396.0
  C_AXIS_RADIUS = 3396.0
  CENTER_LATITUDE = 0.0
  CENTER_LONGITUDE = 286.0
  COORDINATE_SYSTEM_NAME = PLANETOGRAPHIC
  COORDINATE_SYSTEM_TYPE = "BODY-FIXED ROTATING"
  EASTERNMOST_LONGITUDE = 306.322
  FIRST_STANDARD_PARALLEL = "N/A"
  LINE_FIRST_PIXEL = 1
  LINE_LAST_PIXEL = 2314
  LINE_PROJECTION_OFFSET = -48756.125
  MAP_PROJECTION_ROTATION = 0.0
  MAP_PROJECTION_TYPE = SINUSOIDAL
  MAP_RESOLUTION = 592.713803866667
  MAP_SCALE = 0.1
  MAXIMUM_LATITUDE = -82.2748
  MINIMUM_LATITUDE = -86.1722
  POSITIVE_LONGITUDE_DIRECTION = EAST
  REFERENCE_LATITUDE = "N/A"
  REFERENCE_LONGITUDE = "N/A"
  SAMPLE_FIRST_PIXEL = 1
  SAMPLE_LAST_PIXEL = 1956
  SAMPLE_PROJECTION_OFFSET = 986.125
  SECOND_STANDARD_PARALLEL = "N/A"
  WESTERNMOST_LONGITUDE = 272.91
END_OBJECT = IMAGE_MAP_PROJECTION
/* The JPEG2000 image data file associated with this label. */
OBJECT = COMPRESSED_FILE
  FILE_NAME = "H2514_0000_GR3.JP2"
  RECORD_TYPE = UNDEFINED
  FILE_RECORDS = UNK
  ENCODING_TYPE = "JP2"
  INTERCHANGE_FORMAT = BINARY
  UNCOMPRESSED_FILE_NAME = "H2514_0000_GR3.IMG"
  REQUIRED_STORAGE_BYTES = "4545744"
  ^DESCRIPTION = "JP2INFO.TXT"
END_OBJECT = COMPRESSED_FILE
END
