PDS_VERSION_ID = PDS3
/* FILE DATA ELEMENTS */
RECORD_TYPE = STREAM
/* POINTERS TO DATA OBJECTS */
^COMPRESSED_FILE = "H2514_0000_S23.JP2"
/* IDENTIFICATION DATA ELEMENTS */
DATA_SET_ID = "MEX-M-HRSC-5-REFDR-MAPPROJECTED-V3.0"
DATA_SET_NAME = "MARS EXPRESS HRSC MAP PROJECTED REFDR V3.0"
DETECTOR_ID = MEX_HRSC_S2
EVENT_TYPE = "MARS-TERMINATOR-VARIABLE-Gl-At"
INSTRUMENT_HOST_ID = MEX
INSTRUMENT_HOST_NAME = "MARS EXPRESS"
INSTRUMENT_ID = HRSC
INSTRUMENT_NAME = "HIGH RESOLUTION STEREO CAMERA"
MISSION_NAME = "MARS EXPRESS"
MISSION_PHASE_NAME = ME_Phase_1
PROCESSING_LEVEL_ID = 3
PRODUCT_CREATION_TIME = 2016-04-07T06:49:26.000Z
PRODUCT_ID = "H2514_0000_S23.JP2"
RELEASE_ID = 0031
REVISION_ID = 0000
/* QUALITY DATA ELEMENTS */
DATA_QUALITY_ID = 1
DATA_QUALITY_DESC = "Data calculated based on original SPICE kernels"
/* TIME DATA ELEMENTS */
SPACECRAFT_CLOCK_START_COUNT = "1/0083776568.57964"
SPACECRAFT_CLOCK_STOP_COUNT = "1/0083776687.50397"
START_TIME = 2005-12-27T15:17:11.088Z
STOP_TIME = 2005-12-27T15:18:12.545Z
/* ORBITAL DATA ELEMENTS */
ASCENDING_NODE_LONGITUDE = 175.5
MAXIMUM_RESOLUTION = 48.1
FOOTPRINT_POINT_LATITUDE = (-82.3628,-82.4548,-82.5258,-82.6028, -82.6685,-82.7317,-82.7812,-82.734, -82.8508,-82.9284,-83.0053,-83.0824, -83.1593,-83.2345,-83.3104,-83.3877, -83.4635,-83.5762,-83.6909,-83.7664, -83.8414,-83.9165,-83.991,-84.065, -84.1756,-84.2853,-84.3556,-84.4266, -84.5321,-84.6017,-84.6704,-84.7392, -84.8412,-84.9086,-84.9756,-85.0763, -85.1424,-85.2403,-85.337,-85.4323, -85.495,-85.5584,-85.6205,-85.7128, -85.7729,-85.8615,-85.9196,-85.977, -86.0334,-86.1162,-86.1979,-86.0995, -85.977,-85.875,-85.7261,-85.6506, -85.5437,-85.4587,-85.3562,-85.3102, -85.2632,-85.2151,-85.1658,-85.1148, -85.0362,-84.9564,-84.8765,-84.7688, -84.6854,-84.6286,-84.5712,-84.513, -84.425,-84.3658,-84.2759,-84.1851, -84.0927,-84.0305,-83.936,-83.8723, -83.8083,-83.7112,-83.6445,-83.5768, -83.5075,-83.4395,-83.3707,-83.3011, -83.1965,-83.1263,-83.0559,-82.9853, -82.9141,-82.8068,-82.7352,-82.6628, -82.59,-82.5172,-82.4445,-82.3628)
FOOTPRINT_POINT_LONGITUDE = (280.183,278.967,277.972,276.83,275.796 ,274.742,273.871,272.798,273.201, 273.476,273.755,274.042,274.335,274.624 ,274.926,275.248,275.566,276.054, 276.579,276.935,277.297,277.672,278.052 ,278.44,279.042,279.667,280.082,280.519 ,281.192,281.651,282.117,282.599, 283.342,283.852,284.376,285.203,285.768 ,286.638,287.544,288.485,289.133, 289.823,290.52,291.614,292.357,293.509, 294.305,295.126,295.966,297.269,298.66, 299.898,301.326,302.448,303.946,304.657 ,305.609,306.322,305.935,305.113, 304.307,303.515,302.737,301.967,300.839 ,299.752,298.712,297.385,296.42,295.792 ,295.177,294.574,293.696,293.126, 292.295,291.491,290.71,290.203,289.461, 288.979,288.507,287.816,287.355,286.901 ,286.453,286.02,285.594,285.176,284.566 ,284.17,283.783,283.403,283.031,282.487 ,282.133,281.786,281.446,281.112, 280.786,280.183)
ORBIT_NUMBER = 2514
ORBITAL_ECCENTRICITY = 0.572
ORBITAL_INCLINATION = 86.63
ORBITAL_SEMIMAJOR_AXIS = 8528.36
PERIAPSIS_ALTITUDE = 276.34
PERIAPSIS_ARGUMENT_ANGLE = 276.47
PERIAPSIS_TIME = 2005-12-27T15:20:01.000Z
SPACECRAFT_ORIENTATION = (0.0,-1.0,0.0)
^MEX_ORIENTATION_DESC = "MEX_ORIENTATION_DESC.TXT"
SPACECRAFT_POINTING_MODE = NADIR
^MEX_POINTING_DESC = "MEX_POINTING_DESC.TXT"
RIGHT_ASCENSION = -1e+32
DECLINATION = -1e+32
OFFSET_ANGLE = -1e+32
SPACECRAFT_SOLAR_DISTANCE = 2.28228e+08
TARGET_NAME = MARS
/* CAMERA DATA ELEMENTS */
DETECTOR_TEMPERATURE = 18.9822
FOCAL_PLANE_TEMPERATURE = 8.3794
INST_CMPRS_NAME = "DISCRETE COSINE TRANSFORMATION (DCT)"
INST_CMPRS_RATIO = 24.976
INST_CMPRS_QUALITY = 0
INST_CMPRS_QUANTZ_TBL_ID = 0
INSTRUMENT_TEMPERATURE = 11.4379
LENS_TEMPERATURE = 8.5833
MACROPIXEL_SIZE = 4
MISSING_FRAMES = 0
PIXEL_SUBSAMPLING_FLAG = N
SIGNAL_CHAIN_ID = 1
/* RADIOMETRIC DATA ELEMENTS */
BANDWIDTH = 178.0
CENTER_FILTER_WAVELENGTH = 679.0
RADIANCE_OFFSET = 0.0394595
RADIANCE_SCALING_FACTOR = 0.00448755
REFLECTANCE_SCALING_FACTOR = 0.000123787
MEX:REFLECTANCE_OFFSET = 0.00108847
/* IMAGE OBJECT DEFINITIONS */
OBJECT = IMAGE
  INTERCHANGE_FORMAT = BINARY
  LINES = 4627
  LINE_SAMPLES = 3912
  SAMPLE_TYPE = UNSIGNED_INTEGER
  SAMPLE_BITS = 8
  BANDS = 1
  BAND_STORAGE_TYPE = BAND_SEQUENTIAL
  MAXIMUM = 255
  MEAN = 98.6824
  MINIMUM = 4
  STANDARD_DEVIATION = 52.9736
END_OBJECT = IMAGE
/* MAP OBJECT DEFINITIONS */
OBJECT = IMAGE_MAP_PROJECTION
  ^DATA_SET_MAP_PROJECTION_CATALOG= "DSMAP.CAT"
  A_AXIS_RADIUS = 3396.0
  B_AXIS_RADIUS = 3396.0
  C_AXIS_RADIUS = 3396.0
  CENTER_LATITUDE = 0.0
  CENTER_LONGITUDE = 286.0
  COORDINATE_SYSTEM_NAME = PLANETOGRAPHIC
  COORDINATE_SYSTEM_TYPE = "BODY-FIXED ROTATING"
  EASTERNMOST_LONGITUDE = 306.322
  FIRST_STANDARD_PARALLEL = "N/A"
  LINE_FIRST_PIXEL = 1
  LINE_LAST_PIXEL = 4627
  LINE_PROJECTION_OFFSET = -97511.75
  MAP_PROJECTION_ROTATION = 0.0
  MAP_PROJECTION_TYPE = SINUSOIDAL
  MAP_RESOLUTION = 1185.42760773333
  MAP_SCALE = 0.05
  MAXIMUM_LATITUDE = -82.36279999999999
  MINIMUM_LATITUDE = -86.1979
  POSITIVE_LONGITUDE_DIRECTION = EAST
  REFERENCE_LATITUDE = "N/A"
  REFERENCE_LONGITUDE = "N/A"
  SAMPLE_FIRST_PIXEL = 1
  SAMPLE_LAST_PIXEL = 3912
  SAMPLE_PROJECTION_OFFSET = 1972.75
  SECOND_STANDARD_PARALLEL = "N/A"
  WESTERNMOST_LONGITUDE = 272.798
END_OBJECT = IMAGE_MAP_PROJECTION
/* The JPEG2000 image data file associated with this label. */
OBJECT = COMPRESSED_FILE
  FILE_NAME = "H2514_0000_S23.JP2"
  RECORD_TYPE = UNDEFINED
  FILE_RECORDS = UNK
  ENCODING_TYPE = "JP2"
  INTERCHANGE_FORMAT = BINARY
  UNCOMPRESSED_FILE_NAME = "H2514_0000_S23.IMG"
  REQUIRED_STORAGE_BYTES = "18124296"
  ^DESCRIPTION = "JP2INFO.TXT"
END_OBJECT = COMPRESSED_FILE
END
