PDS_VERSION_ID = PDS3
/* FILE DATA ELEMENTS */
RECORD_TYPE = STREAM
/* POINTERS TO DATA OBJECTS */
^COMPRESSED_FILE = "H2514_0001_ND3.JP2"
/* IDENTIFICATION DATA ELEMENTS */
DATA_SET_ID = "MEX-M-HRSC-5-REFDR-MAPPROJECTED-V3.0"
DATA_SET_NAME = "MARS EXPRESS HRSC MAP PROJECTED REFDR V3.0"
DETECTOR_ID = MEX_HRSC_NADIR
EVENT_TYPE = "MARS-REGIONAL-MAPPING-Im-Gl-Pf"
INSTRUMENT_HOST_ID = MEX
INSTRUMENT_HOST_NAME = "MARS EXPRESS"
INSTRUMENT_ID = HRSC
INSTRUMENT_NAME = "HIGH RESOLUTION STEREO CAMERA"
MISSION_NAME = "MARS EXPRESS"
MISSION_PHASE_NAME = ME_Phase_1
PROCESSING_LEVEL_ID = 3
PRODUCT_CREATION_TIME = 2016-04-07T06:49:26.000Z
PRODUCT_ID = "H2514_0001_ND3.JP2"
RELEASE_ID = 0031
REVISION_ID = 0000
/* QUALITY DATA ELEMENTS */
DATA_QUALITY_ID = 1
DATA_QUALITY_DESC = "Data calculated based on original SPICE kernels"
/* TIME DATA ELEMENTS */
SPACECRAFT_CLOCK_START_COUNT = "1/0083776818.57152"
SPACECRAFT_CLOCK_STOP_COUNT = "1/0083777050.57151"
START_TIME = 2005-12-27T15:20:49.818Z
STOP_TIME = 2005-12-27T15:23:45.811Z
/* ORBITAL DATA ELEMENTS */
ASCENDING_NODE_LONGITUDE = 175.5
MAXIMUM_RESOLUTION = 11
FOOTPRINT_POINT_LATITUDE = (-79.6464,-79.7756,-79.7356,-79.5202, -79.3044,-78.98,-78.7637,-78.547, -78.3296,-78.1127,-77.7866,-77.5691, -77.3514,-77.1335,-76.9155,-76.4792, -76.2557,-76.0285,-75.8013,-75.5741, -75.3468,-75.1194,-74.8919,-74.6647, -74.4373,-74.2099,-73.9823,-73.7548, -73.5273,-73.2999,-73.0656,-72.8296, -72.5935,-72.3575,-72.1215,-71.8856, -71.6497,-71.4138,-71.1781,-70.9426, -70.6989,-70.4547,-70.2106,-69.9668, -69.7229,-69.4793,-69.2357,-68.9923, -68.7411,-68.4892,-68.3319,-68.2802, -68.2469,-68.3323,-68.5826,-68.8322, -69.0741,-69.3161,-69.5583,-69.8004, -70.0427,-70.2848,-70.5272,-70.769, -71.0028,-71.2365,-71.4704,-71.7043, -71.9381,-72.1719,-72.4057,-72.6395, -72.8733,-73.1054,-73.3305,-73.5555, -73.7804,-74.0053,-74.23,-74.4547, -74.6792,-74.9036,-75.1278,-75.3519, -75.5758,-75.7996,-76.0232,-76.3503, -76.7789,-77.3133,-77.6333,-78.0584, -78.2704,-78.482,-78.6931,-78.9038, -79.1139,-79.3236,-79.5326,-79.6464)
FOOTPRINT_POINT_LONGITUDE = (49.1718,51.3518,52.7722,53.111,53.436, 53.8948,54.1917,54.4742,54.7387,55.0041 ,55.3783,55.6177,55.8474,56.0702, 56.2841,56.6922,56.8903,57.0844,57.2727 ,57.4552,57.6315,57.8018,57.9661, 58.1306,58.2875,58.4393,58.5836,58.725, 58.862,58.9965,59.1316,59.2642,59.3929, 59.5174,59.6379,59.7553,59.8694,59.9788 ,60.0872,60.1932,60.2985,60.4003, 60.5012,60.6009,60.6965,60.791,60.8816, 60.9697,61.0577,61.1437,60.5678,59.5075 ,58.8909,58.1521,58.047,57.9397,57.8331 ,57.7235,57.6122,57.4972,57.379,57.2521 ,57.1256,56.9955,56.8659,56.7326, 56.5955,56.4566,56.3111,56.1611,56.0067 ,55.8485,55.6855,55.519,55.3528,55.1826 ,55.0052,54.8231,54.6334,54.439,54.2377 ,54.0302,53.8139,53.5921,53.3631, 53.1262,52.8816,52.5037,51.9812,51.2781 ,50.8293,50.1842,49.844,49.4908,49.123, 48.7405,48.3429,47.9297,47.4996, 49.1718)
ORBIT_NUMBER = 2514
ORBITAL_ECCENTRICITY = 0.572
ORBITAL_INCLINATION = 86.63
ORBITAL_SEMIMAJOR_AXIS = 8528.36
PERIAPSIS_ALTITUDE = 276.34
PERIAPSIS_ARGUMENT_ANGLE = 276.47
PERIAPSIS_TIME = 2005-12-27T15:20:01.000Z
SPACECRAFT_ORIENTATION = (0.0,-1.0,0.0)
^MEX_ORIENTATION_DESC = "MEX_ORIENTATION_DESC.TXT"
SPACECRAFT_POINTING_MODE = NADIR
^MEX_POINTING_DESC = "MEX_POINTING_DESC.TXT"
RIGHT_ASCENSION = -1e+32
DECLINATION = -1e+32
OFFSET_ANGLE = -1e+32
SPACECRAFT_SOLAR_DISTANCE = 2.28228e+08
TARGET_NAME = MARS
/* CAMERA DATA ELEMENTS */
DETECTOR_TEMPERATURE = 18.9822
FOCAL_PLANE_TEMPERATURE = 8.5833
INST_CMPRS_NAME = "DISCRETE COSINE TRANSFORMATION (DCT)"
INST_CMPRS_RATIO = 6.91651
INST_CMPRS_QUALITY = 0
INST_CMPRS_QUANTZ_TBL_ID = 0
INSTRUMENT_TEMPERATURE = 11.234
LENS_TEMPERATURE = 9.195
MACROPIXEL_SIZE = 1
MISSING_FRAMES = 0
PIXEL_SUBSAMPLING_FLAG = N
SIGNAL_CHAIN_ID = 0
/* RADIOMETRIC DATA ELEMENTS */
BANDWIDTH = 177.0
CENTER_FILTER_WAVELENGTH = 677.5
RADIANCE_OFFSET = 1.27746
RADIANCE_SCALING_FACTOR = 0.00918435
REFLECTANCE_SCALING_FACTOR = 0.000254138
MEX:REFLECTANCE_OFFSET = 0.0353483
/* IMAGE OBJECT DEFINITIONS */
OBJECT = IMAGE
  INTERCHANGE_FORMAT = BINARY
  LINES = 55116
  LINE_SAMPLES = 15425
  SAMPLE_TYPE = UNSIGNED_INTEGER
  SAMPLE_BITS = 8
  BANDS = 1
  BAND_STORAGE_TYPE = BAND_SEQUENTIAL
  MAXIMUM = 255
  MEAN = 115.604
  MINIMUM = 1
  STANDARD_DEVIATION = 51.9706
END_OBJECT = IMAGE
/* MAP OBJECT DEFINITIONS */
OBJECT = IMAGE_MAP_PROJECTION
  ^DATA_SET_MAP_PROJECTION_CATALOG= "DSMAP.CAT"
  A_AXIS_RADIUS = 3396.0
  B_AXIS_RADIUS = 3396.0
  C_AXIS_RADIUS = 3396.0
  CENTER_LATITUDE = 0.0
  CENTER_LONGITUDE = 57.0
  COORDINATE_SYSTEM_NAME = PLANETOGRAPHIC
  COORDINATE_SYSTEM_TYPE = "BODY-FIXED ROTATING"
  EASTERNMOST_LONGITUDE = 61.1437
  FIRST_STANDARD_PARALLEL = "N/A"
  LINE_FIRST_PIXEL = 1
  LINE_LAST_PIXEL = 55116
  LINE_PROJECTION_OFFSET = -323432.0
  MAP_PROJECTION_ROTATION = 0.0
  MAP_PROJECTION_TYPE = SINUSOIDAL
  MAP_RESOLUTION = 4741.71043093333
  MAP_SCALE = 0.0125
  MAXIMUM_LATITUDE = -68.2469
  MINIMUM_LATITUDE = -79.7756
  POSITIVE_LONGITUDE_DIRECTION = EAST
  REFERENCE_LATITUDE = "N/A"
  REFERENCE_LONGITUDE = "N/A"
  SAMPLE_FIRST_PIXEL = 1
  SAMPLE_LAST_PIXEL = 15425
  SAMPLE_PROJECTION_OFFSET = 8189.0
  SECOND_STANDARD_PARALLEL = "N/A"
  WESTERNMOST_LONGITUDE = 47.4996
END_OBJECT = IMAGE_MAP_PROJECTION
/* The JPEG2000 image data file associated with this label. */
OBJECT = COMPRESSED_FILE
  FILE_NAME = "H2514_0001_ND3.JP2"
  RECORD_TYPE = UNDEFINED
  FILE_RECORDS = UNK
  ENCODING_TYPE = "JP2"
  INTERCHANGE_FORMAT = BINARY
  UNCOMPRESSED_FILE_NAME = "H2514_0001_ND3.IMG"
  REQUIRED_STORAGE_BYTES = "850210575"
  ^DESCRIPTION = "JP2INFO.TXT"
END_OBJECT = COMPRESSED_FILE
END
