PDS_VERSION_ID = PDS3
/* FILE DATA ELEMENTS */
RECORD_TYPE = STREAM
/* POINTERS TO DATA OBJECTS */
^COMPRESSED_FILE = "H2514_0001_S23.JP2"
/* IDENTIFICATION DATA ELEMENTS */
DATA_SET_ID = "MEX-M-HRSC-5-REFDR-MAPPROJECTED-V3.0"
DATA_SET_NAME = "MARS EXPRESS HRSC MAP PROJECTED REFDR V3.0"
DETECTOR_ID = MEX_HRSC_S2
EVENT_TYPE = "MARS-REGIONAL-MAPPING-Im-Gl-Pf"
INSTRUMENT_HOST_ID = MEX
INSTRUMENT_HOST_NAME = "MARS EXPRESS"
INSTRUMENT_ID = HRSC
INSTRUMENT_NAME = "HIGH RESOLUTION STEREO CAMERA"
MISSION_NAME = "MARS EXPRESS"
MISSION_PHASE_NAME = ME_Phase_1
PROCESSING_LEVEL_ID = 3
PRODUCT_CREATION_TIME = 2016-04-07T06:49:26.000Z
PRODUCT_ID = "H2514_0001_S23.JP2"
RELEASE_ID = 0031
REVISION_ID = 0000
/* QUALITY DATA ELEMENTS */
DATA_QUALITY_ID = 1
DATA_QUALITY_DESC = "Data calculated based on original SPICE kernels"
/* TIME DATA ELEMENTS */
SPACECRAFT_CLOCK_START_COUNT = "1/0083776818.57152"
SPACECRAFT_CLOCK_STOP_COUNT = "1/0083777050.57151"
START_TIME = 2005-12-27T15:21:14.310Z
STOP_TIME = 2005-12-27T15:24:15.707Z
/* ORBITAL DATA ELEMENTS */
ASCENDING_NODE_LONGITUDE = 175.5
MAXIMUM_RESOLUTION = 23.6
FOOTPRINT_POINT_LATITUDE = (-79.4394,-79.5091,-79.5556,-79.6333, -79.6934,-79.6194,-79.2977,-79.0818, -78.8703,-78.5489,-78.3308,-78.1186, -77.9003,-77.6776,-77.3439,-77.0099, -76.7869,-76.5645,-76.3414,-76.119, -75.7842,-75.5622,-75.3398,-75.1172, -74.8922,-74.5511,-74.3227,-73.9764, -73.7448,-73.5149,-73.1718,-72.9431, -72.7159,-72.4809,-72.2443,-72.0077, -71.7716,-71.5352,-71.2977,-71.0626, -70.8281,-70.5848,-70.2191,-69.8574, -69.6158,-69.3753,-69.1315,-68.8815, -68.7562,-68.6312,-68.3819,-68.3337, -68.3105,-68.2801,-68.2554,-68.2179, -68.1974,-68.5687,-68.8162,-69.0627, -69.3022,-69.661,-69.8999,-70.1391, -70.3855,-70.627,-70.8604,-71.0944, -71.3285,-71.678,-71.9127,-72.1481, -72.5007,-72.7269,-73.0664,-73.2926, -73.6314,-73.8578,-74.1995,-74.4269, -74.7667,-74.9859,-75.2069,-75.4261, -75.7549,-75.9739,-76.3046,-76.5248, -76.8531,-77.072,-77.2897,-77.6132, -77.8291,-78.1424,-78.3512,-78.56, -78.8727,-79.0809,-79.2882,-79.4394)
FOOTPRINT_POINT_LONGITUDE = (47.8369,48.8913,49.6328,50.9444,52.036 ,53.0253,53.5124,53.8205,54.1172, 54.5399,54.8074,55.0664,55.3197,55.5689 ,55.9257,56.2632,56.4783,56.686,56.8864 ,57.0803,57.3586,57.537,57.7095,57.8765 ,58.039,58.2834,58.4396,58.6631,58.806, 58.9454,59.1474,59.2772,59.4039,59.5306 ,59.6539,59.7737,59.8902,60.0032, 60.1125,60.2198,60.3244,60.4285,60.5802 ,60.7275,60.8222,60.9148,61.0049, 61.0949,61.1388,61.1822,61.2677,60.8526 ,60.3356,59.6991,59.2148,58.5206, 58.1479,57.9944,57.8889,57.781,57.6735, 57.5078,57.3942,57.2772,57.1464,57.0192 ,56.893,56.7623,56.6281,56.4225,56.2776 ,56.1275,55.8948,55.7407,55.5008, 55.3351,55.0783,54.8993,54.616,54.4204, 54.1159,53.9113,53.6956,53.4771,53.1353 ,52.898,52.5205,52.2581,51.8515,51.5674 ,51.276,50.8265,50.5051,50.0203,49.6809 ,49.3276,48.7706,48.3797,47.9748, 47.8369)
ORBIT_NUMBER = 2514
ORBITAL_ECCENTRICITY = 0.572
ORBITAL_INCLINATION = 86.63
ORBITAL_SEMIMAJOR_AXIS = 8528.36
PERIAPSIS_ALTITUDE = 276.34
PERIAPSIS_ARGUMENT_ANGLE = 276.47
PERIAPSIS_TIME = 2005-12-27T15:20:01.000Z
SPACECRAFT_ORIENTATION = (0.0,-1.0,0.0)
^MEX_ORIENTATION_DESC = "MEX_ORIENTATION_DESC.TXT"
SPACECRAFT_POINTING_MODE = NADIR
^MEX_POINTING_DESC = "MEX_POINTING_DESC.TXT"
RIGHT_ASCENSION = -1e+32
DECLINATION = -1e+32
OFFSET_ANGLE = -1e+32
SPACECRAFT_SOLAR_DISTANCE = 2.28228e+08
TARGET_NAME = MARS
/* CAMERA DATA ELEMENTS */
DETECTOR_TEMPERATURE = 20.2056
FOCAL_PLANE_TEMPERATURE = 8.5833
INST_CMPRS_NAME = "DISCRETE COSINE TRANSFORMATION (DCT)"
INST_CMPRS_RATIO = 14.6135
INST_CMPRS_QUALITY = 0
INST_CMPRS_QUANTZ_TBL_ID = 0
INSTRUMENT_TEMPERATURE = 11.234
LENS_TEMPERATURE = 9.195
MACROPIXEL_SIZE = 2
MISSING_FRAMES = 0
PIXEL_SUBSAMPLING_FLAG = N
SIGNAL_CHAIN_ID = 1
/* RADIOMETRIC DATA ELEMENTS */
BANDWIDTH = 178.0
CENTER_FILTER_WAVELENGTH = 679.0
RADIANCE_OFFSET = 1.58836
RADIANCE_SCALING_FACTOR = 0.0101046
REFLECTANCE_SCALING_FACTOR = 0.000278731
MEX:REFLECTANCE_OFFSET = 0.0438142
/* IMAGE OBJECT DEFINITIONS */
OBJECT = IMAGE
  INTERCHANGE_FORMAT = BINARY
  LINES = 27558
  LINE_SAMPLES = 7713
  SAMPLE_TYPE = UNSIGNED_INTEGER
  SAMPLE_BITS = 8
  BANDS = 1
  BAND_STORAGE_TYPE = BAND_SEQUENTIAL
  MAXIMUM = 255
  MEAN = 118.964
  MINIMUM = 1
  STANDARD_DEVIATION = 55.8177
END_OBJECT = IMAGE
/* MAP OBJECT DEFINITIONS */
OBJECT = IMAGE_MAP_PROJECTION
  ^DATA_SET_MAP_PROJECTION_CATALOG= "DSMAP.CAT"
  A_AXIS_RADIUS = 3396.0
  B_AXIS_RADIUS = 3396.0
  C_AXIS_RADIUS = 3396.0
  CENTER_LATITUDE = 0.0
  CENTER_LONGITUDE = 57.0
  COORDINATE_SYSTEM_NAME = PLANETOGRAPHIC
  COORDINATE_SYSTEM_TYPE = "BODY-FIXED ROTATING"
  EASTERNMOST_LONGITUDE = 61.2677
  FIRST_STANDARD_PARALLEL = "N/A"
  LINE_FIRST_PIXEL = 1
  LINE_LAST_PIXEL = 27558
  LINE_PROJECTION_OFFSET = -161716.25
  MAP_PROJECTION_ROTATION = 0.0
  MAP_PROJECTION_TYPE = SINUSOIDAL
  MAP_RESOLUTION = 2370.85521546667
  MAP_SCALE = 0.025
  MAXIMUM_LATITUDE = -68.1974
  MINIMUM_LATITUDE = -79.6934
  POSITIVE_LONGITUDE_DIRECTION = EAST
  REFERENCE_LATITUDE = "N/A"
  REFERENCE_LONGITUDE = "N/A"
  SAMPLE_FIRST_PIXEL = 1
  SAMPLE_LAST_PIXEL = 7713
  SAMPLE_PROJECTION_OFFSET = 4094.25
  SECOND_STANDARD_PARALLEL = "N/A"
  WESTERNMOST_LONGITUDE = 47.8369
END_OBJECT = IMAGE_MAP_PROJECTION
/* The JPEG2000 image data file associated with this label. */
OBJECT = COMPRESSED_FILE
  FILE_NAME = "H2514_0001_S23.JP2"
  RECORD_TYPE = UNDEFINED
  FILE_RECORDS = UNK
  ENCODING_TYPE = "JP2"
  INTERCHANGE_FORMAT = BINARY
  UNCOMPRESSED_FILE_NAME = "H2514_0001_S23.IMG"
  REQUIRED_STORAGE_BYTES = "212585706"
  ^DESCRIPTION = "JP2INFO.TXT"
END_OBJECT = COMPRESSED_FILE
END
