PDS_VERSION_ID = PDS3
/* FILE DATA ELEMENTS */
RECORD_TYPE = STREAM
/* POINTERS TO DATA OBJECTS */
^COMPRESSED_FILE = "H2515_0000_GR3.JP2"
/* IDENTIFICATION DATA ELEMENTS */
DATA_SET_ID = "MEX-M-HRSC-5-REFDR-MAPPROJECTED-V3.0"
DATA_SET_NAME = "MARS EXPRESS HRSC MAP PROJECTED REFDR V3.0"
DETECTOR_ID = MEX_HRSC_GREEN
EVENT_TYPE = "MARS-REGIONAL-MAPPING-Im-Fl-Pf"
INSTRUMENT_HOST_ID = MEX
INSTRUMENT_HOST_NAME = "MARS EXPRESS"
INSTRUMENT_ID = HRSC
INSTRUMENT_NAME = "HIGH RESOLUTION STEREO CAMERA"
MISSION_NAME = "MARS EXPRESS"
MISSION_PHASE_NAME = ME_Phase_1
PROCESSING_LEVEL_ID = 3
PRODUCT_CREATION_TIME = 2016-04-07T06:49:26.000Z
PRODUCT_ID = "H2515_0000_GR3.JP2"
RELEASE_ID = 0031
REVISION_ID = 0000
/* QUALITY DATA ELEMENTS */
DATA_QUALITY_ID = 1
DATA_QUALITY_DESC = "Data calculated based on original SPICE kernels"
/* TIME DATA ELEMENTS */
SPACECRAFT_CLOCK_START_COUNT = "1/0083801109.57260"
SPACECRAFT_CLOCK_STOP_COUNT = "1/0083801511.45874"
START_TIME = 2005-12-27T22:05:37.922Z
STOP_TIME = 2005-12-27T22:10:57.583Z
/* ORBITAL DATA ELEMENTS */
ASCENDING_NODE_LONGITUDE = 175.48
MAXIMUM_RESOLUTION = 47.1
FOOTPRINT_POINT_LATITUDE = (-72.8095,-72.8801,-72.7278,-72.3855, -72.0433,-71.7012,-71.3591,-71.0171, -70.6629,-70.1315,-69.7775,-69.4236, -69.07,-68.7043,-68.1558,-67.7904, -67.4253,-67.0511,-66.6741,-66.2975, -65.9213,-65.537,-65.1491,-64.7617, -64.3748,-63.9884,-63.6025,-63.2171, -62.8321,-62.4478,-62.0639,-61.4092, -60.9531,-60.4979,-59.8151,-59.3621, -58.9103,-58.4605,-58.011,-57.3266, -56.8676,-56.3999,-55.6899,-55.2131, -54.7212,-53.9817,-53.4828,-52.9753, -52.4625,-52.4261,-52.4061,-52.3713, -52.8641,-53.3707,-53.8684,-54.6049, -55.3324,-55.8087,-56.2762,-56.9752, -57.4329,-57.8863,-58.334,-58.7871, -59.2364,-59.6874,-60.1394,-60.5924, -61.0464,-61.5016,-61.9293,-62.3119, -62.6948,-63.0782,-63.462,-63.8464, -64.2311,-64.616,-65.0019,-65.3884, -65.7712,-66.1455,-66.5201,-66.8952, -67.2677,-67.6307,-67.9939,-68.3573, -68.7209,-69.2542,-69.6058,-69.9574, -70.3092,-70.6608,-71.1755,-71.5145, -71.8538,-72.193,-72.5318,-72.8095)
FOOTPRINT_POINT_LONGITUDE = (318.932,320.259,321.072,321.252, 321.426,321.592,321.753,321.907,322.061 ,322.281,322.42,322.555,322.684,322.815 ,323.0,323.118,323.232,323.345,323.455, 323.561,323.663,323.764,323.862,323.957 ,324.049,324.137,324.223,324.305, 324.386,324.464,324.539,324.66,324.742, 324.821,324.942,325.014,325.083,325.144 ,325.207,325.305,325.364,325.42,325.511 ,325.557,325.634,325.719,325.772, 325.823,325.875,325.102,324.504,323.629 ,323.151,323.105,323.058,322.981,322.91 ,322.847,322.788,322.705,322.638, 322.577,322.507,322.446,322.369,322.291 ,322.209,322.124,322.035,321.944, 321.854,321.771,321.684,321.593,321.498 ,321.4,321.297,321.19,321.08,320.967, 320.848,320.727,320.602,320.471,320.336 ,320.2,320.058,319.91,319.755,319.519, 319.355,319.184,319.006,318.82,318.532, 318.332,318.126,317.91,317.684,318.932)
ORBIT_NUMBER = 2515
ORBITAL_ECCENTRICITY = 0.572
ORBITAL_INCLINATION = 86.63
ORBITAL_SEMIMAJOR_AXIS = 8527.31
PERIAPSIS_ALTITUDE = 276.95
PERIAPSIS_ARGUMENT_ANGLE = 276.3
PERIAPSIS_TIME = 2005-12-27T22:03:04.000Z
SPACECRAFT_ORIENTATION = (0.0,-1.0,0.0)
^MEX_ORIENTATION_DESC = "MEX_ORIENTATION_DESC.TXT"
SPACECRAFT_POINTING_MODE = NADIR
^MEX_POINTING_DESC = "MEX_POINTING_DESC.TXT"
RIGHT_ASCENSION = -1e+32
DECLINATION = -1e+32
OFFSET_ANGLE = -1e+32
SPACECRAFT_SOLAR_DISTANCE = 2.28282e+08
TARGET_NAME = MARS
/* CAMERA DATA ELEMENTS */
DETECTOR_TEMPERATURE = 17.9627
FOCAL_PLANE_TEMPERATURE = 8.3794
INST_CMPRS_NAME = "DISCRETE COSINE TRANSFORMATION (DCT)"
INST_CMPRS_RATIO = 15.0377
INST_CMPRS_QUALITY = 0
INST_CMPRS_QUANTZ_TBL_ID = 0
INSTRUMENT_TEMPERATURE = 11.0301
LENS_TEMPERATURE = 8.7872
MACROPIXEL_SIZE = 4
MISSING_FRAMES = 0
PIXEL_SUBSAMPLING_FLAG = N
SIGNAL_CHAIN_ID = 2
/* RADIOMETRIC DATA ELEMENTS */
BANDWIDTH = 88.0
CENTER_FILTER_WAVELENGTH = 538.0
RADIANCE_OFFSET = 0.809742
RADIANCE_SCALING_FACTOR = 0.00486368
REFLECTANCE_SCALING_FACTOR = 0.000218222
MEX:REFLECTANCE_OFFSET = 0.0363312
/* IMAGE OBJECT DEFINITIONS */
OBJECT = IMAGE
  INTERCHANGE_FORMAT = BINARY
  LINES = 24352
  LINE_SAMPLES = 4014
  SAMPLE_TYPE = UNSIGNED_INTEGER
  SAMPLE_BITS = 8
  BANDS = 1
  BAND_STORAGE_TYPE = BAND_SEQUENTIAL
  MAXIMUM = 255
  MEAN = 113.657
  MINIMUM = 1
  STANDARD_DEVIATION = 44.9797
END_OBJECT = IMAGE
/* MAP OBJECT DEFINITIONS */
OBJECT = IMAGE_MAP_PROJECTION
  ^DATA_SET_MAP_PROJECTION_CATALOG= "DSMAP.CAT"
  A_AXIS_RADIUS = 3396.0
  B_AXIS_RADIUS = 3396.0
  C_AXIS_RADIUS = 3396.0
  CENTER_LATITUDE = 0.0
  CENTER_LONGITUDE = 323.0
  COORDINATE_SYSTEM_NAME = PLANETOGRAPHIC
  COORDINATE_SYSTEM_TYPE = "BODY-FIXED ROTATING"
  EASTERNMOST_LONGITUDE = 325.875
  FIRST_STANDARD_PARALLEL = "N/A"
  LINE_FIRST_PIXEL = 1
  LINE_LAST_PIXEL = 24352
  LINE_PROJECTION_OFFSET = -62070.125
  MAP_PROJECTION_ROTATION = 0.0
  MAP_PROJECTION_TYPE = SINUSOIDAL
  MAP_RESOLUTION = 1185.42760773333
  MAP_SCALE = 0.05
  MAXIMUM_LATITUDE = -52.3713
  MINIMUM_LATITUDE = -72.8801
  POSITIVE_LONGITUDE_DIRECTION = EAST
  REFERENCE_LATITUDE = "N/A"
  REFERENCE_LONGITUDE = "N/A"
  SAMPLE_FIRST_PIXEL = 1
  SAMPLE_LAST_PIXEL = 4014
  SAMPLE_PROJECTION_OFFSET = 1900.125
  SECOND_STANDARD_PARALLEL = "N/A"
  WESTERNMOST_LONGITUDE = 317.684
END_OBJECT = IMAGE_MAP_PROJECTION
/* The JPEG2000 image data file associated with this label. */
OBJECT = COMPRESSED_FILE
  FILE_NAME = "H2515_0000_GR3.JP2"
  RECORD_TYPE = UNDEFINED
  FILE_RECORDS = UNK
  ENCODING_TYPE = "JP2"
  INTERCHANGE_FORMAT = BINARY
  UNCOMPRESSED_FILE_NAME = "H2515_0000_GR3.IMG"
  REQUIRED_STORAGE_BYTES = "97773012"
  ^DESCRIPTION = "JP2INFO.TXT"
END_OBJECT = COMPRESSED_FILE
END
