PDS_VERSION_ID = PDS3
/* FILE DATA ELEMENTS */
RECORD_TYPE = STREAM
/* POINTERS TO DATA OBJECTS */
^COMPRESSED_FILE = "H2521_0000_ND3.JP2"
/* IDENTIFICATION DATA ELEMENTS */
DATA_SET_ID = "MEX-M-HRSC-5-REFDR-MAPPROJECTED-V3.0"
DATA_SET_NAME = "MARS EXPRESS HRSC MAP PROJECTED REFDR V3.0"
DETECTOR_ID = MEX_HRSC_NADIR
EVENT_TYPE = "MARS-REGIONAL-MAPPING-Im-Gl-La"
INSTRUMENT_HOST_ID = MEX
INSTRUMENT_HOST_NAME = "MARS EXPRESS"
INSTRUMENT_ID = HRSC
INSTRUMENT_NAME = "HIGH RESOLUTION STEREO CAMERA"
MISSION_NAME = "MARS EXPRESS"
MISSION_PHASE_NAME = ME_Phase_1
PROCESSING_LEVEL_ID = 3
PRODUCT_CREATION_TIME = 2016-04-07T06:49:26.000Z
PRODUCT_ID = "H2521_0000_ND3.JP2"
RELEASE_ID = 0031
REVISION_ID = 0000
/* QUALITY DATA ELEMENTS */
DATA_QUALITY_ID = 1
DATA_QUALITY_DESC = "Data calculated based on original SPICE kernels"
/* TIME DATA ELEMENTS */
SPACECRAFT_CLOCK_START_COUNT = "1/0083946115.56204"
SPACECRAFT_CLOCK_STOP_COUNT = "1/0083946367.23137"
START_TIME = 2005-12-29T14:22:26.791Z
STOP_TIME = 2005-12-29T14:25:40.774Z
/* ORBITAL DATA ELEMENTS */
ASCENDING_NODE_LONGITUDE = 175.36
MAXIMUM_RESOLUTION = 11
FOOTPRINT_POINT_LATITUDE = (-80.2322,-80.37,-80.3268,-80.0952, -79.8632,-79.6307,-79.3977,-79.1646, -78.9311,-78.6972,-78.4632,-78.2289, -77.9944,-77.7597,-77.3966,-77.1519, -76.9072,-76.6623,-76.4174,-76.1724, -75.9273,-75.6822,-75.314,-75.0688, -74.8236,-74.5783,-74.3244,-74.0697, -73.8149,-73.5602,-73.3055,-73.0509, -72.7964,-72.5418,-72.2873,-71.8942, -71.6306,-71.367,-71.1035,-70.8403, -70.5769,-70.3137,-69.9067,-69.6347, -69.2266,-68.955,-68.6837,-68.2661, -67.9859,-67.7847,-67.7493,-67.719, -67.8185,-68.097,-68.5123,-68.782, -69.0519,-69.3216,-69.5916,-69.8621, -70.1321,-70.3931,-70.6542,-70.9154, -71.1765,-71.4378,-71.6991,-72.0892, -72.3412,-72.5935,-72.8455,-73.0975, -73.3495,-73.6014,-73.8533,-74.1051, -74.3564,-74.5987,-74.8409,-75.083, -75.4459,-75.6876,-76.049,-76.2899, -76.5305,-76.7711,-77.0115,-77.2517, -77.4884,-77.7181,-77.9477,-78.2911, -78.5195,-78.7475,-78.9749,-79.2017, -79.4279,-79.6533,-79.8781,-80.2322)
FOOTPRINT_POINT_LONGITUDE = (80.2057,82.507,84.0403,84.4536,84.8476 ,85.2233,85.581,85.9252,86.2536,86.5677 ,86.8695,87.159,87.4372,87.7039,88.0946 ,88.3439,88.5844,88.8161,89.0409,89.257 ,89.4643,89.6662,89.9478,90.1328, 90.3125,90.4845,90.6564,90.8228,90.9841 ,91.1398,91.2896,91.436,91.578,91.7146, 91.8466,92.0444,92.1724,92.2957,92.4142 ,92.531,92.6409,92.7475,92.9192,93.0242 ,93.1714,93.2692,93.3645,93.5075, 93.5999,92.6094,91.8971,91.3346,90.5897 ,90.4785,90.3012,90.1863,90.0726, 89.9431,89.8166,89.6943,89.5608,89.4262 ,89.2867,89.1435,88.9935,88.8416, 88.6819,88.4365,88.2721,88.1067,87.9314 ,87.751,87.5637,87.3696,87.1694,86.9626 ,86.7484,86.5348,86.3144,86.0871,85.732 ,85.4838,85.0791,84.8009,84.5122,84.218 ,83.9139,83.601,83.275,82.9358,82.5896, 82.0411,81.6573,81.2577,80.8407,80.4053 ,79.9507,79.4743,78.9778,80.2057)
ORBIT_NUMBER = 2521
ORBITAL_ECCENTRICITY = 0.572
ORBITAL_INCLINATION = 86.63
ORBITAL_SEMIMAJOR_AXIS = 8528.12
PERIAPSIS_ALTITUDE = 276.31
PERIAPSIS_ARGUMENT_ANGLE = 275.23
PERIAPSIS_TIME = 2005-12-29T14:21:29.000Z
SPACECRAFT_ORIENTATION = (0.0,-1.0,0.0)
^MEX_ORIENTATION_DESC = "MEX_ORIENTATION_DESC.TXT"
SPACECRAFT_POINTING_MODE = NADIR
^MEX_POINTING_DESC = "MEX_POINTING_DESC.TXT"
RIGHT_ASCENSION = -1e+32
DECLINATION = -1e+32
OFFSET_ANGLE = -1e+32
SPACECRAFT_SOLAR_DISTANCE = 2.28608e+08
TARGET_NAME = MARS
/* CAMERA DATA ELEMENTS */
DETECTOR_TEMPERATURE = 18.1666
FOCAL_PLANE_TEMPERATURE = 8.1755
INST_CMPRS_NAME = "DISCRETE COSINE TRANSFORMATION (DCT)"
INST_CMPRS_RATIO = 9.27887
INST_CMPRS_QUALITY = 0
INST_CMPRS_QUANTZ_TBL_ID = 0
INSTRUMENT_TEMPERATURE = 9.6028
LENS_TEMPERATURE = 8.7872
MACROPIXEL_SIZE = 1
MISSING_FRAMES = 0
PIXEL_SUBSAMPLING_FLAG = N
SIGNAL_CHAIN_ID = 0
/* RADIOMETRIC DATA ELEMENTS */
BANDWIDTH = 177.0
CENTER_FILTER_WAVELENGTH = 677.5
RADIANCE_OFFSET = 1.04922
RADIANCE_SCALING_FACTOR = 0.0105804
REFLECTANCE_SCALING_FACTOR = 0.000293745
MEX:REFLECTANCE_OFFSET = 0.0291297
/* IMAGE OBJECT DEFINITIONS */
OBJECT = IMAGE
  INTERCHANGE_FORMAT = BINARY
  LINES = 60460
  LINE_SAMPLES = 16727
  SAMPLE_TYPE = UNSIGNED_INTEGER
  SAMPLE_BITS = 8
  BANDS = 1
  BAND_STORAGE_TYPE = BAND_SEQUENTIAL
  MAXIMUM = 255
  MEAN = 102.015
  MINIMUM = 1
  STANDARD_DEVIATION = 37.9237
END_OBJECT = IMAGE
/* MAP OBJECT DEFINITIONS */
OBJECT = IMAGE_MAP_PROJECTION
  ^DATA_SET_MAP_PROJECTION_CATALOG= "DSMAP.CAT"
  A_AXIS_RADIUS = 3396.0
  B_AXIS_RADIUS = 3396.0
  C_AXIS_RADIUS = 3396.0
  CENTER_LATITUDE = 0.0
  CENTER_LONGITUDE = 89.0
  COORDINATE_SYSTEM_NAME = PLANETOGRAPHIC
  COORDINATE_SYSTEM_TYPE = "BODY-FIXED ROTATING"
  EASTERNMOST_LONGITUDE = 93.59990000000001
  FIRST_STANDARD_PARALLEL = "N/A"
  LINE_FIRST_PIXEL = 1
  LINE_LAST_PIXEL = 60460
  LINE_PROJECTION_OFFSET = -320926.0
  MAP_PROJECTION_ROTATION = 0.0
  MAP_PROJECTION_TYPE = SINUSOIDAL
  MAP_RESOLUTION = 4741.71043093333
  MAP_SCALE = 0.0125
  MAXIMUM_LATITUDE = -67.71899999999999
  MINIMUM_LATITUDE = -80.37
  POSITIVE_LONGITUDE_DIRECTION = EAST
  REFERENCE_LATITUDE = "N/A"
  REFERENCE_LONGITUDE = "N/A"
  SAMPLE_FIRST_PIXEL = 1
  SAMPLE_LAST_PIXEL = 16727
  SAMPLE_PROJECTION_OFFSET = 8506.0
  SECOND_STANDARD_PARALLEL = "N/A"
  WESTERNMOST_LONGITUDE = 78.9778
END_OBJECT = IMAGE_MAP_PROJECTION
/* The JPEG2000 image data file associated with this label. */
OBJECT = COMPRESSED_FILE
  FILE_NAME = "H2521_0000_ND3.JP2"
  RECORD_TYPE = UNDEFINED
  FILE_RECORDS = UNK
  ENCODING_TYPE = "JP2"
  INTERCHANGE_FORMAT = BINARY
  UNCOMPRESSED_FILE_NAME = "H2521_0000_ND3.IMG"
  REQUIRED_STORAGE_BYTES = "1011364601"
  ^DESCRIPTION = "JP2INFO.TXT"
END_OBJECT = COMPRESSED_FILE
END
