PDS_VERSION_ID = PDS3
/* FILE DATA ELEMENTS */
RECORD_TYPE = STREAM
/* POINTERS TO DATA OBJECTS */
^COMPRESSED_FILE = "H2521_0000_RE3.JP2"
/* IDENTIFICATION DATA ELEMENTS */
DATA_SET_ID = "MEX-M-HRSC-5-REFDR-MAPPROJECTED-V3.0"
DATA_SET_NAME = "MARS EXPRESS HRSC MAP PROJECTED REFDR V3.0"
DETECTOR_ID = MEX_HRSC_RED
EVENT_TYPE = "MARS-REGIONAL-MAPPING-Im-Gl-La"
INSTRUMENT_HOST_ID = MEX
INSTRUMENT_HOST_NAME = "MARS EXPRESS"
INSTRUMENT_ID = HRSC
INSTRUMENT_NAME = "HIGH RESOLUTION STEREO CAMERA"
MISSION_NAME = "MARS EXPRESS"
MISSION_PHASE_NAME = ME_Phase_1
PROCESSING_LEVEL_ID = 3
PRODUCT_CREATION_TIME = 2016-04-07T06:49:26.000Z
PRODUCT_ID = "H2521_0000_RE3.JP2"
RELEASE_ID = 0031
REVISION_ID = 0000
/* QUALITY DATA ELEMENTS */
DATA_QUALITY_ID = 1
DATA_QUALITY_DESC = "Data calculated based on original SPICE kernels"
/* TIME DATA ELEMENTS */
SPACECRAFT_CLOCK_START_COUNT = "1/0083946115.56204"
SPACECRAFT_CLOCK_STOP_COUNT = "1/0083946367.23137"
START_TIME = 2005-12-29T14:22:47.226Z
STOP_TIME = 2005-12-29T14:26:06.565Z
/* ORBITAL DATA ELEMENTS */
ASCENDING_NODE_LONGITUDE = 175.36
MAXIMUM_RESOLUTION = 46.6
FOOTPRINT_POINT_LATITUDE = (-80.1151,-80.1742,-80.2225,-80.3006, -80.4276,-80.198,-79.9681,-79.7381, -79.507,-79.276,-79.0454,-78.8065, -78.5658,-78.3252,-77.9644,-77.6025, -77.3607,-76.9978,-76.7562,-76.5162, -76.2755,-76.035,-75.7887,-75.5344, -75.2848,-75.0363,-74.7885,-74.5394, -74.2903,-74.0414,-73.7928,-73.4104, -73.1524,-72.7668,-72.5093,-72.1244, -71.8683,-71.6051,-71.3403,-71.0744, -70.8099,-70.5423,-70.152,-69.8798, -69.4649,-69.0579,-68.7867,-68.5107, -68.232,-67.9541,-67.7984,-67.7794, -67.7498,-67.7084,-67.6786,-67.7953, -67.9365,-68.2109,-68.4928,-68.7654, -69.0286,-69.3056,-69.5764,-69.8393, -70.2354,-70.4982,-70.8926,-71.2895, -71.5522,-71.9387,-72.3205,-72.5716, -72.8269,-73.0815,-73.3365,-73.5881, -73.8342,-74.2036,-74.5726,-74.8186, -75.0636,-75.4314,-75.6767,-75.9155, -76.1602,-76.399,-76.754,-76.9886, -77.337,-77.6943,-77.9307,-78.2845, -78.5199,-78.7528,-79.0904,-79.3146, -79.5387,-79.8734,-80.0957,-80.1151)
FOOTPRINT_POINT_LONGITUDE = (80.0434,80.9821,81.788,83.18,83.8992, 84.3183,84.7177,85.0987,85.4622,85.8098 ,86.1424,86.4708,86.7872,87.0902, 87.5213,87.9258,88.1818,88.547,88.7792, 89.0035,89.2191,89.4271,89.6328,89.8304 ,90.0238,90.211,90.3921,90.5662,90.7343 ,90.8968,91.0541,91.2859,91.4356, 91.6518,91.7898,91.9893,92.1173,92.2442 ,92.3688,92.4886,92.6056,92.7169, 92.8845,92.9937,93.1467,93.2976,93.3943 ,93.4909,93.5857,93.6781,93.4335, 92.9943,92.2934,91.5373,90.9552,90.5466 ,90.4886,90.3821,90.2613,90.1433,90.035 ,89.902,89.775,89.6574,89.4616,89.3246, 89.1112,88.8836,88.7296,88.4892,88.2437 ,88.0805,87.9035,87.7221,87.5339, 87.3407,87.1461,86.8413,86.5212,86.2985 ,86.0699,85.7107,85.4592,85.2036, 84.9179,84.6385,84.2077,83.9127,83.4584 ,82.9435,82.5875,82.0256,81.6304, 81.2227,80.5972,80.158,79.6974,78.9673, 78.4525,80.0434)
ORBIT_NUMBER = 2521
ORBITAL_ECCENTRICITY = 0.572
ORBITAL_INCLINATION = 86.63
ORBITAL_SEMIMAJOR_AXIS = 8528.12
PERIAPSIS_ALTITUDE = 276.31
PERIAPSIS_ARGUMENT_ANGLE = 275.23
PERIAPSIS_TIME = 2005-12-29T14:21:29.000Z
SPACECRAFT_ORIENTATION = (0.0,-1.0,0.0)
^MEX_ORIENTATION_DESC = "MEX_ORIENTATION_DESC.TXT"
SPACECRAFT_POINTING_MODE = NADIR
^MEX_POINTING_DESC = "MEX_POINTING_DESC.TXT"
RIGHT_ASCENSION = -1e+32
DECLINATION = -1e+32
OFFSET_ANGLE = -1e+32
SPACECRAFT_SOLAR_DISTANCE = 2.28608e+08
TARGET_NAME = MARS
/* CAMERA DATA ELEMENTS */
DETECTOR_TEMPERATURE = 18.9822
FOCAL_PLANE_TEMPERATURE = 8.1755
INST_CMPRS_NAME = "DISCRETE COSINE TRANSFORMATION (DCT)"
INST_CMPRS_RATIO = 32.9118
INST_CMPRS_QUALITY = 0
INST_CMPRS_QUANTZ_TBL_ID = 0
INSTRUMENT_TEMPERATURE = 9.6028
LENS_TEMPERATURE = 8.7872
MACROPIXEL_SIZE = 4
MISSING_FRAMES = 0
PIXEL_SUBSAMPLING_FLAG = N
SIGNAL_CHAIN_ID = 2
/* RADIOMETRIC DATA ELEMENTS */
BANDWIDTH = 48.0
CENTER_FILTER_WAVELENGTH = 748.0
RADIANCE_OFFSET = 0.378678
RADIANCE_SCALING_FACTOR = 0.00302502
REFLECTANCE_SCALING_FACTOR = 0.000360776
MEX:REFLECTANCE_OFFSET = 0.0451626
/* IMAGE OBJECT DEFINITIONS */
OBJECT = IMAGE
  INTERCHANGE_FORMAT = BINARY
  LINES = 15115
  LINE_SAMPLES = 4182
  SAMPLE_TYPE = UNSIGNED_INTEGER
  SAMPLE_BITS = 8
  BANDS = 1
  BAND_STORAGE_TYPE = BAND_SEQUENTIAL
  MAXIMUM = 255
  MEAN = 103.708
  MINIMUM = 1
  STANDARD_DEVIATION = 41.3712
END_OBJECT = IMAGE
/* MAP OBJECT DEFINITIONS */
OBJECT = IMAGE_MAP_PROJECTION
  ^DATA_SET_MAP_PROJECTION_CATALOG= "DSMAP.CAT"
  A_AXIS_RADIUS = 3396.0
  B_AXIS_RADIUS = 3396.0
  C_AXIS_RADIUS = 3396.0
  CENTER_LATITUDE = 0.0
  CENTER_LONGITUDE = 89.0
  COORDINATE_SYSTEM_NAME = PLANETOGRAPHIC
  COORDINATE_SYSTEM_TYPE = "BODY-FIXED ROTATING"
  EASTERNMOST_LONGITUDE = 93.6781
  FIRST_STANDARD_PARALLEL = "N/A"
  LINE_FIRST_PIXEL = 1
  LINE_LAST_PIXEL = 15115
  LINE_PROJECTION_OFFSET = -80231.875
  MAP_PROJECTION_ROTATION = 0.0
  MAP_PROJECTION_TYPE = SINUSOIDAL
  MAP_RESOLUTION = 1185.42760773333
  MAP_SCALE = 0.05
  MAXIMUM_LATITUDE = -67.6786
  MINIMUM_LATITUDE = -80.4276
  POSITIVE_LONGITUDE_DIRECTION = EAST
  REFERENCE_LATITUDE = "N/A"
  REFERENCE_LONGITUDE = "N/A"
  SAMPLE_FIRST_PIXEL = 1
  SAMPLE_LAST_PIXEL = 4182
  SAMPLE_PROJECTION_OFFSET = 2126.125
  SECOND_STANDARD_PARALLEL = "N/A"
  WESTERNMOST_LONGITUDE = 78.4525
END_OBJECT = IMAGE_MAP_PROJECTION
/* The JPEG2000 image data file associated with this label. */
OBJECT = COMPRESSED_FILE
  FILE_NAME = "H2521_0000_RE3.JP2"
  RECORD_TYPE = UNDEFINED
  FILE_RECORDS = UNK
  ENCODING_TYPE = "JP2"
  INTERCHANGE_FORMAT = BINARY
  UNCOMPRESSED_FILE_NAME = "H2521_0000_RE3.IMG"
  REQUIRED_STORAGE_BYTES = "63236022"
  ^DESCRIPTION = "JP2INFO.TXT"
END_OBJECT = COMPRESSED_FILE
END
