PDS_VERSION_ID = PDS3
/* FILE DATA ELEMENTS */
RECORD_TYPE = STREAM
/* POINTERS TO DATA OBJECTS */
^COMPRESSED_FILE = "H2522_0000_S13.JP2"
/* IDENTIFICATION DATA ELEMENTS */
DATA_SET_ID = "MEX-M-HRSC-5-REFDR-MAPPROJECTED-V3.0"
DATA_SET_NAME = "MARS EXPRESS HRSC MAP PROJECTED REFDR V3.0"
DETECTOR_ID = MEX_HRSC_S1
EVENT_TYPE = "MARS-REGIONAL-STEREO-Gl-Pf-La"
INSTRUMENT_HOST_ID = MEX
INSTRUMENT_HOST_NAME = "MARS EXPRESS"
INSTRUMENT_ID = HRSC
INSTRUMENT_NAME = "HIGH RESOLUTION STEREO CAMERA"
MISSION_NAME = "MARS EXPRESS"
MISSION_PHASE_NAME = ME_Phase_1
PROCESSING_LEVEL_ID = 3
PRODUCT_CREATION_TIME = 2016-04-07T06:49:26.000Z
PRODUCT_ID = "H2522_0000_S13.JP2"
RELEASE_ID = 0031
REVISION_ID = 0000
/* QUALITY DATA ELEMENTS */
DATA_QUALITY_ID = 1
DATA_QUALITY_DESC = "Data calculated based on original SPICE kernels"
/* TIME DATA ELEMENTS */
SPACECRAFT_CLOCK_START_COUNT = "1/0083970308.57938"
SPACECRAFT_CLOCK_STOP_COUNT = "1/0083970562.24168"
START_TIME = 2005-12-29T21:05:15.704Z
STOP_TIME = 2005-12-29T21:08:25.829Z
/* ORBITAL DATA ELEMENTS */
ASCENDING_NODE_LONGITUDE = 175.34
MAXIMUM_RESOLUTION = 23.4
FOOTPRINT_POINT_LATITUDE = (-79.6833,-79.8101,-79.8872,-79.9794, -79.7817,-79.5489,-79.1991,-78.9657, -78.7316,-78.497,-78.2623,-78.0278, -77.7922,-77.4392,-77.2026,-76.967, -76.7303,-76.3637,-76.1165,-75.8694, -75.6194,-75.2495,-75.0024,-74.6304, -74.381,-74.1336,-73.8855,-73.6368, -73.3878,-73.126,-72.7383,-72.4795, -72.0915,-71.7051,-71.446,-71.1867, -70.9277,-70.6571,-70.3909,-70.1223, -69.8544,-69.5853,-69.3163,-69.047, -68.7723,-68.3532,-68.0739,-67.7949, -67.5159,-67.237,-67.191,-67.1697, -67.1481,-67.1207,-67.0743,-67.3513, -67.6289,-67.9062,-68.1837,-68.4617, -68.7394,-69.1429,-69.5422,-69.8086, -70.2078,-70.4744,-70.8697,-71.1267, -71.384,-71.6403,-71.8973,-72.1552, -72.5398,-72.796,-73.0511,-73.3023, -73.5488,-73.7947,-74.0401,-74.4083, -74.6534,-74.898,-75.1419,-75.5061, -75.7513,-75.9961,-76.2381,-76.5945, -76.8271,-77.0603,-77.2906,-77.5209, -77.8645,-78.0938,-78.3194,-78.6663, -79.0065,-79.2322,-79.4589,-79.6833)
FOOTPRINT_POINT_LONGITUDE = (341.353,343.248,344.521,346.201, 346.721,347.091,347.616,347.946,348.263 ,348.567,348.858,349.136,349.405, 349.787,350.032,350.265,350.491,350.824 ,351.04,351.247,351.453,351.737,351.918 ,352.182,352.352,352.513,352.67,352.823 ,352.972,353.127,353.342,353.479, 353.677,353.864,353.986,354.105,354.219 ,354.338,354.447,354.556,354.661, 354.764,354.864,354.962,355.06,355.204, 355.297,355.387,355.474,355.559,354.832 ,354.384,353.964,353.461,352.671, 352.569,352.463,352.355,352.244,352.129 ,352.011,351.833,351.646,351.517, 351.316,351.177,350.962,350.818,350.669 ,350.514,350.356,350.192,349.937, 349.759,349.576,349.39,349.202,349.007, 348.806,348.492,348.273,348.047,347.813 ,347.446,347.191,346.926,346.651, 346.227,345.938,345.637,345.325,345.001 ,344.491,344.134,343.763,343.176, 342.552,342.114,341.656,341.353)
ORBIT_NUMBER = 2522
ORBITAL_ECCENTRICITY = 0.572
ORBITAL_INCLINATION = 86.62
ORBITAL_SEMIMAJOR_AXIS = 8527.54
PERIAPSIS_ALTITUDE = 277.28
PERIAPSIS_ARGUMENT_ANGLE = 275.05
PERIAPSIS_TIME = 2005-12-29T21:04:30.000Z
SPACECRAFT_ORIENTATION = (0.0,-1.0,0.0)
^MEX_ORIENTATION_DESC = "MEX_ORIENTATION_DESC.TXT"
SPACECRAFT_POINTING_MODE = NADIR
^MEX_POINTING_DESC = "MEX_POINTING_DESC.TXT"
RIGHT_ASCENSION = -1e+32
DECLINATION = -1e+32
OFFSET_ANGLE = -1e+32
SPACECRAFT_SOLAR_DISTANCE = 2.28663e+08
TARGET_NAME = MARS
/* CAMERA DATA ELEMENTS */
DETECTOR_TEMPERATURE = 17.5549
FOCAL_PLANE_TEMPERATURE = 8.3794
INST_CMPRS_NAME = "DISCRETE COSINE TRANSFORMATION (DCT)"
INST_CMPRS_RATIO = 15.0431
INST_CMPRS_QUALITY = 0
INST_CMPRS_QUANTZ_TBL_ID = 0
INSTRUMENT_TEMPERATURE = 11.6418
LENS_TEMPERATURE = 9.195
MACROPIXEL_SIZE = 2
MISSING_FRAMES = 0
PIXEL_SUBSAMPLING_FLAG = N
SIGNAL_CHAIN_ID = 1
/* RADIOMETRIC DATA ELEMENTS */
BANDWIDTH = 180.0
CENTER_FILTER_WAVELENGTH = 677.0
RADIANCE_OFFSET = 1.76306
RADIANCE_SCALING_FACTOR = 0.0098771
REFLECTANCE_SCALING_FACTOR = 0.000269441
MEX:REFLECTANCE_OFFSET = 0.0480953
/* IMAGE OBJECT DEFINITIONS */
OBJECT = IMAGE
  INTERCHANGE_FORMAT = BINARY
  LINES = 30359
  LINE_SAMPLES = 8289
  SAMPLE_TYPE = UNSIGNED_INTEGER
  SAMPLE_BITS = 8
  BANDS = 1
  BAND_STORAGE_TYPE = BAND_SEQUENTIAL
  MAXIMUM = 255
  MEAN = 123.057
  MINIMUM = 1
  STANDARD_DEVIATION = 30.835
END_OBJECT = IMAGE
/* MAP OBJECT DEFINITIONS */
OBJECT = IMAGE_MAP_PROJECTION
  ^DATA_SET_MAP_PROJECTION_CATALOG= "DSMAP.CAT"
  A_AXIS_RADIUS = 3396.0
  B_AXIS_RADIUS = 3396.0
  C_AXIS_RADIUS = 3396.0
  CENTER_LATITUDE = 0.0
  CENTER_LONGITUDE = 351.0
  COORDINATE_SYSTEM_NAME = PLANETOGRAPHIC
  COORDINATE_SYSTEM_TYPE = "BODY-FIXED ROTATING"
  EASTERNMOST_LONGITUDE = 355.559
  FIRST_STANDARD_PARALLEL = "N/A"
  LINE_FIRST_PIXEL = 1
  LINE_LAST_PIXEL = 30359
  LINE_PROJECTION_OFFSET = -158998.25
  MAP_PROJECTION_ROTATION = 0.0
  MAP_PROJECTION_TYPE = SINUSOIDAL
  MAP_RESOLUTION = 2370.85521546667
  MAP_SCALE = 0.025
  MAXIMUM_LATITUDE = -67.07429999999999
  MINIMUM_LATITUDE = -79.9794
  POSITIVE_LONGITUDE_DIRECTION = EAST
  REFERENCE_LATITUDE = "N/A"
  REFERENCE_LONGITUDE = "N/A"
  SAMPLE_FIRST_PIXEL = 1
  SAMPLE_LAST_PIXEL = 8289
  SAMPLE_PROJECTION_OFFSET = 4110.25
  SECOND_STANDARD_PARALLEL = "N/A"
  WESTERNMOST_LONGITUDE = 341.353
END_OBJECT = IMAGE_MAP_PROJECTION
/* The JPEG2000 image data file associated with this label. */
OBJECT = COMPRESSED_FILE
  FILE_NAME = "H2522_0000_S13.JP2"
  RECORD_TYPE = UNDEFINED
  FILE_RECORDS = UNK
  ENCODING_TYPE = "JP2"
  INTERCHANGE_FORMAT = BINARY
  UNCOMPRESSED_FILE_NAME = "H2522_0000_S13.IMG"
  REQUIRED_STORAGE_BYTES = "251678907"
  ^DESCRIPTION = "JP2INFO.TXT"
END_OBJECT = COMPRESSED_FILE
END
