PDS_VERSION_ID = PDS3
/* FILE DATA ELEMENTS */
RECORD_TYPE = STREAM
/* POINTERS TO DATA OBJECTS */
^COMPRESSED_FILE = "H2524_0000_BL3.JP2"
/* IDENTIFICATION DATA ELEMENTS */
DATA_SET_ID = "MEX-M-HRSC-5-REFDR-MAPPROJECTED-V3.0"
DATA_SET_NAME = "MARS EXPRESS HRSC MAP PROJECTED REFDR V3.0"
DETECTOR_ID = MEX_HRSC_BLUE
EVENT_TYPE = "MARS-REGIONAL-MAPPING-Im-Pf-La"
INSTRUMENT_HOST_ID = MEX
INSTRUMENT_HOST_NAME = "MARS EXPRESS"
INSTRUMENT_ID = HRSC
INSTRUMENT_NAME = "HIGH RESOLUTION STEREO CAMERA"
MISSION_NAME = "MARS EXPRESS"
MISSION_PHASE_NAME = ME_Phase_1
PROCESSING_LEVEL_ID = 3
PRODUCT_CREATION_TIME = 2016-04-07T06:49:26.000Z
PRODUCT_ID = "H2524_0000_BL3.JP2"
RELEASE_ID = 0031
REVISION_ID = 0000
/* QUALITY DATA ELEMENTS */
DATA_QUALITY_ID = 1
DATA_QUALITY_DESC = "Data calculated based on original SPICE kernels"
/* TIME DATA ELEMENTS */
SPACECRAFT_CLOCK_START_COUNT = "1/0084018814.57154"
SPACECRAFT_CLOCK_STOP_COUNT = "1/0084019368.34402"
START_TIME = 2005-12-30T10:34:14.524Z
STOP_TIME = 2005-12-30T10:41:46.376Z
/* ORBITAL DATA ELEMENTS */
ASCENDING_NODE_LONGITUDE = 175.3
MAXIMUM_RESOLUTION = 101.3
FOOTPRINT_POINT_LATITUDE = (-70.7831,-70.9127,-70.0931,-69.6753, -69.0491,-68.4103,-67.9806,-67.5514, -67.1226,-66.6947,-66.2672,-65.8403, -65.4141,-64.9886,-64.2642,-63.759, -63.2548,-62.7518,-62.2497,-61.7488, -61.2494,-60.7518,-60.2471,-59.7389, -59.2215,-58.4365,-57.6367,-57.0971, -56.5478,-55.9909,-55.4292,-54.8586, -54.279,-53.6924,-53.0972,-52.4936, -51.8813,-51.2596,-50.629,-49.988, -49.337,-48.6758,-48.004,-47.3212, -46.6256,-45.9196,-45.2012,-44.4699, -43.9386,-43.9141,-43.8827,-43.8618, -44.5985,-45.3224,-46.0339,-46.7349, -47.4225,-48.0992,-48.7652,-49.4196, -50.0673,-50.7027,-51.3283,-51.946, -52.5535,-53.1504,-53.7409,-54.3225, -54.8969,-55.4642,-56.0224,-56.5728, -57.1177,-57.6559,-58.1853,-58.7109, -59.2279,-59.9926,-60.4976,-61.2414, -61.7379,-62.2362,-62.7357,-63.2364, -63.7382,-64.2411,-64.7263,-65.149, -65.5724,-65.9963,-66.4208,-66.8459, -67.2714,-67.6974,-68.1237,-68.7591, -69.1726,-69.5864,-70.4077,-70.7831)
FOOTPRINT_POINT_LONGITUDE = (152.943,154.791,155.26,155.484,155.803 ,156.11,156.303,156.489,156.667,156.837 ,157.002,157.159,157.311,157.457, 157.694,157.851,158.001,158.144,158.282 ,158.415,158.542,158.663,158.781, 158.896,159.008,159.171,159.328,159.429 ,159.527,159.625,159.719,159.811,159.9, 159.988,160.074,160.158,160.239,160.319 ,160.397,160.474,160.548,160.621, 160.692,160.762,160.83,160.896,160.961, 161.025,160.844,159.654,158.592,157.946 ,157.91,157.875,157.834,157.789,157.741 ,157.691,157.642,157.595,157.525, 157.463,157.4,157.326,157.253,157.189, 157.105,157.023,156.937,156.849,156.759 ,156.665,156.568,156.466,156.356,156.25 ,156.135,155.956,155.832,155.63,155.501 ,155.357,155.205,155.043,154.873, 154.693,154.512,154.348,154.179,154.002 ,153.818,153.624,153.424,153.208, 152.996,152.65,152.406,152.152,151.608, 152.943)
ORBIT_NUMBER = 2524
ORBITAL_ECCENTRICITY = 0.572
ORBITAL_INCLINATION = 86.61
ORBITAL_SEMIMAJOR_AXIS = 8528.81
PERIAPSIS_ALTITUDE = 277.83
PERIAPSIS_ARGUMENT_ANGLE = 274.72
PERIAPSIS_TIME = 2005-12-30T10:30:40.000Z
SPACECRAFT_ORIENTATION = (0.0,-1.0,0.0)
^MEX_ORIENTATION_DESC = "MEX_ORIENTATION_DESC.TXT"
SPACECRAFT_POINTING_MODE = ACROSSTRACK
^MEX_POINTING_DESC = "MEX_POINTING_DESC.TXT"
RIGHT_ASCENSION = -1e+32
DECLINATION = -1e+32
OFFSET_ANGLE = 0.9
SPACECRAFT_SOLAR_DISTANCE = 2.28771e+08
TARGET_NAME = MARS
/* CAMERA DATA ELEMENTS */
DETECTOR_TEMPERATURE = 18.1666
FOCAL_PLANE_TEMPERATURE = 8.5833
INST_CMPRS_NAME = "DISCRETE COSINE TRANSFORMATION (DCT)"
INST_CMPRS_RATIO = 28.245
INST_CMPRS_QUALITY = 0
INST_CMPRS_QUANTZ_TBL_ID = 0
INSTRUMENT_TEMPERATURE = 11.0301
LENS_TEMPERATURE = 8.5833
MACROPIXEL_SIZE = 8
MISSING_FRAMES = 0
PIXEL_SUBSAMPLING_FLAG = N
SIGNAL_CHAIN_ID = 2
/* RADIOMETRIC DATA ELEMENTS */
BANDWIDTH = 76.0
CENTER_FILTER_WAVELENGTH = 444.0
RADIANCE_OFFSET = 0.465292
RADIANCE_SCALING_FACTOR = 0.00241646
REFLECTANCE_SCALING_FACTOR = 0.00012994
MEX:REFLECTANCE_OFFSET = 0.02502
/* IMAGE OBJECT DEFINITIONS */
OBJECT = IMAGE
  INTERCHANGE_FORMAT = BINARY
  LINES = 16044
  LINE_SAMPLES = 2607
  SAMPLE_TYPE = UNSIGNED_INTEGER
  SAMPLE_BITS = 8
  BANDS = 1
  BAND_STORAGE_TYPE = BAND_SEQUENTIAL
  MAXIMUM = 255
  MEAN = 103.543
  MINIMUM = 1
  STANDARD_DEVIATION = 55.2338
END_OBJECT = IMAGE
/* MAP OBJECT DEFINITIONS */
OBJECT = IMAGE_MAP_PROJECTION
  ^DATA_SET_MAP_PROJECTION_CATALOG= "DSMAP.CAT"
  A_AXIS_RADIUS = 3396.0
  B_AXIS_RADIUS = 3396.0
  C_AXIS_RADIUS = 3396.0
  CENTER_LATITUDE = 0.0
  CENTER_LONGITUDE = 158.0
  COORDINATE_SYSTEM_NAME = PLANETOGRAPHIC
  COORDINATE_SYSTEM_TYPE = "BODY-FIXED ROTATING"
  EASTERNMOST_LONGITUDE = 161.025
  FIRST_STANDARD_PARALLEL = "N/A"
  LINE_FIRST_PIXEL = 1
  LINE_LAST_PIXEL = 16044
  LINE_PROJECTION_OFFSET = -26003.4375
  MAP_PROJECTION_ROTATION = 0.0
  MAP_PROJECTION_TYPE = SINUSOIDAL
  MAP_RESOLUTION = 592.713803866667
  MAP_SCALE = 0.1
  MAXIMUM_LATITUDE = -43.8618
  MINIMUM_LATITUDE = -70.9127
  POSITIVE_LONGITUDE_DIRECTION = EAST
  REFERENCE_LATITUDE = "N/A"
  REFERENCE_LONGITUDE = "N/A"
  SAMPLE_FIRST_PIXEL = 1
  SAMPLE_LAST_PIXEL = 2607
  SAMPLE_PROJECTION_OFFSET = 1291.5625
  SECOND_STANDARD_PARALLEL = "N/A"
  WESTERNMOST_LONGITUDE = 151.608
END_OBJECT = IMAGE_MAP_PROJECTION
/* The JPEG2000 image data file associated with this label. */
OBJECT = COMPRESSED_FILE
  FILE_NAME = "H2524_0000_BL3.JP2"
  RECORD_TYPE = UNDEFINED
  FILE_RECORDS = UNK
  ENCODING_TYPE = "JP2"
  INTERCHANGE_FORMAT = BINARY
  UNCOMPRESSED_FILE_NAME = "H2524_0000_BL3.IMG"
  REQUIRED_STORAGE_BYTES = "41847564"
  ^DESCRIPTION = "JP2INFO.TXT"
END_OBJECT = COMPRESSED_FILE
END
