PDS_VERSION_ID = PDS3
/* FILE DATA ELEMENTS */
RECORD_TYPE = STREAM
/* POINTERS TO DATA OBJECTS */
^COMPRESSED_FILE = "H2525_0000_GR3.JP2"
/* IDENTIFICATION DATA ELEMENTS */
DATA_SET_ID = "MEX-M-HRSC-5-REFDR-MAPPROJECTED-V3.0"
DATA_SET_NAME = "MARS EXPRESS HRSC MAP PROJECTED REFDR V3.0"
DETECTOR_ID = MEX_HRSC_GREEN
EVENT_TYPE = "MARS-REGIONAL-MAPPING-Vo-Im-Pf"
INSTRUMENT_HOST_ID = MEX
INSTRUMENT_HOST_NAME = "MARS EXPRESS"
INSTRUMENT_ID = HRSC
INSTRUMENT_NAME = "HIGH RESOLUTION STEREO CAMERA"
MISSION_NAME = "MARS EXPRESS"
MISSION_PHASE_NAME = ME_Phase_1
PROCESSING_LEVEL_ID = 3
PRODUCT_CREATION_TIME = 2016-04-07T06:49:26.000Z
PRODUCT_ID = "H2525_0000_GR3.JP2"
RELEASE_ID = 0031
REVISION_ID = 0000
/* QUALITY DATA ELEMENTS */
DATA_QUALITY_ID = 1
DATA_QUALITY_DESC = "Data calculated based on original SPICE kernels"
/* TIME DATA ELEMENTS */
SPACECRAFT_CLOCK_START_COUNT = "1/0084043018.57151"
SPACECRAFT_CLOCK_STOP_COUNT = "1/0084043424.64261"
START_TIME = 2005-12-30T17:17:28.721Z
STOP_TIME = 2005-12-30T17:22:40.646Z
/* ORBITAL DATA ELEMENTS */
ASCENDING_NODE_LONGITUDE = 175.27
MAXIMUM_RESOLUTION = 50.8
FOOTPRINT_POINT_LATITUDE = (-69.7685,-69.8397,-69.9074,-69.5895, -69.2718,-68.7825,-68.4546,-68.1269, -67.7995,-67.2975,-66.9532,-66.616, -66.2792,-65.9428,-65.6066,-65.2708, -64.9355,-64.6004,-64.2658,-63.9316, -63.3663,-62.9689,-62.572,-62.1763, -61.5819,-61.1873,-60.7937,-60.4016, -60.002,-59.6105,-59.2098,-58.8092, -58.198,-57.7888,-57.3701,-56.9521, -56.5253,-55.8806,-55.4449,-55.0037, -54.3344,-53.8827,-53.4242,-52.9629, -52.4948,-52.0212,-51.5432,-51.0598, -50.5687,-50.3121,-50.2989,-50.2784, -50.2422,-50.4696,-50.9591,-51.4415, -51.9177,-52.39,-52.8565,-53.3165, -53.7736,-54.2244,-54.8907,-55.3308, -55.7662,-56.4088,-56.8344,-57.2514, -57.6688,-58.0769,-58.6858,-59.0849, -59.4847,-59.8746,-60.2735,-60.6649, -61.0569,-61.4498,-61.8432,-62.2375, -62.6322,-63.0276,-63.424,-63.7887, -64.1216,-64.4548,-64.7882,-65.1222, -65.4564,-65.9583,-66.2929,-66.628, -66.9636,-67.3062,-67.6375,-67.963, -68.2886,-68.6143,-69.1008,-69.7685)
FOOTPRINT_POINT_LONGITUDE = (56.7667,57.9772,59.6057,59.7349, 59.8603,60.0438,60.1618,60.2758,60.3864 ,60.5489,60.6559,60.7572,60.8554, 60.9506,61.043,61.1327,61.2192,61.304, 61.386,61.4654,61.5952,61.6823,61.7671, 61.8468,61.9706,62.046,62.1183,62.1847, 62.2517,62.3175,62.3834,62.4474,62.5418 ,62.6033,62.6655,62.7252,62.7845, 62.8721,62.93,62.986,63.0673,63.1197, 63.1712,63.2216,63.2708,63.3189,63.366, 63.4112,63.457,63.1327,62.6238,61.9817, 61.0436,60.5889,60.5537,60.5181,60.4795 ,60.4401,60.399,60.3569,60.3132,60.2691 ,60.1958,60.148,60.1019,60.0233,59.9682 ,59.9123,59.8536,59.7933,59.696,59.6286 ,59.5614,59.49,59.4155,59.3385,59.2583, 59.1758,59.0894,59.0003,58.907,58.8103, 58.7113,58.6143,58.5244,58.4315,58.3343 ,58.2349,58.1311,57.9691,57.8545, 57.7365,57.6153,57.4866,57.3578,57.2269 ,57.0907,56.9496,56.7315,56.7667)
ORBIT_NUMBER = 2525
ORBITAL_ECCENTRICITY = 0.572
ORBITAL_INCLINATION = 86.62
ORBITAL_SEMIMAJOR_AXIS = 8527.85
PERIAPSIS_ALTITUDE = 276.66
PERIAPSIS_ARGUMENT_ANGLE = 274.55
PERIAPSIS_TIME = 2005-12-30T17:13:43.000Z
SPACECRAFT_ORIENTATION = (0.0,-1.0,0.0)
^MEX_ORIENTATION_DESC = "MEX_ORIENTATION_DESC.TXT"
SPACECRAFT_POINTING_MODE = ACROSSTRACK
^MEX_POINTING_DESC = "MEX_POINTING_DESC.TXT"
RIGHT_ASCENSION = -1e+32
DECLINATION = -1e+32
OFFSET_ANGLE = 0.1
SPACECRAFT_SOLAR_DISTANCE = 2.28826e+08
TARGET_NAME = MARS
/* CAMERA DATA ELEMENTS */
DETECTOR_TEMPERATURE = 17.9627
FOCAL_PLANE_TEMPERATURE = 8.1755
INST_CMPRS_NAME = "DISCRETE COSINE TRANSFORMATION (DCT)"
INST_CMPRS_RATIO = 19.2804
INST_CMPRS_QUALITY = 0
INST_CMPRS_QUANTZ_TBL_ID = 0
INSTRUMENT_TEMPERATURE = 11.234
LENS_TEMPERATURE = 8.7872
MACROPIXEL_SIZE = 4
MISSING_FRAMES = 2
PIXEL_SUBSAMPLING_FLAG = N
SIGNAL_CHAIN_ID = 2
/* RADIOMETRIC DATA ELEMENTS */
BANDWIDTH = 88.0
CENTER_FILTER_WAVELENGTH = 538.0
RADIANCE_OFFSET = 0.87849
RADIANCE_SCALING_FACTOR = 0.00516759
REFLECTANCE_SCALING_FACTOR = 0.000232964
MEX:REFLECTANCE_OFFSET = 0.0396038
/* IMAGE OBJECT DEFINITIONS */
OBJECT = IMAGE
  INTERCHANGE_FORMAT = BINARY
  LINES = 23325
  LINE_SAMPLES = 3758
  SAMPLE_TYPE = UNSIGNED_INTEGER
  SAMPLE_BITS = 8
  BANDS = 1
  BAND_STORAGE_TYPE = BAND_SEQUENTIAL
  MAXIMUM = 255
  MEAN = 128.488
  MINIMUM = 1
  STANDARD_DEVIATION = 57.3018
END_OBJECT = IMAGE
/* MAP OBJECT DEFINITIONS */
OBJECT = IMAGE_MAP_PROJECTION
  ^DATA_SET_MAP_PROJECTION_CATALOG= "DSMAP.CAT"
  A_AXIS_RADIUS = 3396.0
  B_AXIS_RADIUS = 3396.0
  C_AXIS_RADIUS = 3396.0
  CENTER_LATITUDE = 0.0
  CENTER_LONGITUDE = 61.0
  COORDINATE_SYSTEM_NAME = PLANETOGRAPHIC
  COORDINATE_SYSTEM_TYPE = "BODY-FIXED ROTATING"
  EASTERNMOST_LONGITUDE = 63.457
  FIRST_STANDARD_PARALLEL = "N/A"
  LINE_FIRST_PIXEL = 1
  LINE_LAST_PIXEL = 23325
  LINE_PROJECTION_OFFSET = -59539.625
  MAP_PROJECTION_ROTATION = 0.0
  MAP_PROJECTION_TYPE = SINUSOIDAL
  MAP_RESOLUTION = 1185.42760773333
  MAP_SCALE = 0.05
  MAXIMUM_LATITUDE = -50.2422
  MINIMUM_LATITUDE = -69.9074
  POSITIVE_LONGITUDE_DIRECTION = EAST
  REFERENCE_LATITUDE = "N/A"
  REFERENCE_LONGITUDE = "N/A"
  SAMPLE_FIRST_PIXEL = 1
  SAMPLE_LAST_PIXEL = 3758
  SAMPLE_PROJECTION_OFFSET = 1868.375
  SECOND_STANDARD_PARALLEL = "N/A"
  WESTERNMOST_LONGITUDE = 56.7315
END_OBJECT = IMAGE_MAP_PROJECTION
/* The JPEG2000 image data file associated with this label. */
OBJECT = COMPRESSED_FILE
  FILE_NAME = "H2525_0000_GR3.JP2"
  RECORD_TYPE = UNDEFINED
  FILE_RECORDS = UNK
  ENCODING_TYPE = "JP2"
  INTERCHANGE_FORMAT = BINARY
  UNCOMPRESSED_FILE_NAME = "H2525_0000_GR3.IMG"
  REQUIRED_STORAGE_BYTES = "87677898"
  ^DESCRIPTION = "JP2INFO.TXT"
END_OBJECT = COMPRESSED_FILE
END
