PDS_VERSION_ID = PDS3
/* FILE DATA ELEMENTS */
RECORD_TYPE = STREAM
/* POINTERS TO DATA OBJECTS */
^COMPRESSED_FILE = "H2525_0000_P13.JP2"
/* IDENTIFICATION DATA ELEMENTS */
DATA_SET_ID = "MEX-M-HRSC-5-REFDR-MAPPROJECTED-V3.0"
DATA_SET_NAME = "MARS EXPRESS HRSC MAP PROJECTED REFDR V3.0"
DETECTOR_ID = MEX_HRSC_P1
EVENT_TYPE = "MARS-REGIONAL-MAPPING-Vo-Im-Pf"
INSTRUMENT_HOST_ID = MEX
INSTRUMENT_HOST_NAME = "MARS EXPRESS"
INSTRUMENT_ID = HRSC
INSTRUMENT_NAME = "HIGH RESOLUTION STEREO CAMERA"
MISSION_NAME = "MARS EXPRESS"
MISSION_PHASE_NAME = ME_Phase_1
PROCESSING_LEVEL_ID = 3
PRODUCT_CREATION_TIME = 2016-04-07T06:49:26.000Z
PRODUCT_ID = "H2525_0000_P13.JP2"
RELEASE_ID = 0031
REVISION_ID = 0000
/* QUALITY DATA ELEMENTS */
DATA_QUALITY_ID = 1
DATA_QUALITY_DESC = "Data calculated based on original SPICE kernels"
/* TIME DATA ELEMENTS */
SPACECRAFT_CLOCK_START_COUNT = "1/0084043018.57151"
SPACECRAFT_CLOCK_STOP_COUNT = "1/0084043424.64261"
START_TIME = 2005-12-30T17:17:15.063Z
STOP_TIME = 2005-12-30T17:22:16.841Z
/* ORBITAL DATA ELEMENTS */
ASCENDING_NODE_LONGITUDE = 175.27
MAXIMUM_RESOLUTION = 25.7
FOOTPRINT_POINT_LATITUDE = (-69.834,-69.8913,-69.9445,-69.5952, -69.1095,-68.7869,-68.303,-67.8032, -67.4698,-67.1366,-66.8038,-66.4631, -66.1196,-65.7759,-65.4329,-65.0889, -64.5746,-64.2317,-63.8894,-63.376, -63.0346,-62.6847,-62.2788,-61.867, -61.4603,-61.0542,-60.6505,-60.2521, -59.8496,-59.4459,-59.0431,-58.6404, -58.0255,-57.6122,-57.1915,-56.7683, -56.1229,-55.689,-55.2446,-54.5762, -54.1248,-53.6678,-52.9739,-52.5057, -52.0303,-51.5516,-51.0674,-50.8223, -50.575,-50.296,-50.2843,-50.265, -50.2388,-50.2187,-50.2006,-50.447, -50.6934,-50.9378,-51.4227,-51.8997, -52.3745,-52.8409,-53.533,-53.9905, -54.6671,-55.3254,-55.7673,-56.1997, -56.6269,-57.0493,-57.4695,-57.8818, -58.4941,-58.8948,-59.2973,-59.8994, -60.5037,-61.109,-61.5122,-62.1186, -62.7052,-63.0453,-63.3862,-63.8973, -64.4091,-64.7502,-65.0924,-65.434, -65.7759,-66.2881,-66.6276,-66.9592, -67.4563,-67.7878,-68.2793,-68.5998, -68.9213,-69.2424,-69.5645,-69.834)
FOOTPRINT_POINT_LONGITUDE = (56.9757,57.9301,58.9153,59.7226, 59.9117,60.031,60.2029,60.3726,60.481, 60.586,60.6872,60.7877,60.8859,60.9815, 61.0735,61.1642,61.2936,61.377,61.4576, 61.5746,61.6493,61.724,61.807,61.8939, 61.9731,62.0496,62.1217,62.1869,62.2544 ,62.3215,62.3861,62.4493,62.5428, 62.6039,62.6646,62.7237,62.8112,62.8686 ,62.9261,63.0075,63.0605,63.1118,63.187 ,63.2355,63.283,63.3294,63.3739,63.3966 ,63.4189,63.1749,62.7447,62.1541, 61.4823,61.0519,60.6654,60.6482,60.6303 ,60.612,60.575,60.5355,60.4949,60.4529, 60.3873,60.3424,60.2728,60.196,60.1483, 60.0956,60.0402,59.9838,59.9253,59.865, 59.7687,59.702,59.6338,59.5239,59.4085, 59.2859,59.1993,59.0636,58.925,58.8412, 58.7553,58.6199,58.4777,58.3784,58.2765 ,58.1701,58.0602,57.887,57.7674,57.6472 ,57.4585,57.3269,57.1233,56.9844, 56.8413,56.6928,56.5398,56.9757)
ORBIT_NUMBER = 2525
ORBITAL_ECCENTRICITY = 0.572
ORBITAL_INCLINATION = 86.62
ORBITAL_SEMIMAJOR_AXIS = 8527.85
PERIAPSIS_ALTITUDE = 276.66
PERIAPSIS_ARGUMENT_ANGLE = 274.55
PERIAPSIS_TIME = 2005-12-30T17:13:43.000Z
SPACECRAFT_ORIENTATION = (0.0,-1.0,0.0)
^MEX_ORIENTATION_DESC = "MEX_ORIENTATION_DESC.TXT"
SPACECRAFT_POINTING_MODE = ACROSSTRACK
^MEX_POINTING_DESC = "MEX_POINTING_DESC.TXT"
RIGHT_ASCENSION = -1e+32
DECLINATION = -1e+32
OFFSET_ANGLE = 0.1
SPACECRAFT_SOLAR_DISTANCE = 2.28826e+08
TARGET_NAME = MARS
/* CAMERA DATA ELEMENTS */
DETECTOR_TEMPERATURE = 17.5549
FOCAL_PLANE_TEMPERATURE = 8.1755
INST_CMPRS_NAME = "DISCRETE COSINE TRANSFORMATION (DCT)"
INST_CMPRS_RATIO = 15.0832
INST_CMPRS_QUALITY = 0
INST_CMPRS_QUANTZ_TBL_ID = 0
INSTRUMENT_TEMPERATURE = 11.234
LENS_TEMPERATURE = 8.7872
MACROPIXEL_SIZE = 2
MISSING_FRAMES = 0
PIXEL_SUBSAMPLING_FLAG = N
SIGNAL_CHAIN_ID = 3
/* RADIOMETRIC DATA ELEMENTS */
BANDWIDTH = 174.0
CENTER_FILTER_WAVELENGTH = 675.0
RADIANCE_OFFSET = 2.25278
RADIANCE_SCALING_FACTOR = 0.0149736
REFLECTANCE_SCALING_FACTOR = 0.000421718
MEX:REFLECTANCE_OFFSET = 0.0634474
/* IMAGE OBJECT DEFINITIONS */
OBJECT = IMAGE
  INTERCHANGE_FORMAT = BINARY
  LINES = 46650
  LINE_SAMPLES = 7516
  SAMPLE_TYPE = UNSIGNED_INTEGER
  SAMPLE_BITS = 8
  BANDS = 1
  BAND_STORAGE_TYPE = BAND_SEQUENTIAL
  MAXIMUM = 255
  MEAN = 133.13
  MINIMUM = 1
  STANDARD_DEVIATION = 55.2943
END_OBJECT = IMAGE
/* MAP OBJECT DEFINITIONS */
OBJECT = IMAGE_MAP_PROJECTION
  ^DATA_SET_MAP_PROJECTION_CATALOG= "DSMAP.CAT"
  A_AXIS_RADIUS = 3396.0
  B_AXIS_RADIUS = 3396.0
  C_AXIS_RADIUS = 3396.0
  CENTER_LATITUDE = 0.0
  CENTER_LONGITUDE = 61.0
  COORDINATE_SYSTEM_NAME = PLANETOGRAPHIC
  COORDINATE_SYSTEM_TYPE = "BODY-FIXED ROTATING"
  EASTERNMOST_LONGITUDE = 63.4189
  FIRST_STANDARD_PARALLEL = "N/A"
  LINE_FIRST_PIXEL = 1
  LINE_LAST_PIXEL = 46650
  LINE_PROJECTION_OFFSET = -119078.75
  MAP_PROJECTION_ROTATION = 0.0
  MAP_PROJECTION_TYPE = SINUSOIDAL
  MAP_RESOLUTION = 2370.85521546667
  MAP_SCALE = 0.025
  MAXIMUM_LATITUDE = -50.2006
  MINIMUM_LATITUDE = -69.94450000000001
  POSITIVE_LONGITUDE_DIRECTION = EAST
  REFERENCE_LATITUDE = "N/A"
  REFERENCE_LONGITUDE = "N/A"
  SAMPLE_FIRST_PIXEL = 1
  SAMPLE_LAST_PIXEL = 7516
  SAMPLE_PROJECTION_OFFSET = 3737.25
  SECOND_STANDARD_PARALLEL = "N/A"
  WESTERNMOST_LONGITUDE = 56.5398
END_OBJECT = IMAGE_MAP_PROJECTION
/* The JPEG2000 image data file associated with this label. */
OBJECT = COMPRESSED_FILE
  FILE_NAME = "H2525_0000_P13.JP2"
  RECORD_TYPE = UNDEFINED
  FILE_RECORDS = UNK
  ENCODING_TYPE = "JP2"
  INTERCHANGE_FORMAT = BINARY
  UNCOMPRESSED_FILE_NAME = "H2525_0000_P13.IMG"
  REQUIRED_STORAGE_BYTES = "350651464"
  ^DESCRIPTION = "JP2INFO.TXT"
END_OBJECT = COMPRESSED_FILE
END
