PDS_VERSION_ID = PDS3
/* FILE DATA ELEMENTS */
RECORD_TYPE = STREAM
/* POINTERS TO DATA OBJECTS */
^COMPRESSED_FILE = "H2526_0000_BL3.JP2"
/* IDENTIFICATION DATA ELEMENTS */
DATA_SET_ID = "MEX-M-HRSC-5-REFDR-MAPPROJECTED-V3.0"
DATA_SET_NAME = "MARS EXPRESS HRSC MAP PROJECTED REFDR V3.0"
DETECTOR_ID = MEX_HRSC_BLUE
EVENT_TYPE = "MARS-REGIONAL-MAPPING-Gl-Pf-Eo"
INSTRUMENT_HOST_ID = MEX
INSTRUMENT_HOST_NAME = "MARS EXPRESS"
INSTRUMENT_ID = HRSC
INSTRUMENT_NAME = "HIGH RESOLUTION STEREO CAMERA"
MISSION_NAME = "MARS EXPRESS"
MISSION_PHASE_NAME = ME_Phase_1
PROCESSING_LEVEL_ID = 3
PRODUCT_CREATION_TIME = 2016-04-07T06:49:26.000Z
PRODUCT_ID = "H2526_0000_BL3.JP2"
RELEASE_ID = 0031
REVISION_ID = 0000
/* QUALITY DATA ELEMENTS */
DATA_QUALITY_ID = 1
DATA_QUALITY_DESC = "Data calculated based on original SPICE kernels"
/* TIME DATA ELEMENTS */
SPACECRAFT_CLOCK_START_COUNT = "1/0084067018.57148"
SPACECRAFT_CLOCK_STOP_COUNT = "1/0084067249.58091"
START_TIME = 2005-12-30T23:59:59.563Z
STOP_TIME = 2005-12-31T00:00:29.770Z
/* ORBITAL DATA ELEMENTS */
ASCENDING_NODE_LONGITUDE = 175.26
MAXIMUM_RESOLUTION = 49.1
FOOTPRINT_POINT_LATITUDE = (-72.6957,-72.7108,-72.7256,-72.742, -72.7561,-72.7769,-72.7903,-72.8035, -72.8163,-72.8288,-72.841,-72.8559, -72.8675,-72.8903,-72.8346,-72.7789, -72.7047,-72.649,-72.5376,-72.4633, -72.3891,-72.3149,-72.2593,-72.2036, -72.1479,-72.0738,-71.9996,-71.944, -71.8698,-71.8124,-71.774,-71.7356, -71.6972,-71.6589,-71.6204,-71.5821, -71.5246,-71.4863,-71.4479,-71.4096, -71.3712,-71.3137,-71.2753,-71.237, -71.1985,-71.1602,-71.1219,-71.0454, -71.0071,-70.9384,-70.9275,-70.9178, -70.9122,-70.9064,-70.8974,-70.8884, -70.876,-70.8665,-70.8536,-70.8471, -70.8404,-70.8285,-70.8199,-70.8094, -70.7972,-70.7864,-70.7757,-70.7684, -70.8047,-70.8806,-70.9567,-71.0137, -71.0518,-71.1278,-71.1848,-71.2609, -71.2989,-71.3369,-71.375,-71.413, -71.4701,-71.5081,-71.5652,-71.6033, -71.6413,-71.6794,-71.753,-71.8081, -71.8632,-71.9367,-71.9919,-72.0654, -72.1389,-72.2308,-72.3043,-72.3595, -72.433,-72.525,-72.6169,-72.6957)
FOOTPRINT_POINT_LONGITUDE = (317.23,317.478,317.726,318.007,318.257 ,318.633,318.884,319.135,319.387, 319.639,319.893,320.21,320.464,320.573, 320.603,320.632,320.672,320.701,320.758 ,320.796,320.834,320.871,320.899, 320.927,320.954,320.991,321.027,321.053 ,321.088,321.115,321.133,321.151, 321.169,321.187,321.205,321.223,321.249 ,321.267,321.284,321.302,321.319, 321.345,321.362,321.379,321.395,321.412 ,321.429,321.463,321.479,321.508, 321.259,321.04,320.914,320.789,320.601, 320.414,320.165,319.978,319.729,319.605 ,319.481,319.264,319.11,318.925,318.708 ,318.523,318.337,318.213,318.151, 318.111,318.069,318.038,318.017,317.975 ,317.943,317.901,317.879,317.858, 317.836,317.814,317.781,317.759,317.726 ,317.703,317.681,317.658,317.614, 317.581,317.548,317.503,317.469,317.424 ,317.378,317.32,317.272,317.237,317.189 ,317.128,317.067,317.23)
ORBIT_NUMBER = 2526
ORBITAL_ECCENTRICITY = 0.572
ORBITAL_INCLINATION = 86.63
ORBITAL_SEMIMAJOR_AXIS = 8527.05
PERIAPSIS_ALTITUDE = 277.26
PERIAPSIS_ARGUMENT_ANGLE = 274.39
PERIAPSIS_TIME = 2005-12-30T23:56:48.000Z
SPACECRAFT_ORIENTATION = (0.0,-1.0,0.0)
^MEX_ORIENTATION_DESC = "MEX_ORIENTATION_DESC.TXT"
SPACECRAFT_POINTING_MODE = ACROSSTRACK
^MEX_POINTING_DESC = "MEX_POINTING_DESC.TXT"
RIGHT_ASCENSION = -1e+32
DECLINATION = -1e+32
OFFSET_ANGLE = -0.07
SPACECRAFT_SOLAR_DISTANCE = 2.2888e+08
TARGET_NAME = MARS
/* CAMERA DATA ELEMENTS */
DETECTOR_TEMPERATURE = 18.5744
FOCAL_PLANE_TEMPERATURE = 8.9911
INST_CMPRS_NAME = "DISCRETE COSINE TRANSFORMATION (DCT)"
INST_CMPRS_RATIO = 4.92124
INST_CMPRS_QUALITY = 0
INST_CMPRS_QUANTZ_TBL_ID = 0
INSTRUMENT_TEMPERATURE = 11.234
LENS_TEMPERATURE = 9.195
MACROPIXEL_SIZE = 4
MISSING_FRAMES = 0
PIXEL_SUBSAMPLING_FLAG = N
SIGNAL_CHAIN_ID = 2
/* RADIOMETRIC DATA ELEMENTS */
BANDWIDTH = 76.0
CENTER_FILTER_WAVELENGTH = 444.0
RADIANCE_OFFSET = 0.355759
RADIANCE_SCALING_FACTOR = 0.00082529
REFLECTANCE_SCALING_FACTOR = 4.442e-05
MEX:REFLECTANCE_OFFSET = 0.0191482
/* IMAGE OBJECT DEFINITIONS */
OBJECT = IMAGE
  INTERCHANGE_FORMAT = BINARY
  LINES = 2110
  LINE_SAMPLES = 1582
  SAMPLE_TYPE = UNSIGNED_INTEGER
  SAMPLE_BITS = 8
  BANDS = 1
  BAND_STORAGE_TYPE = BAND_SEQUENTIAL
  MAXIMUM = 253
  MEAN = 147.385
  MINIMUM = 3
  STANDARD_DEVIATION = 22.8114
END_OBJECT = IMAGE
/* MAP OBJECT DEFINITIONS */
OBJECT = IMAGE_MAP_PROJECTION
  ^DATA_SET_MAP_PROJECTION_CATALOG= "DSMAP.CAT"
  A_AXIS_RADIUS = 3396.0
  B_AXIS_RADIUS = 3396.0
  C_AXIS_RADIUS = 3396.0
  CENTER_LATITUDE = 0.0
  CENTER_LONGITUDE = 319.0
  COORDINATE_SYSTEM_NAME = PLANETOGRAPHIC
  COORDINATE_SYSTEM_TYPE = "BODY-FIXED ROTATING"
  EASTERNMOST_LONGITUDE = 321.508
  FIRST_STANDARD_PARALLEL = "N/A"
  LINE_FIRST_PIXEL = 1
  LINE_LAST_PIXEL = 2110
  LINE_PROJECTION_OFFSET = -83905.875
  MAP_PROJECTION_ROTATION = 0.0
  MAP_PROJECTION_TYPE = SINUSOIDAL
  MAP_RESOLUTION = 1185.42760773333
  MAP_SCALE = 0.05
  MAXIMUM_LATITUDE = -70.7684
  MINIMUM_LATITUDE = -72.8903
  POSITIVE_LONGITUDE_DIRECTION = EAST
  REFERENCE_LATITUDE = "N/A"
  REFERENCE_LONGITUDE = "N/A"
  SAMPLE_FIRST_PIXEL = 1
  SAMPLE_LAST_PIXEL = 1582
  SAMPLE_PROJECTION_OFFSET = 603.625
  SECOND_STANDARD_PARALLEL = "N/A"
  WESTERNMOST_LONGITUDE = 317.067
END_OBJECT = IMAGE_MAP_PROJECTION
/* The JPEG2000 image data file associated with this label. */
OBJECT = COMPRESSED_FILE
  FILE_NAME = "H2526_0000_BL3.JP2"
  RECORD_TYPE = UNDEFINED
  FILE_RECORDS = UNK
  ENCODING_TYPE = "JP2"
  INTERCHANGE_FORMAT = BINARY
  UNCOMPRESSED_FILE_NAME = "H2526_0000_BL3.IMG"
  REQUIRED_STORAGE_BYTES = "3357004"
  ^DESCRIPTION = "JP2INFO.TXT"
END_OBJECT = COMPRESSED_FILE
END
