PDS_VERSION_ID = PDS3
/* FILE DATA ELEMENTS */
RECORD_TYPE = STREAM
/* POINTERS TO DATA OBJECTS */
^COMPRESSED_FILE = "H2526_0001_GR3.JP2"
/* IDENTIFICATION DATA ELEMENTS */
DATA_SET_ID = "MEX-M-HRSC-5-REFDR-MAPPROJECTED-V3.0"
DATA_SET_NAME = "MARS EXPRESS HRSC MAP PROJECTED REFDR V3.0"
DETECTOR_ID = MEX_HRSC_GREEN
EVENT_TYPE = "MARS-REGIONAL-MAPPING-Im-Fl"
INSTRUMENT_HOST_ID = MEX
INSTRUMENT_HOST_NAME = "MARS EXPRESS"
INSTRUMENT_ID = HRSC
INSTRUMENT_NAME = "HIGH RESOLUTION STEREO CAMERA"
MISSION_NAME = "MARS EXPRESS"
MISSION_PHASE_NAME = ME_Phase_1
PROCESSING_LEVEL_ID = 3
PRODUCT_CREATION_TIME = 2016-04-07T06:49:26.000Z
PRODUCT_ID = "H2526_0001_GR3.JP2"
RELEASE_ID = 0031
REVISION_ID = 0000
/* QUALITY DATA ELEMENTS */
DATA_QUALITY_ID = 1
DATA_QUALITY_DESC = "Data calculated based on original SPICE kernels"
/* TIME DATA ELEMENTS */
SPACECRAFT_CLOCK_START_COUNT = "1/0084067564.57956"
SPACECRAFT_CLOCK_STOP_COUNT = "1/0084068041.15699"
START_TIME = 2005-12-31T00:06:57.563Z
STOP_TIME = 2005-12-31T00:11:26.773Z
/* ORBITAL DATA ELEMENTS */
ASCENDING_NODE_LONGITUDE = 175.26
MAXIMUM_RESOLUTION = 94.6
FOOTPRINT_POINT_LATITUDE = (-46.2025,-46.2169,-46.2331,-46.2435, -46.2521,-46.2615,-45.8841,-45.2654, -44.7635,-44.3847,-43.8714,-43.6126, -43.3535,-43.091,-42.8273,-42.5609, -42.1585,-41.7535,-41.3444,-40.9317, -40.654,-40.3744,-39.9512,-39.5244, -39.2379,-38.9483,-38.6568,-38.3637, -38.0686,-37.7707,-37.4711,-37.1697, -36.8657,-36.5596,-36.2513,-35.9416, -35.6295,-35.3153,-34.998,-34.6791, -34.3571,-34.0328,-33.7066,-33.3772, -33.0457,-32.713,-32.3816,-32.0513, -31.7222,-31.7208,-31.7259,-31.7292, -31.7302,-31.7299,-31.728,-31.7248, -31.7202,-32.0454,-32.3735,-32.8682, -33.1993,-33.5278,-33.8534,-34.1767, -34.4979,-34.8159,-35.1299,-35.4429, -35.7547,-36.0649,-36.3735,-36.68, -36.9825,-37.2837,-37.5835,-37.8788, -38.321,-38.6115,-38.902,-39.1895, -39.4744,-39.8996,-40.1815,-40.4609, -40.738,-41.0143,-41.2873,-41.6955, -42.0983,-42.3663,-42.6303,-42.8938, -43.1552,-43.544,-43.9282,-44.5655, -45.0661,-45.5616,-46.0511,-46.2025)
FOOTPRINT_POINT_LONGITUDE = (323.19,323.622,324.191,324.624,325.058 ,325.683,325.832,325.868,325.898, 325.916,325.947,325.959,325.972,325.985 ,326.001,326.016,326.039,326.059, 326.078,326.097,326.109,326.121,326.14, 326.158,326.17,326.183,326.195,326.208, 326.219,326.231,326.243,326.255,326.267 ,326.278,326.29,326.299,326.309,326.319 ,326.329,326.339,326.35,326.36,326.37, 326.38,326.391,326.4,326.41,326.419, 326.428,326.126,325.684,325.244,324.939 ,324.499,323.957,323.483,323.076, 322.805,322.816,322.832,322.843,322.852 ,322.861,322.87,322.878,322.884,322.887 ,322.891,322.896,322.902,322.91,322.918 ,322.92,322.924,322.929,322.929,322.934 ,322.934,322.937,322.936,322.937, 322.937,322.938,322.937,322.936,322.936 ,322.933,322.931,322.926,322.923, 322.919,322.914,322.91,322.901,322.889, 322.88,322.865,322.851,322.836,323.19)
ORBIT_NUMBER = 2526
ORBITAL_ECCENTRICITY = 0.572
ORBITAL_INCLINATION = 86.63
ORBITAL_SEMIMAJOR_AXIS = 8527.05
PERIAPSIS_ALTITUDE = 277.26
PERIAPSIS_ARGUMENT_ANGLE = 274.39
PERIAPSIS_TIME = 2005-12-30T23:56:48.000Z
SPACECRAFT_ORIENTATION = (0.0,-1.0,0.0)
^MEX_ORIENTATION_DESC = "MEX_ORIENTATION_DESC.TXT"
SPACECRAFT_POINTING_MODE = ACROSSTRACK
^MEX_POINTING_DESC = "MEX_POINTING_DESC.TXT"
RIGHT_ASCENSION = -1e+32
DECLINATION = -1e+32
OFFSET_ANGLE = -0.07
SPACECRAFT_SOLAR_DISTANCE = 2.2888e+08
TARGET_NAME = MARS
/* CAMERA DATA ELEMENTS */
DETECTOR_TEMPERATURE = 19.7978
FOCAL_PLANE_TEMPERATURE = 9.195
INST_CMPRS_NAME = "DISCRETE COSINE TRANSFORMATION (DCT)"
INST_CMPRS_RATIO = 12.4291
INST_CMPRS_QUALITY = 0
INST_CMPRS_QUANTZ_TBL_ID = 0
INSTRUMENT_TEMPERATURE = 13.4769
LENS_TEMPERATURE = 8.7872
MACROPIXEL_SIZE = 4
MISSING_FRAMES = 0
PIXEL_SUBSAMPLING_FLAG = N
SIGNAL_CHAIN_ID = 2
/* RADIOMETRIC DATA ELEMENTS */
BANDWIDTH = 88.0
CENTER_FILTER_WAVELENGTH = 538.0
RADIANCE_OFFSET = 1.23739
RADIANCE_SCALING_FACTOR = 0.00387045
REFLECTANCE_SCALING_FACTOR = 0.00017457
MEX:REFLECTANCE_OFFSET = 0.0558104
/* IMAGE OBJECT DEFINITIONS */
OBJECT = IMAGE
  INTERCHANGE_FORMAT = BINARY
  LINES = 8619
  LINE_SAMPLES = 1918
  SAMPLE_TYPE = UNSIGNED_INTEGER
  SAMPLE_BITS = 8
  BANDS = 1
  BAND_STORAGE_TYPE = BAND_SEQUENTIAL
  MAXIMUM = 255
  MEAN = 151.492
  MINIMUM = 1
  STANDARD_DEVIATION = 20.7667
END_OBJECT = IMAGE
/* MAP OBJECT DEFINITIONS */
OBJECT = IMAGE_MAP_PROJECTION
  ^DATA_SET_MAP_PROJECTION_CATALOG= "DSMAP.CAT"
  A_AXIS_RADIUS = 3396.0
  B_AXIS_RADIUS = 3396.0
  C_AXIS_RADIUS = 3396.0
  CENTER_LATITUDE = 0.0
  CENTER_LONGITUDE = 325.0
  COORDINATE_SYSTEM_NAME = PLANETOGRAPHIC
  COORDINATE_SYSTEM_TYPE = "BODY-FIXED ROTATING"
  EASTERNMOST_LONGITUDE = 326.428
  FIRST_STANDARD_PARALLEL = "N/A"
  LINE_FIRST_PIXEL = 1
  LINE_LAST_PIXEL = 8619
  LINE_PROJECTION_OFFSET = -18799.875
  MAP_PROJECTION_ROTATION = 0.0
  MAP_PROJECTION_TYPE = SINUSOIDAL
  MAP_RESOLUTION = 592.713803866667
  MAP_SCALE = 0.1
  MAXIMUM_LATITUDE = -31.7202
  MINIMUM_LATITUDE = -46.2615
  POSITIVE_LONGITUDE_DIRECTION = EAST
  REFERENCE_LATITUDE = "N/A"
  REFERENCE_LONGITUDE = "N/A"
  SAMPLE_FIRST_PIXEL = 1
  SAMPLE_LAST_PIXEL = 1918
  SAMPLE_PROJECTION_OFFSET = 1147.875
  SECOND_STANDARD_PARALLEL = "N/A"
  WESTERNMOST_LONGITUDE = 322.805
END_OBJECT = IMAGE_MAP_PROJECTION
/* The JPEG2000 image data file associated with this label. */
OBJECT = COMPRESSED_FILE
  FILE_NAME = "H2526_0001_GR3.JP2"
  RECORD_TYPE = UNDEFINED
  FILE_RECORDS = UNK
  ENCODING_TYPE = "JP2"
  INTERCHANGE_FORMAT = BINARY
  UNCOMPRESSED_FILE_NAME = "H2526_0001_GR3.IMG"
  REQUIRED_STORAGE_BYTES = "16550422"
  ^DESCRIPTION = "JP2INFO.TXT"
END_OBJECT = COMPRESSED_FILE
END
