PDS_VERSION_ID = PDS3
/* FILE DATA ELEMENTS */
RECORD_TYPE = STREAM
/* POINTERS TO DATA OBJECTS */
^COMPRESSED_FILE = "H2526_0001_IR3.JP2"
/* IDENTIFICATION DATA ELEMENTS */
DATA_SET_ID = "MEX-M-HRSC-5-REFDR-MAPPROJECTED-V3.0"
DATA_SET_NAME = "MARS EXPRESS HRSC MAP PROJECTED REFDR V3.0"
DETECTOR_ID = MEX_HRSC_IR
EVENT_TYPE = "MARS-REGIONAL-MAPPING-Im-Fl"
INSTRUMENT_HOST_ID = MEX
INSTRUMENT_HOST_NAME = "MARS EXPRESS"
INSTRUMENT_ID = HRSC
INSTRUMENT_NAME = "HIGH RESOLUTION STEREO CAMERA"
MISSION_NAME = "MARS EXPRESS"
MISSION_PHASE_NAME = ME_Phase_1
PROCESSING_LEVEL_ID = 3
PRODUCT_CREATION_TIME = 2016-04-07T06:49:26.000Z
PRODUCT_ID = "H2526_0001_IR3.JP2"
RELEASE_ID = 0031
REVISION_ID = 0000
/* QUALITY DATA ELEMENTS */
DATA_QUALITY_ID = 1
DATA_QUALITY_DESC = "Data calculated based on original SPICE kernels"
/* TIME DATA ELEMENTS */
SPACECRAFT_CLOCK_START_COUNT = "1/0084067564.57956"
SPACECRAFT_CLOCK_STOP_COUNT = "1/0084068041.15699"
START_TIME = 2005-12-31T00:06:20.461Z
STOP_TIME = 2005-12-31T00:10:24.569Z
/* ORBITAL DATA ELEMENTS */
ASCENDING_NODE_LONGITUDE = 175.26
MAXIMUM_RESOLUTION = 93
FOOTPRINT_POINT_LATITUDE = (-46.2565,-46.2715,-46.2858,-46.2983, -46.315,-46.3224,-46.3281,-45.6531, -45.166,-44.788,-44.2862,-44.0297, -43.7706,-43.5181,-43.2624,-42.9983, -42.7367,-42.4655,-42.1945,-41.7825, -41.5093,-41.2374,-40.9634,-40.6834, -40.4107,-39.987,-39.7061,-39.4192, -39.1323,-38.6956,-38.2555,-37.9618, -37.6601,-37.21,-36.9053,-36.4478, -35.9836,-35.6742,-35.3608,-35.0451, -34.7276,-34.405,-34.0803,-33.7539, -33.425,-33.0925,-32.7576,-32.4212, -32.081,-31.7571,-31.761,-31.7652, -31.7661,-31.7595,-31.7543,-31.7484, -31.7383,-32.0809,-32.417,-32.9196, -33.2553,-33.585,-33.9124,-34.2367, -34.5606,-34.8717,-35.179,-35.4894, -35.9537,-36.2629,-36.5781,-36.8857, -37.1847,-37.486,-37.7844,-38.0758, -38.3722,-38.8032,-39.0927,-39.3771, -39.6613,-40.0844,-40.3666,-40.6437, -41.0578,-41.4721,-41.737,-42.015, -42.283,-42.5464,-42.8042,-43.0703, -43.3276,-43.8344,-44.0954,-44.3466, -44.7231,-45.3442,-45.8343,-46.2565)
FOOTPRINT_POINT_LONGITUDE = (322.954,323.338,323.746,324.156, 324.848,325.258,325.696,325.778,325.802 ,325.826,325.851,325.866,325.881, 325.891,325.902,325.916,325.928,325.945 ,325.959,325.977,325.99,326.002,326.013 ,326.027,326.036,326.054,326.064, 326.077,326.087,326.105,326.121,326.131 ,326.144,326.159,326.17,326.185,326.2, 326.208,326.217,326.226,326.234,326.244 ,326.253,326.262,326.27,326.279,326.288 ,326.296,326.304,326.189,325.876, 325.375,325.0,324.563,324.125,323.562, 322.958,322.968,322.976,322.989,322.998 ,323.006,323.013,323.02,323.027,323.029 ,323.03,323.033,323.038,323.043,323.049 ,323.053,323.055,323.057,323.059, 323.059,323.061,323.059,323.06,323.058, 323.057,323.056,323.055,323.053,323.049 ,323.047,323.042,323.036,323.033, 323.028,323.021,323.017,323.011,322.996 ,322.992,322.985,322.974,322.955, 322.938,322.954)
ORBIT_NUMBER = 2526
ORBITAL_ECCENTRICITY = 0.572
ORBITAL_INCLINATION = 86.63
ORBITAL_SEMIMAJOR_AXIS = 8527.05
PERIAPSIS_ALTITUDE = 277.26
PERIAPSIS_ARGUMENT_ANGLE = 274.39
PERIAPSIS_TIME = 2005-12-30T23:56:48.000Z
SPACECRAFT_ORIENTATION = (0.0,-1.0,0.0)
^MEX_ORIENTATION_DESC = "MEX_ORIENTATION_DESC.TXT"
SPACECRAFT_POINTING_MODE = ACROSSTRACK
^MEX_POINTING_DESC = "MEX_POINTING_DESC.TXT"
RIGHT_ASCENSION = -1e+32
DECLINATION = -1e+32
OFFSET_ANGLE = -0.07
SPACECRAFT_SOLAR_DISTANCE = 2.2888e+08
TARGET_NAME = MARS
/* CAMERA DATA ELEMENTS */
DETECTOR_TEMPERATURE = 19.39
FOCAL_PLANE_TEMPERATURE = 9.195
INST_CMPRS_NAME = "DISCRETE COSINE TRANSFORMATION (DCT)"
INST_CMPRS_RATIO = 14.9835
INST_CMPRS_QUALITY = 0
INST_CMPRS_QUANTZ_TBL_ID = 0
INSTRUMENT_TEMPERATURE = 13.4769
LENS_TEMPERATURE = 8.7872
MACROPIXEL_SIZE = 4
MISSING_FRAMES = 1
PIXEL_SUBSAMPLING_FLAG = N
SIGNAL_CHAIN_ID = 2
/* RADIOMETRIC DATA ELEMENTS */
BANDWIDTH = 81.0
CENTER_FILTER_WAVELENGTH = 955.5
RADIANCE_OFFSET = 0.719693
RADIANCE_SCALING_FACTOR = 0.00396116
REFLECTANCE_SCALING_FACTOR = 0.000447683
MEX:REFLECTANCE_OFFSET = 0.0813384
/* IMAGE OBJECT DEFINITIONS */
OBJECT = IMAGE
  INTERCHANGE_FORMAT = BINARY
  LINES = 8619
  LINE_SAMPLES = 1918
  SAMPLE_TYPE = UNSIGNED_INTEGER
  SAMPLE_BITS = 8
  BANDS = 1
  BAND_STORAGE_TYPE = BAND_SEQUENTIAL
  MAXIMUM = 255
  MEAN = 105.525
  MINIMUM = 1
  STANDARD_DEVIATION = 22.5285
END_OBJECT = IMAGE
/* MAP OBJECT DEFINITIONS */
OBJECT = IMAGE_MAP_PROJECTION
  ^DATA_SET_MAP_PROJECTION_CATALOG= "DSMAP.CAT"
  A_AXIS_RADIUS = 3396.0
  B_AXIS_RADIUS = 3396.0
  C_AXIS_RADIUS = 3396.0
  CENTER_LATITUDE = 0.0
  CENTER_LONGITUDE = 325.0
  COORDINATE_SYSTEM_NAME = PLANETOGRAPHIC
  COORDINATE_SYSTEM_TYPE = "BODY-FIXED ROTATING"
  EASTERNMOST_LONGITUDE = 326.304
  FIRST_STANDARD_PARALLEL = "N/A"
  LINE_FIRST_PIXEL = 1
  LINE_LAST_PIXEL = 8619
  LINE_PROJECTION_OFFSET = -18799.875
  MAP_PROJECTION_ROTATION = 0.0
  MAP_PROJECTION_TYPE = SINUSOIDAL
  MAP_RESOLUTION = 592.713803866667
  MAP_SCALE = 0.1
  MAXIMUM_LATITUDE = -31.7383
  MINIMUM_LATITUDE = -46.3281
  POSITIVE_LONGITUDE_DIRECTION = EAST
  REFERENCE_LATITUDE = "N/A"
  REFERENCE_LONGITUDE = "N/A"
  SAMPLE_FIRST_PIXEL = 1
  SAMPLE_LAST_PIXEL = 1918
  SAMPLE_PROJECTION_OFFSET = 1147.875
  SECOND_STANDARD_PARALLEL = "N/A"
  WESTERNMOST_LONGITUDE = 322.938
END_OBJECT = IMAGE_MAP_PROJECTION
/* The JPEG2000 image data file associated with this label. */
OBJECT = COMPRESSED_FILE
  FILE_NAME = "H2526_0001_IR3.JP2"
  RECORD_TYPE = UNDEFINED
  FILE_RECORDS = UNK
  ENCODING_TYPE = "JP2"
  INTERCHANGE_FORMAT = BINARY
  UNCOMPRESSED_FILE_NAME = "H2526_0001_IR3.IMG"
  REQUIRED_STORAGE_BYTES = "16550422"
  ^DESCRIPTION = "JP2INFO.TXT"
END_OBJECT = COMPRESSED_FILE
END
