PDS_VERSION_ID = PDS3
/* FILE DATA ELEMENTS */
RECORD_TYPE = STREAM
/* POINTERS TO DATA OBJECTS */
^COMPRESSED_FILE = "H2527_0000_GR3.JP2"
/* IDENTIFICATION DATA ELEMENTS */
DATA_SET_ID = "MEX-M-HRSC-5-REFDR-MAPPROJECTED-V3.0"
DATA_SET_NAME = "MARS EXPRESS HRSC MAP PROJECTED REFDR V3.0"
DETECTOR_ID = MEX_HRSC_GREEN
EVENT_TYPE = "MARS-REGIONAL-MAPPING-Te-Im-Fl"
INSTRUMENT_HOST_ID = MEX
INSTRUMENT_HOST_NAME = "MARS EXPRESS"
INSTRUMENT_ID = HRSC
INSTRUMENT_NAME = "HIGH RESOLUTION STEREO CAMERA"
MISSION_NAME = "MARS EXPRESS"
MISSION_PHASE_NAME = ME_Phase_1
PROCESSING_LEVEL_ID = 3
PRODUCT_CREATION_TIME = 2016-04-07T06:49:26.000Z
PRODUCT_ID = "H2527_0000_GR3.JP2"
RELEASE_ID = 0031
REVISION_ID = 0000
/* QUALITY DATA ELEMENTS */
DATA_QUALITY_ID = 1
DATA_QUALITY_DESC = "Data calculated based on original SPICE kernels"
/* TIME DATA ELEMENTS */
SPACECRAFT_CLOCK_START_COUNT = "1/0084091542.57150"
SPACECRAFT_CLOCK_STOP_COUNT = "1/0084092021.16568"
START_TIME = 2005-12-31T06:49:17.336Z
STOP_TIME = 2005-12-31T06:51:56.147Z
/* ORBITAL DATA ELEMENTS */
ASCENDING_NODE_LONGITUDE = 175.24
MAXIMUM_RESOLUTION = 87.3
FOOTPRINT_POINT_LATITUDE = (-48.779,-48.7918,-48.8077,-48.8194, -48.8322,-48.8446,-48.6755,-48.3529, -48.1069,-47.7786,-47.5293,-47.3627, -47.1966,-46.9437,-46.7751,-46.6066, -46.4354,-46.2644,-46.0937,-45.9207, -45.7475,-45.5744,-45.3992,-45.2237, -45.0483,-44.8709,-44.6932,-44.5158, -44.3358,-44.066,-43.8846,-43.7023, -43.5204,-43.3361,-43.06,-42.7806, -42.5944,-42.4062,-42.218,-42.0287, -41.8379,-41.6475,-41.4546,-41.262, -40.9707,-40.776,-40.4813,-40.2847, -40.0851,-39.8859,-39.8423,-39.8387, -39.8343,-39.8276,-39.8234,-39.8166, -39.8057,-39.7969,-40.0918,-40.2894, -40.4853,-40.6815,-40.8753,-41.1662, -41.3583,-41.6456,-41.8354,-42.0254, -42.2128,-42.4005,-42.6797,-42.8652, -43.1413,-43.3249,-43.5078,-43.689, -43.9609,-44.1398,-44.319,-44.4975, -44.6745,-44.8517,-45.1151,-45.2899, -45.5513,-45.7238,-45.8965,-46.0681, -46.2383,-46.4087,-46.5785,-46.7464, -46.9147,-47.0831,-47.4144,-47.5804, -47.9087,-48.2353,-48.5574,-48.779)
FOOTPRINT_POINT_LONGITUDE = (224.832,225.175,225.651,226.048, 226.551,227.161,227.284,227.306,227.325 ,227.35,227.369,227.382,227.393,227.411 ,227.423,227.434,227.446,227.457, 227.468,227.479,227.49,227.502,227.513, 227.524,227.535,227.546,227.556,227.567 ,227.578,227.594,227.604,227.615, 227.626,227.636,227.651,227.667,227.677 ,227.686,227.696,227.706,227.716, 227.725,227.735,227.745,227.758,227.768 ,227.781,227.79,227.8,227.811,227.425, 226.917,226.529,226.081,225.842,225.513 ,225.064,224.735,224.605,224.605, 224.604,224.604,224.603,224.602,224.601 ,224.598,224.597,224.594,224.592, 224.589,224.585,224.581,224.576,224.573 ,224.57,224.566,224.56,224.556,224.552, 224.548,224.543,224.539,224.532,224.527 ,224.519,224.513,224.508,224.502, 224.496,224.49,224.483,224.477,224.471, 224.464,224.45,224.443,224.429,224.412, 224.395,224.832)
ORBIT_NUMBER = 2527
ORBITAL_ECCENTRICITY = 0.572
ORBITAL_INCLINATION = 86.63
ORBITAL_SEMIMAJOR_AXIS = 8527.3
PERIAPSIS_ALTITUDE = 276.42
PERIAPSIS_ARGUMENT_ANGLE = 274.2
PERIAPSIS_TIME = 2005-12-31T06:39:49.000Z
SPACECRAFT_ORIENTATION = (0.0,-1.0,0.0)
^MEX_ORIENTATION_DESC = "MEX_ORIENTATION_DESC.TXT"
SPACECRAFT_POINTING_MODE = NADIR
^MEX_POINTING_DESC = "MEX_POINTING_DESC.TXT"
RIGHT_ASCENSION = -1e+32
DECLINATION = -1e+32
OFFSET_ANGLE = -1e+32
SPACECRAFT_SOLAR_DISTANCE = 2.28934e+08
TARGET_NAME = MARS
/* CAMERA DATA ELEMENTS */
DETECTOR_TEMPERATURE = 18.3705
FOCAL_PLANE_TEMPERATURE = 9.195
INST_CMPRS_NAME = "DISCRETE COSINE TRANSFORMATION (DCT)"
INST_CMPRS_RATIO = 8.31511
INST_CMPRS_QUALITY = 0
INST_CMPRS_QUANTZ_TBL_ID = 0
INSTRUMENT_TEMPERATURE = 11.4379
LENS_TEMPERATURE = 9.6028
MACROPIXEL_SIZE = 4
MISSING_FRAMES = 0
PIXEL_SUBSAMPLING_FLAG = N
SIGNAL_CHAIN_ID = 2
/* RADIOMETRIC DATA ELEMENTS */
BANDWIDTH = 88.0
CENTER_FILTER_WAVELENGTH = 538.0
RADIANCE_OFFSET = 1.07525
RADIANCE_SCALING_FACTOR = 0.00473874
REFLECTANCE_SCALING_FACTOR = 0.000213835
MEX:REFLECTANCE_OFFSET = 0.0485206
/* IMAGE OBJECT DEFINITIONS */
OBJECT = IMAGE
  INTERCHANGE_FORMAT = BINARY
  LINES = 5653
  LINE_SAMPLES = 1529
  SAMPLE_TYPE = UNSIGNED_INTEGER
  SAMPLE_BITS = 8
  BANDS = 1
  BAND_STORAGE_TYPE = BAND_SEQUENTIAL
  MAXIMUM = 255
  MEAN = 156.38
  MINIMUM = 1
  STANDARD_DEVIATION = 21.316
END_OBJECT = IMAGE
/* MAP OBJECT DEFINITIONS */
OBJECT = IMAGE_MAP_PROJECTION
  ^DATA_SET_MAP_PROJECTION_CATALOG= "DSMAP.CAT"
  A_AXIS_RADIUS = 3396.0
  B_AXIS_RADIUS = 3396.0
  C_AXIS_RADIUS = 3396.0
  CENTER_LATITUDE = 0.0
  CENTER_LONGITUDE = 226.0
  COORDINATE_SYSTEM_NAME = PLANETOGRAPHIC
  COORDINATE_SYSTEM_TYPE = "BODY-FIXED ROTATING"
  EASTERNMOST_LONGITUDE = 227.811
  FIRST_STANDARD_PARALLEL = "N/A"
  LINE_FIRST_PIXEL = 1
  LINE_LAST_PIXEL = 5653
  LINE_PROJECTION_OFFSET = -23588.875
  MAP_PROJECTION_ROTATION = 0.0
  MAP_PROJECTION_TYPE = SINUSOIDAL
  MAP_RESOLUTION = 592.713803866667
  MAP_SCALE = 0.1
  MAXIMUM_LATITUDE = -39.7969
  MINIMUM_LATITUDE = -48.8446
  POSITIVE_LONGITUDE_DIRECTION = EAST
  REFERENCE_LATITUDE = "N/A"
  REFERENCE_LONGITUDE = "N/A"
  SAMPLE_FIRST_PIXEL = 1
  SAMPLE_LAST_PIXEL = 1529
  SAMPLE_PROJECTION_OFFSET = 667.125
  SECOND_STANDARD_PARALLEL = "N/A"
  WESTERNMOST_LONGITUDE = 224.395
END_OBJECT = IMAGE_MAP_PROJECTION
/* The JPEG2000 image data file associated with this label. */
OBJECT = COMPRESSED_FILE
  FILE_NAME = "H2527_0000_GR3.JP2"
  RECORD_TYPE = UNDEFINED
  FILE_RECORDS = UNK
  ENCODING_TYPE = "JP2"
  INTERCHANGE_FORMAT = BINARY
  UNCOMPRESSED_FILE_NAME = "H2527_0000_GR3.IMG"
  REQUIRED_STORAGE_BYTES = "8663314"
  ^DESCRIPTION = "JP2INFO.TXT"
END_OBJECT = COMPRESSED_FILE
END
