PDS_VERSION_ID = PDS3
/* FILE DATA ELEMENTS */
RECORD_TYPE = STREAM
/* POINTERS TO DATA OBJECTS */
^COMPRESSED_FILE = "H2530_0000_P23.JP2"
/* IDENTIFICATION DATA ELEMENTS */
DATA_SET_ID = "MEX-M-HRSC-5-REFDR-MAPPROJECTED-V3.0"
DATA_SET_NAME = "MARS EXPRESS HRSC MAP PROJECTED REFDR V3.0"
DETECTOR_ID = MEX_HRSC_P2
EVENT_TYPE = "MARS-REGIONAL-MAPPING-Gl-Pf-La"
INSTRUMENT_HOST_ID = MEX
INSTRUMENT_HOST_NAME = "MARS EXPRESS"
INSTRUMENT_ID = HRSC
INSTRUMENT_NAME = "HIGH RESOLUTION STEREO CAMERA"
MISSION_NAME = "MARS EXPRESS"
MISSION_PHASE_NAME = ME_Phase_1
PROCESSING_LEVEL_ID = 3
PRODUCT_CREATION_TIME = 2016-04-07T13:48:30.000Z
PRODUCT_ID = "H2530_0000_P23.JP2"
RELEASE_ID = 0032
REVISION_ID = 0000
/* QUALITY DATA ELEMENTS */
DATA_QUALITY_ID = 1
DATA_QUALITY_DESC = "Data calculated based on original SPICE kernels"
/* TIME DATA ELEMENTS */
SPACECRAFT_CLOCK_START_COUNT = "1/0084163823.56195"
SPACECRAFT_CLOCK_STOP_COUNT = "1/0084164078.37738"
START_TIME = 2006-01-01T02:51:11.190Z
STOP_TIME = 2006-01-01T02:54:29.767Z
/* ORBITAL DATA ELEMENTS */
ASCENDING_NODE_LONGITUDE = 175.17
MAXIMUM_RESOLUTION = 47.5
FOOTPRINT_POINT_LATITUDE = (-78.4555,-78.5482,-78.6155,-78.4873, -78.2628,-77.9278,-77.6965,-77.4613, -77.2268,-76.8737,-76.6378,-76.4037, -76.1704,-75.8204,-75.5868,-75.348, -75.1063,-74.8669,-74.6224,-74.3834, -74.1423,-73.8995,-73.6588,-73.2865, -72.9142,-72.6662,-72.4173,-72.0448, -71.7924,-71.5348,-71.2789,-71.0248, -70.7703,-70.515,-70.2545,-69.9909, -69.7286,-69.3349,-68.9418,-68.6803, -68.4185,-68.1575,-67.8966,-67.6367, -67.2476,-66.9891,-66.7305,-66.4363, -66.2826,-66.1872,-66.1517,-66.1199, -66.0733,-66.2134,-66.5174,-66.7745, -67.0322,-67.29,-67.6777,-67.9364, -68.1955,-68.455,-68.715,-69.105, -69.3657,-69.627,-69.8878,-70.148, -70.5372,-70.7911,-71.0446,-71.2948, -71.5519,-71.8033,-72.1732,-72.5427, -72.7894,-73.0363,-73.4051,-73.6428, -73.8751,-74.1142,-74.4725,-74.8298, -75.0695,-75.3072,-75.5372,-75.7683, -76.0005,-76.2284,-76.4584,-76.6879, -76.9178,-77.1479,-77.3788,-77.6064, -77.8259,-78.1576,-78.3778,-78.4555)
FOOTPRINT_POINT_LONGITUDE = (279.461,281.041,282.299,283.17,283.441 ,283.83,284.08,284.323,284.557,284.891, 285.102,285.308,285.508,285.794,285.976 ,286.157,286.333,286.507,286.668, 286.831,286.985,287.133,287.278,287.489 ,287.697,287.83,287.957,288.142,288.262 ,288.379,288.495,288.609,288.719, 288.825,288.929,289.031,289.132,289.277 ,289.415,289.505,289.591,289.675, 289.757,289.837,289.954,290.03,290.103, 290.185,290.226,289.653,288.854,288.205 ,287.326,287.034,286.936,286.851, 286.763,286.672,286.532,286.435,286.334 ,286.231,286.125,285.959,285.844, 285.725,285.604,285.48,285.277,285.145, 285.009,284.876,284.725,284.578,284.351 ,284.114,283.949,283.779,283.514, 283.337,283.167,282.975,282.677,282.366 ,282.145,281.92,281.695,281.458,281.21, 280.965,280.704,280.435,280.154,279.861 ,279.553,279.242,278.93,278.429,278.08, 279.461)
ORBIT_NUMBER = 2530
ORBITAL_ECCENTRICITY = 0.572
ORBITAL_INCLINATION = 86.61
ORBITAL_SEMIMAJOR_AXIS = 8527.93
PERIAPSIS_ALTITUDE = 277.38
PERIAPSIS_ARGUMENT_ANGLE = 273.69
PERIAPSIS_TIME = 2006-01-01T02:49:06.000Z
SPACECRAFT_ORIENTATION = (0.0,-1.0,0.0)
^MEX_ORIENTATION_DESC = "MEX_ORIENTATION_DESC.TXT"
SPACECRAFT_POINTING_MODE = ACROSSTRACK
^MEX_POINTING_DESC = "MEX_POINTING_DESC.TXT"
RIGHT_ASCENSION = -1e+32
DECLINATION = -1e+32
OFFSET_ANGLE = -0.1
SPACECRAFT_SOLAR_DISTANCE = 2.29097e+08
TARGET_NAME = MARS
/* CAMERA DATA ELEMENTS */
DETECTOR_TEMPERATURE = 18.5744
FOCAL_PLANE_TEMPERATURE = 8.3794
INST_CMPRS_NAME = "DISCRETE COSINE TRANSFORMATION (DCT)"
INST_CMPRS_RATIO = 18.1074
INST_CMPRS_QUALITY = 0
INST_CMPRS_QUANTZ_TBL_ID = 0
INSTRUMENT_TEMPERATURE = 11.0301
LENS_TEMPERATURE = 8.9911
MACROPIXEL_SIZE = 4
MISSING_FRAMES = 0
PIXEL_SUBSAMPLING_FLAG = N
SIGNAL_CHAIN_ID = 3
/* RADIOMETRIC DATA ELEMENTS */
BANDWIDTH = 177.0
CENTER_FILTER_WAVELENGTH = 676.5
RADIANCE_OFFSET = 1.29104
RADIANCE_SCALING_FACTOR = 0.0110463
REFLECTANCE_SCALING_FACTOR = 0.000307407
MEX:REFLECTANCE_OFFSET = 0.0359282
/* IMAGE OBJECT DEFINITIONS */
OBJECT = IMAGE
  INTERCHANGE_FORMAT = BINARY
  LINES = 14971
  LINE_SAMPLES = 3838
  SAMPLE_TYPE = UNSIGNED_INTEGER
  SAMPLE_BITS = 8
  BANDS = 1
  BAND_STORAGE_TYPE = BAND_SEQUENTIAL
  MAXIMUM = 255
  MEAN = 123.688
  MINIMUM = 1
  STANDARD_DEVIATION = 39.985
END_OBJECT = IMAGE
/* MAP OBJECT DEFINITIONS */
OBJECT = IMAGE_MAP_PROJECTION
  ^DATA_SET_MAP_PROJECTION_CATALOG= "DSMAP.CAT"
  A_AXIS_RADIUS = 3396.0
  B_AXIS_RADIUS = 3396.0
  C_AXIS_RADIUS = 3396.0
  CENTER_LATITUDE = 0.0
  CENTER_LONGITUDE = 286.0
  COORDINATE_SYSTEM_NAME = PLANETOGRAPHIC
  COORDINATE_SYSTEM_TYPE = "BODY-FIXED ROTATING"
  EASTERNMOST_LONGITUDE = 290.226
  FIRST_STANDARD_PARALLEL = "N/A"
  LINE_FIRST_PIXEL = 1
  LINE_LAST_PIXEL = 14971
  LINE_PROJECTION_OFFSET = -78331.875
  MAP_PROJECTION_ROTATION = 0.0
  MAP_PROJECTION_TYPE = SINUSOIDAL
  MAP_RESOLUTION = 1185.42760773333
  MAP_SCALE = 0.05
  MAXIMUM_LATITUDE = -66.0733
  MINIMUM_LATITUDE = -78.6155
  POSITIVE_LONGITUDE_DIRECTION = EAST
  REFERENCE_LATITUDE = "N/A"
  REFERENCE_LONGITUDE = "N/A"
  SAMPLE_FIRST_PIXEL = 1
  SAMPLE_LAST_PIXEL = 3838
  SAMPLE_PROJECTION_OFFSET = 1874.125
  SECOND_STANDARD_PARALLEL = "N/A"
  WESTERNMOST_LONGITUDE = 278.08
END_OBJECT = IMAGE_MAP_PROJECTION
/* The JPEG2000 image data file associated with this label. */
OBJECT = COMPRESSED_FILE
  FILE_NAME = "H2530_0000_P23.JP2"
  RECORD_TYPE = UNDEFINED
  FILE_RECORDS = UNK
  ENCODING_TYPE = "JP2"
  INTERCHANGE_FORMAT = BINARY
  UNCOMPRESSED_FILE_NAME = "H2530_0000_P23.IMG"
  REQUIRED_STORAGE_BYTES = "57481726"
  ^DESCRIPTION = "JP2INFO.TXT"
END_OBJECT = COMPRESSED_FILE
END
