PDS_VERSION_ID = PDS3
/* FILE DATA ELEMENTS */
RECORD_TYPE = STREAM
/* POINTERS TO DATA OBJECTS */
^COMPRESSED_FILE = "H2533_0000_BL3.JP2"
/* IDENTIFICATION DATA ELEMENTS */
DATA_SET_ID = "MEX-M-HRSC-5-REFDR-MAPPROJECTED-V3.0"
DATA_SET_NAME = "MARS EXPRESS HRSC MAP PROJECTED REFDR V3.0"
DETECTOR_ID = MEX_HRSC_BLUE
EVENT_TYPE = "MARS-REGIONAL-STEREO-Gl-Pf-La"
INSTRUMENT_HOST_ID = MEX
INSTRUMENT_HOST_NAME = "MARS EXPRESS"
INSTRUMENT_ID = HRSC
INSTRUMENT_NAME = "HIGH RESOLUTION STEREO CAMERA"
MISSION_NAME = "MARS EXPRESS"
MISSION_PHASE_NAME = ME_Phase_1
PROCESSING_LEVEL_ID = 3
PRODUCT_CREATION_TIME = 2016-04-07T13:48:30.000Z
PRODUCT_ID = "H2533_0000_BL3.JP2"
RELEASE_ID = 0032
REVISION_ID = 0000
/* QUALITY DATA ELEMENTS */
DATA_QUALITY_ID = 1
DATA_QUALITY_DESC = "Data calculated based on original SPICE kernels"
/* TIME DATA ELEMENTS */
SPACECRAFT_CLOCK_START_COUNT = "1/0084236360.57947"
SPACECRAFT_CLOCK_STOP_COUNT = "1/0084236616.22762"
START_TIME = 2006-01-01T22:59:56.300Z
STOP_TIME = 2006-01-01T23:03:11.419Z
/* ORBITAL DATA ELEMENTS */
ASCENDING_NODE_LONGITUDE = 175.11
MAXIMUM_RESOLUTION = 90.8
FOOTPRINT_POINT_LATITUDE = (-79.5239,-79.637,-79.7407,-79.4736, -79.2554,-79.0367,-78.8175,-78.5977, -78.371,-78.1417,-77.7974,-77.5675, -77.222,-76.9914,-76.7608,-76.4143, -76.1831,-75.9517,-75.7128,-75.3525, -75.1121,-74.8716,-74.6311,-74.3906, -74.1501,-73.9095,-73.663,-73.4138, -73.0402,-72.7909,-72.5418,-72.2928, -72.0439,-71.7867,-71.5292,-71.272, -71.0149,-70.7579,-70.501,-70.1041, -69.8389,-69.574,-69.3091,-69.0447, -68.7807,-68.5167,-68.2532,-67.9896, -67.7262,-67.4633,-67.4084,-67.3626, -67.2983,-67.2549,-67.516,-67.7774, -68.0389,-68.3006,-68.5625,-68.8246, -69.0868,-69.3492,-69.6117,-69.8743, -70.137,-70.395,-70.7765,-71.031, -71.4128,-71.6673,-71.9181,-72.1642, -72.4102,-72.6562,-72.9021,-73.148, -73.3938,-73.6373,-73.8744,-74.1113, -74.3481,-74.5847,-74.8209,-75.0573, -75.4112,-75.6464,-75.8733,-76.0998, -76.326,-76.6646,-77.0023,-77.3389, -77.5626,-77.7859,-78.0085,-78.2298, -78.6553,-79.0778,-79.288,-79.5239)
FOOTPRINT_POINT_LONGITUDE = (337.341,338.814,340.28,341.579,342.017 ,342.438,342.842,343.231,343.611, 343.987,344.52,344.858,345.342,345.65, 345.945,346.37,346.641,346.903,347.162, 347.538,347.778,348.011,348.235,348.452 ,348.662,348.866,349.068,349.266, 349.551,349.735,349.912,350.084,350.251 ,350.418,350.581,350.739,350.893, 351.041,351.186,351.403,351.542,351.678 ,351.81,351.937,352.061,352.182,352.299 ,352.413,352.525,352.634,351.941,351.14 ,350.114,349.449,349.327,349.201,349.07 ,348.937,348.799,348.655,348.507, 348.353,348.196,348.034,347.866,347.699 ,347.442,347.263,346.982,346.79,346.594 ,346.396,346.191,345.979,345.761, 345.538,345.306,345.067,344.826,344.58, 344.327,344.056,343.768,343.503,343.062 ,342.753,342.449,342.13,341.797,341.281 ,340.735,340.157,339.749,339.332, 338.895,338.449,337.524,336.525,335.999 ,337.341)
ORBIT_NUMBER = 2533
ORBITAL_ECCENTRICITY = 0.572
ORBITAL_INCLINATION = 86.62
ORBITAL_SEMIMAJOR_AXIS = 8527.27
PERIAPSIS_ALTITUDE = 277.58
PERIAPSIS_ARGUMENT_ANGLE = 273.14
PERIAPSIS_TIME = 2006-01-01T22:58:17.000Z
SPACECRAFT_ORIENTATION = (0.0,-1.0,0.0)
^MEX_ORIENTATION_DESC = "MEX_ORIENTATION_DESC.TXT"
SPACECRAFT_POINTING_MODE = ACROSSTRACK
^MEX_POINTING_DESC = "MEX_POINTING_DESC.TXT"
RIGHT_ASCENSION = -1e+32
DECLINATION = -1e+32
OFFSET_ANGLE = 0.8
SPACECRAFT_SOLAR_DISTANCE = 2.29259e+08
TARGET_NAME = MARS
/* CAMERA DATA ELEMENTS */
DETECTOR_TEMPERATURE = 18.1666
FOCAL_PLANE_TEMPERATURE = 8.5833
INST_CMPRS_NAME = "DISCRETE COSINE TRANSFORMATION (DCT)"
INST_CMPRS_RATIO = 30.7104
INST_CMPRS_QUALITY = 0
INST_CMPRS_QUANTZ_TBL_ID = 0
INSTRUMENT_TEMPERATURE = 11.234
LENS_TEMPERATURE = 10.2145
MACROPIXEL_SIZE = 8
MISSING_FRAMES = 0
PIXEL_SUBSAMPLING_FLAG = N
SIGNAL_CHAIN_ID = 2
/* RADIOMETRIC DATA ELEMENTS */
BANDWIDTH = 76.0
CENTER_FILTER_WAVELENGTH = 444.0
RADIANCE_OFFSET = 0.314693
RADIANCE_SCALING_FACTOR = 0.000971518
REFLECTANCE_SCALING_FACTOR = 5.2464e-05
MEX:REFLECTANCE_OFFSET = 0.0169941
/* IMAGE OBJECT DEFINITIONS */
OBJECT = IMAGE
  INTERCHANGE_FORMAT = BINARY
  LINES = 7445
  LINE_SAMPLES = 2477
  SAMPLE_TYPE = UNSIGNED_INTEGER
  SAMPLE_BITS = 8
  BANDS = 1
  BAND_STORAGE_TYPE = BAND_SEQUENTIAL
  MAXIMUM = 255
  MEAN = 118.205
  MINIMUM = 1
  STANDARD_DEVIATION = 43.1537
END_OBJECT = IMAGE
/* MAP OBJECT DEFINITIONS */
OBJECT = IMAGE_MAP_PROJECTION
  ^DATA_SET_MAP_PROJECTION_CATALOG= "DSMAP.CAT"
  A_AXIS_RADIUS = 3396.0
  B_AXIS_RADIUS = 3396.0
  C_AXIS_RADIUS = 3396.0
  CENTER_LATITUDE = 0.0
  CENTER_LONGITUDE = 347.0
  COORDINATE_SYSTEM_NAME = PLANETOGRAPHIC
  COORDINATE_SYSTEM_TYPE = "BODY-FIXED ROTATING"
  EASTERNMOST_LONGITUDE = 352.634
  FIRST_STANDARD_PARALLEL = "N/A"
  LINE_FIRST_PIXEL = 1
  LINE_LAST_PIXEL = 7445
  LINE_PROJECTION_OFFSET = -39870.8125
  MAP_PROJECTION_ROTATION = 0.0
  MAP_PROJECTION_TYPE = SINUSOIDAL
  MAP_RESOLUTION = 592.713803866667
  MAP_SCALE = 0.1
  MAXIMUM_LATITUDE = -67.25490000000001
  MINIMUM_LATITUDE = -79.7407
  POSITIVE_LONGITUDE_DIRECTION = EAST
  REFERENCE_LATITUDE = "N/A"
  REFERENCE_LONGITUDE = "N/A"
  SAMPLE_FIRST_PIXEL = 1
  SAMPLE_LAST_PIXEL = 2477
  SAMPLE_PROJECTION_OFFSET = 1186.5625
  SECOND_STANDARD_PARALLEL = "N/A"
  WESTERNMOST_LONGITUDE = 335.999
END_OBJECT = IMAGE_MAP_PROJECTION
/* The JPEG2000 image data file associated with this label. */
OBJECT = COMPRESSED_FILE
  FILE_NAME = "H2533_0000_BL3.JP2"
  RECORD_TYPE = UNDEFINED
  FILE_RECORDS = UNK
  ENCODING_TYPE = "JP2"
  INTERCHANGE_FORMAT = BINARY
  UNCOMPRESSED_FILE_NAME = "H2533_0000_BL3.IMG"
  REQUIRED_STORAGE_BYTES = "18461081"
  ^DESCRIPTION = "JP2INFO.TXT"
END_OBJECT = COMPRESSED_FILE
END
