PDS_VERSION_ID = PDS3
/* FILE DATA ELEMENTS */
RECORD_TYPE = STREAM
/* POINTERS TO DATA OBJECTS */
^COMPRESSED_FILE = "H2533_0000_RE3.JP2"
/* IDENTIFICATION DATA ELEMENTS */
DATA_SET_ID = "MEX-M-HRSC-5-REFDR-MAPPROJECTED-V3.0"
DATA_SET_NAME = "MARS EXPRESS HRSC MAP PROJECTED REFDR V3.0"
DETECTOR_ID = MEX_HRSC_RED
EVENT_TYPE = "MARS-REGIONAL-STEREO-Gl-Pf-La"
INSTRUMENT_HOST_ID = MEX
INSTRUMENT_HOST_NAME = "MARS EXPRESS"
INSTRUMENT_ID = HRSC
INSTRUMENT_NAME = "HIGH RESOLUTION STEREO CAMERA"
MISSION_NAME = "MARS EXPRESS"
MISSION_PHASE_NAME = ME_Phase_1
PROCESSING_LEVEL_ID = 3
PRODUCT_CREATION_TIME = 2016-04-07T13:48:30.000Z
PRODUCT_ID = "H2533_0000_RE3.JP2"
RELEASE_ID = 0032
REVISION_ID = 0000
/* QUALITY DATA ELEMENTS */
DATA_QUALITY_ID = 1
DATA_QUALITY_DESC = "Data calculated based on original SPICE kernels"
/* TIME DATA ELEMENTS */
SPACECRAFT_CLOCK_START_COUNT = "1/0084236360.57947"
SPACECRAFT_CLOCK_STOP_COUNT = "1/0084236616.22762"
START_TIME = 2006-01-01T23:00:13.341Z
STOP_TIME = 2006-01-01T23:03:34.269Z
/* ORBITAL DATA ELEMENTS */
ASCENDING_NODE_LONGITUDE = 175.11
MAXIMUM_RESOLUTION = 96.1
FOOTPRINT_POINT_LATITUDE = (-79.4133,-79.5202,-79.6178,-79.7065, -79.3347,-79.1078,-78.8816,-78.6533, -78.43,-78.2003,-77.8567,-77.6276, -77.2834,-77.0537,-76.8181,-76.5806, -76.3431,-76.105,-75.868,-75.5131, -75.2741,-75.0362,-74.6687,-74.4225, -74.054,-73.8082,-73.5626,-73.3176, -72.9395,-72.6856,-72.4324,-72.1791, -71.9274,-71.5425,-71.2818,-71.0214, -70.7612,-70.5012,-70.2412,-69.8511, -69.4623,-69.2029,-68.8178,-68.5607, -68.3045,-67.9201,-67.624,-67.3905, -67.3712,-67.3419,-67.3194,-67.2953, -67.2498,-67.5524,-67.8323,-68.0867, -68.3409,-68.5957,-68.8518,-69.1075, -69.3645,-69.621,-69.8777,-70.1352, -70.392,-70.7777,-71.0354,-71.2934, -71.5509,-71.8005,-72.0503,-72.3004, -72.5505,-72.801,-73.0505,-73.2923, -73.5345,-73.7769,-74.019,-74.3812, -74.6247,-74.8658,-75.2121,-75.4455, -75.6788,-75.9111,-76.1443,-76.3771, -76.6093,-76.8383,-77.0615,-77.3966, -77.6191,-77.8408,-78.1725,-78.3934, -78.6132,-78.9419,-79.16,-79.4133)
FOOTPRINT_POINT_LONGITUDE = (336.696,338.226,339.745,341.255, 341.932,342.376,342.798,343.207,343.584 ,343.964,344.502,344.843,345.33,345.64, 345.944,346.24,346.525,346.801,347.065, 347.443,347.688,347.924,348.272,348.495 ,348.816,349.022,349.221,349.413, 349.699,349.883,350.061,350.235,350.401 ,350.647,350.808,350.963,351.115, 351.261,351.404,351.612,351.81,351.938, 352.121,352.24,352.355,352.522,352.648, 352.499,352.006,351.323,350.82,350.313, 349.392,349.25,349.114,348.987,348.857, 348.724,348.582,348.439,348.287,348.134 ,347.977,347.812,347.646,347.387, 347.206,347.019,346.825,346.634,346.436 ,346.231,346.02,345.8,345.576,345.352, 345.118,344.875,344.626,344.241,343.961 ,343.665,343.265,342.969,342.661, 342.349,342.016,341.673,341.319,340.955 ,340.589,340.003,339.598,339.179,338.52 ,338.053,337.572,336.81,336.276, 336.696)
ORBIT_NUMBER = 2533
ORBITAL_ECCENTRICITY = 0.572
ORBITAL_INCLINATION = 86.62
ORBITAL_SEMIMAJOR_AXIS = 8527.27
PERIAPSIS_ALTITUDE = 277.58
PERIAPSIS_ARGUMENT_ANGLE = 273.14
PERIAPSIS_TIME = 2006-01-01T22:58:17.000Z
SPACECRAFT_ORIENTATION = (0.0,-1.0,0.0)
^MEX_ORIENTATION_DESC = "MEX_ORIENTATION_DESC.TXT"
SPACECRAFT_POINTING_MODE = ACROSSTRACK
^MEX_POINTING_DESC = "MEX_POINTING_DESC.TXT"
RIGHT_ASCENSION = -1e+32
DECLINATION = -1e+32
OFFSET_ANGLE = 0.8
SPACECRAFT_SOLAR_DISTANCE = 2.29259e+08
TARGET_NAME = MARS
/* CAMERA DATA ELEMENTS */
DETECTOR_TEMPERATURE = 18.5744
FOCAL_PLANE_TEMPERATURE = 8.5833
INST_CMPRS_NAME = "DISCRETE COSINE TRANSFORMATION (DCT)"
INST_CMPRS_RATIO = 28.0379
INST_CMPRS_QUALITY = 0
INST_CMPRS_QUANTZ_TBL_ID = 0
INSTRUMENT_TEMPERATURE = 11.234
LENS_TEMPERATURE = 10.2145
MACROPIXEL_SIZE = 8
MISSING_FRAMES = 0
PIXEL_SUBSAMPLING_FLAG = N
SIGNAL_CHAIN_ID = 2
/* RADIOMETRIC DATA ELEMENTS */
BANDWIDTH = 48.0
CENTER_FILTER_WAVELENGTH = 748.0
RADIANCE_OFFSET = 0.316411
RADIANCE_SCALING_FACTOR = 0.00269745
REFLECTANCE_SCALING_FACTOR = 0.000323545
MEX:REFLECTANCE_OFFSET = 0.0379518
/* IMAGE OBJECT DEFINITIONS */
OBJECT = IMAGE
  INTERCHANGE_FORMAT = BINARY
  LINES = 7445
  LINE_SAMPLES = 2477
  SAMPLE_TYPE = UNSIGNED_INTEGER
  SAMPLE_BITS = 8
  BANDS = 1
  BAND_STORAGE_TYPE = BAND_SEQUENTIAL
  MAXIMUM = 255
  MEAN = 117.464
  MINIMUM = 6
  STANDARD_DEVIATION = 36.801
END_OBJECT = IMAGE
/* MAP OBJECT DEFINITIONS */
OBJECT = IMAGE_MAP_PROJECTION
  ^DATA_SET_MAP_PROJECTION_CATALOG= "DSMAP.CAT"
  A_AXIS_RADIUS = 3396.0
  B_AXIS_RADIUS = 3396.0
  C_AXIS_RADIUS = 3396.0
  CENTER_LATITUDE = 0.0
  CENTER_LONGITUDE = 347.0
  COORDINATE_SYSTEM_NAME = PLANETOGRAPHIC
  COORDINATE_SYSTEM_TYPE = "BODY-FIXED ROTATING"
  EASTERNMOST_LONGITUDE = 352.648
  FIRST_STANDARD_PARALLEL = "N/A"
  LINE_FIRST_PIXEL = 1
  LINE_LAST_PIXEL = 7445
  LINE_PROJECTION_OFFSET = -39870.8125
  MAP_PROJECTION_ROTATION = 0.0
  MAP_PROJECTION_TYPE = SINUSOIDAL
  MAP_RESOLUTION = 592.713803866667
  MAP_SCALE = 0.1
  MAXIMUM_LATITUDE = -67.24979999999999
  MINIMUM_LATITUDE = -79.70650000000001
  POSITIVE_LONGITUDE_DIRECTION = EAST
  REFERENCE_LATITUDE = "N/A"
  REFERENCE_LONGITUDE = "N/A"
  SAMPLE_FIRST_PIXEL = 1
  SAMPLE_LAST_PIXEL = 2477
  SAMPLE_PROJECTION_OFFSET = 1186.5625
  SECOND_STANDARD_PARALLEL = "N/A"
  WESTERNMOST_LONGITUDE = 336.276
END_OBJECT = IMAGE_MAP_PROJECTION
/* The JPEG2000 image data file associated with this label. */
OBJECT = COMPRESSED_FILE
  FILE_NAME = "H2533_0000_RE3.JP2"
  RECORD_TYPE = UNDEFINED
  FILE_RECORDS = UNK
  ENCODING_TYPE = "JP2"
  INTERCHANGE_FORMAT = BINARY
  UNCOMPRESSED_FILE_NAME = "H2533_0000_RE3.IMG"
  REQUIRED_STORAGE_BYTES = "18461081"
  ^DESCRIPTION = "JP2INFO.TXT"
END_OBJECT = COMPRESSED_FILE
END
