PDS_VERSION_ID = PDS3
/* FILE DATA ELEMENTS */
RECORD_TYPE = STREAM
/* POINTERS TO DATA OBJECTS */
^COMPRESSED_FILE = "H2534_0000_BL3.JP2"
/* IDENTIFICATION DATA ELEMENTS */
DATA_SET_ID = "MEX-M-HRSC-5-REFDR-MAPPROJECTED-V3.0"
DATA_SET_NAME = "MARS EXPRESS HRSC MAP PROJECTED REFDR V3.0"
DETECTOR_ID = MEX_HRSC_BLUE
EVENT_TYPE = "MARS-REGIONAL-MAPPING-Te-Im-Pf"
INSTRUMENT_HOST_ID = MEX
INSTRUMENT_HOST_NAME = "MARS EXPRESS"
INSTRUMENT_ID = HRSC
INSTRUMENT_NAME = "HIGH RESOLUTION STEREO CAMERA"
MISSION_NAME = "MARS EXPRESS"
MISSION_PHASE_NAME = ME_Phase_1
PROCESSING_LEVEL_ID = 3
PRODUCT_CREATION_TIME = 2016-04-07T13:48:30.000Z
PRODUCT_ID = "H2534_0000_BL3.JP2"
RELEASE_ID = 0032
REVISION_ID = 0000
/* QUALITY DATA ELEMENTS */
DATA_QUALITY_ID = 1
DATA_QUALITY_DESC = "Data calculated based on original SPICE kernels"
/* TIME DATA ELEMENTS */
SPACECRAFT_CLOCK_START_COUNT = "1/0084260651.56201"
SPACECRAFT_CLOCK_STOP_COUNT = "1/0084261156.38052"
START_TIME = 2006-01-02T05:44:49.568Z
STOP_TIME = 2006-01-02T05:51:40.488Z
/* ORBITAL DATA ELEMENTS */
ASCENDING_NODE_LONGITUDE = 175.09
MAXIMUM_RESOLUTION = 49.8
FOOTPRINT_POINT_LATITUDE = (-73.1432,-73.2267,-73.1207,-72.7209, -72.3211,-71.9221,-71.5149,-71.1033, -70.6918,-70.2806,-69.8577,-69.4341, -69.0112,-68.5889,-68.1674,-67.7463, -67.3261,-66.9065,-66.4876,-66.0077, -65.5101,-64.7647,-64.2706,-63.777, -63.2849,-62.7942,-62.0545,-61.5542, -61.0461,-60.2748,-59.489,-58.9583, -58.4177,-57.872,-57.3207,-56.7593, -56.1906,-55.6146,-54.7358,-54.1474, -53.5618,-52.9788,-52.3982,-51.8209, -51.2461,-50.6745,-50.1054,-49.5393, -48.9764,-48.4165,-48.3958,-48.3794, -48.3621,-48.6032,-49.1624,-49.7249, -50.2901,-50.8582,-51.4292,-52.0029, -52.5793,-53.1585,-53.7409,-54.6193, -55.2059,-55.7852,-56.3541,-56.9157, -57.4712,-58.0196,-58.5589,-59.0917, -59.6204,-60.1398,-60.9083,-61.4144, -62.1622,-62.8944,-63.6286,-64.1189, -64.6114,-65.105,-65.5995,-66.3272, -66.7448,-67.161,-67.5789,-67.9975, -68.4165,-68.8362,-69.2565,-69.677, -70.0971,-70.5051,-70.9135,-71.3221, -71.7259,-72.1215,-72.5173,-73.1432)
FOOTPRINT_POINT_LONGITUDE = (251.07,252.536,254.192,254.416,254.628 ,254.831,255.028,255.22,255.402,255.575 ,255.745,255.909,256.066,256.215, 256.359,256.495,256.627,256.753,256.873 ,257.011,257.143,257.327,257.446, 257.558,257.665,257.769,257.917,258.013 ,258.105,258.24,258.369,258.454,258.534 ,258.613,258.691,258.767,258.84,258.911 ,259.015,259.082,259.146,259.207, 259.264,259.321,259.374,259.426,259.476 ,259.523,259.57,259.615,259.009,258.255 ,257.618,256.494,256.466,256.434, 256.401,256.364,256.325,256.283,256.238 ,256.189,256.136,256.05,255.988,255.922 ,255.854,255.783,255.707,255.632, 255.552,255.469,255.381,255.289,255.146 ,255.046,254.889,254.72,254.542,254.418 ,254.283,254.142,253.994,253.762, 253.615,253.472,253.317,253.154,252.984 ,252.805,252.617,252.422,252.216, 252.005,251.785,251.554,251.312,251.064 ,250.803,251.07)
ORBIT_NUMBER = 2534
ORBITAL_ECCENTRICITY = 0.572
ORBITAL_INCLINATION = 86.62
ORBITAL_SEMIMAJOR_AXIS = 8527.64
PERIAPSIS_ALTITUDE = 276.97
PERIAPSIS_ARGUMENT_ANGLE = 272.97
PERIAPSIS_TIME = 2006-01-02T05:41:23.000Z
SPACECRAFT_ORIENTATION = (0.0,-1.0,0.0)
^MEX_ORIENTATION_DESC = "MEX_ORIENTATION_DESC.TXT"
SPACECRAFT_POINTING_MODE = NADIR
^MEX_POINTING_DESC = "MEX_POINTING_DESC.TXT"
RIGHT_ASCENSION = -1e+32
DECLINATION = -1e+32
OFFSET_ANGLE = -1e+32
SPACECRAFT_SOLAR_DISTANCE = 2.29313e+08
TARGET_NAME = MARS
/* CAMERA DATA ELEMENTS */
DETECTOR_TEMPERATURE = 18.5744
FOCAL_PLANE_TEMPERATURE = 9.3989
INST_CMPRS_NAME = "DISCRETE COSINE TRANSFORMATION (DCT)"
INST_CMPRS_RATIO = 9.59815
INST_CMPRS_QUALITY = 0
INST_CMPRS_QUANTZ_TBL_ID = 0
INSTRUMENT_TEMPERATURE = 11.4379
LENS_TEMPERATURE = 9.6028
MACROPIXEL_SIZE = 4
MISSING_FRAMES = 0
PIXEL_SUBSAMPLING_FLAG = N
SIGNAL_CHAIN_ID = 2
/* RADIOMETRIC DATA ELEMENTS */
BANDWIDTH = 76.0
CENTER_FILTER_WAVELENGTH = 444.0
RADIANCE_OFFSET = 0.366434
RADIANCE_SCALING_FACTOR = 0.00160749
REFLECTANCE_SCALING_FACTOR = 8.6849e-05
MEX:REFLECTANCE_OFFSET = 0.0197976
/* IMAGE OBJECT DEFINITIONS */
OBJECT = IMAGE
  INTERCHANGE_FORMAT = BINARY
  LINES = 29613
  LINE_SAMPLES = 4785
  SAMPLE_TYPE = UNSIGNED_INTEGER
  SAMPLE_BITS = 8
  BANDS = 1
  BAND_STORAGE_TYPE = BAND_SEQUENTIAL
  MAXIMUM = 255
  MEAN = 142.966
  MINIMUM = 1
  STANDARD_DEVIATION = 38.0721
END_OBJECT = IMAGE
/* MAP OBJECT DEFINITIONS */
OBJECT = IMAGE_MAP_PROJECTION
  ^DATA_SET_MAP_PROJECTION_CATALOG= "DSMAP.CAT"
  A_AXIS_RADIUS = 3396.0
  B_AXIS_RADIUS = 3396.0
  C_AXIS_RADIUS = 3396.0
  CENTER_LATITUDE = 0.0
  CENTER_LONGITUDE = 256.0
  COORDINATE_SYSTEM_NAME = PLANETOGRAPHIC
  COORDINATE_SYSTEM_TYPE = "BODY-FIXED ROTATING"
  EASTERNMOST_LONGITUDE = 259.615
  FIRST_STANDARD_PARALLEL = "N/A"
  LINE_FIRST_PIXEL = 1
  LINE_LAST_PIXEL = 29613
  LINE_PROJECTION_OFFSET = -57296.375
  MAP_PROJECTION_ROTATION = 0.0
  MAP_PROJECTION_TYPE = SINUSOIDAL
  MAP_RESOLUTION = 1185.42760773333
  MAP_SCALE = 0.05
  MAXIMUM_LATITUDE = -48.3621
  MINIMUM_LATITUDE = -73.22669999999999
  POSITIVE_LONGITUDE_DIRECTION = EAST
  REFERENCE_LATITUDE = "N/A"
  REFERENCE_LONGITUDE = "N/A"
  SAMPLE_FIRST_PIXEL = 1
  SAMPLE_LAST_PIXEL = 4785
  SAMPLE_PROJECTION_OFFSET = 1924.375
  SECOND_STANDARD_PARALLEL = "N/A"
  WESTERNMOST_LONGITUDE = 250.803
END_OBJECT = IMAGE_MAP_PROJECTION
/* The JPEG2000 image data file associated with this label. */
OBJECT = COMPRESSED_FILE
  FILE_NAME = "H2534_0000_BL3.JP2"
  RECORD_TYPE = UNDEFINED
  FILE_RECORDS = UNK
  ENCODING_TYPE = "JP2"
  INTERCHANGE_FORMAT = BINARY
  UNCOMPRESSED_FILE_NAME = "H2534_0000_BL3.IMG"
  REQUIRED_STORAGE_BYTES = "141722130"
  ^DESCRIPTION = "JP2INFO.TXT"
END_OBJECT = COMPRESSED_FILE
END
