PDS_VERSION_ID = PDS3
/* FILE DATA ELEMENTS */
RECORD_TYPE = STREAM
/* POINTERS TO DATA OBJECTS */
^COMPRESSED_FILE = "H2534_0000_S13.JP2"
/* IDENTIFICATION DATA ELEMENTS */
DATA_SET_ID = "MEX-M-HRSC-5-REFDR-MAPPROJECTED-V3.0"
DATA_SET_NAME = "MARS EXPRESS HRSC MAP PROJECTED REFDR V3.0"
DETECTOR_ID = MEX_HRSC_S1
EVENT_TYPE = "MARS-REGIONAL-MAPPING-Te-Im-Pf"
INSTRUMENT_HOST_ID = MEX
INSTRUMENT_HOST_NAME = "MARS EXPRESS"
INSTRUMENT_ID = HRSC
INSTRUMENT_NAME = "HIGH RESOLUTION STEREO CAMERA"
MISSION_NAME = "MARS EXPRESS"
MISSION_PHASE_NAME = ME_Phase_1
PROCESSING_LEVEL_ID = 3
PRODUCT_CREATION_TIME = 2016-04-07T13:48:30.000Z
PRODUCT_ID = "H2534_0000_S13.JP2"
RELEASE_ID = 0032
REVISION_ID = 0000
/* QUALITY DATA ELEMENTS */
DATA_QUALITY_ID = 1
DATA_QUALITY_DESC = "Data calculated based on original SPICE kernels"
/* TIME DATA ELEMENTS */
SPACECRAFT_CLOCK_START_COUNT = "1/0084260651.56201"
SPACECRAFT_CLOCK_STOP_COUNT = "1/0084261156.38052"
START_TIME = 2006-01-02T05:44:17.679Z
STOP_TIME = 2006-01-02T05:50:34.807Z
/* ORBITAL DATA ELEMENTS */
ASCENDING_NODE_LONGITUDE = 175.09
MAXIMUM_RESOLUTION = 25.4
FOOTPRINT_POINT_LATITUDE = (-73.2565,-73.3399,-73.4253,-72.776, -72.189,-71.7971,-71.406,-71.0006, -70.5939,-70.1886,-69.7826,-69.1582, -68.7378,-68.3176,-67.8941,-67.4604, -67.0274,-66.3768,-65.9388,-65.5058, -64.8618,-64.4301,-63.9973,-63.491, -62.7201,-62.2062,-61.4359,-60.9249, -60.4115,-59.9022,-59.3881,-58.8651, -58.3337,-57.7988,-57.2525,-56.4223, -55.8627,-55.2868,-54.7068,-54.1205, -53.5243,-52.9195,-52.3068,-51.6836, -51.0539,-50.4253,-49.7987,-49.1733, -48.4823,-48.4659,-48.4379,-48.4165, -49.0196,-49.6424,-50.2678,-50.894, -51.5224,-52.1457,-52.7608,-53.3661, -53.9591,-54.5438,-55.1239,-55.698, -56.2572,-56.8123,-57.3586,-57.8976, -58.4333,-58.9568,-59.4787,-59.9858, -60.4945,-61.0046,-61.5155,-62.0278, -62.5396,-63.0491,-63.8146,-64.25, -64.6802,-65.1098,-65.5413,-65.9722, -66.6107,-67.0511,-67.4819,-67.9105, -68.3279,-68.7454,-69.1619,-69.5754, -69.9789,-70.5834,-70.9861,-71.3819, -71.7698,-72.1583,-72.7406,-73.2565)
FOOTPRINT_POINT_LONGITUDE = (250.448,251.795,253.388,254.348, 254.657,254.851,255.036,255.222,255.399 ,255.566,255.727,255.962,256.112, 256.256,256.395,256.531,256.661,256.848 ,256.971,257.084,257.241,257.343, 257.443,257.555,257.715,257.817,257.962 ,258.052,258.141,258.224,258.305, 258.385,258.463,258.538,258.613,258.72, 258.789,258.856,258.922,258.986,259.048 ,259.108,259.167,259.224,259.28,259.333 ,259.384,259.433,259.077,258.423, 257.634,257.117,256.638,256.6,256.56, 256.516,256.469,256.419,256.367,256.311 ,256.253,256.192,256.129,256.062, 255.993,255.921,255.847,255.769,255.689 ,255.606,255.519,255.428,255.334, 255.235,255.131,255.022,254.907,254.785 ,254.592,254.479,254.36,254.234,254.104 ,253.968,253.749,253.6,253.441,253.275, 253.105,252.929,252.743,252.552,252.356 ,252.044,251.823,251.596,251.362, 251.117,250.726,250.448)
ORBIT_NUMBER = 2534
ORBITAL_ECCENTRICITY = 0.572
ORBITAL_INCLINATION = 86.62
ORBITAL_SEMIMAJOR_AXIS = 8527.64
PERIAPSIS_ALTITUDE = 276.97
PERIAPSIS_ARGUMENT_ANGLE = 272.97
PERIAPSIS_TIME = 2006-01-02T05:41:23.000Z
SPACECRAFT_ORIENTATION = (0.0,-1.0,0.0)
^MEX_ORIENTATION_DESC = "MEX_ORIENTATION_DESC.TXT"
SPACECRAFT_POINTING_MODE = NADIR
^MEX_POINTING_DESC = "MEX_POINTING_DESC.TXT"
RIGHT_ASCENSION = -1e+32
DECLINATION = -1e+32
OFFSET_ANGLE = -1e+32
SPACECRAFT_SOLAR_DISTANCE = 2.29313e+08
TARGET_NAME = MARS
/* CAMERA DATA ELEMENTS */
DETECTOR_TEMPERATURE = 17.7588
FOCAL_PLANE_TEMPERATURE = 9.3989
INST_CMPRS_NAME = "DISCRETE COSINE TRANSFORMATION (DCT)"
INST_CMPRS_RATIO = 9.8739
INST_CMPRS_QUALITY = 0
INST_CMPRS_QUANTZ_TBL_ID = 0
INSTRUMENT_TEMPERATURE = 11.4379
LENS_TEMPERATURE = 9.6028
MACROPIXEL_SIZE = 2
MISSING_FRAMES = 1
PIXEL_SUBSAMPLING_FLAG = N
SIGNAL_CHAIN_ID = 1
/* RADIOMETRIC DATA ELEMENTS */
BANDWIDTH = 180.0
CENTER_FILTER_WAVELENGTH = 677.0
RADIANCE_OFFSET = 2.02415
RADIANCE_SCALING_FACTOR = 0.0119068
REFLECTANCE_SCALING_FACTOR = 0.00032666
MEX:REFLECTANCE_OFFSET = 0.0555321
/* IMAGE OBJECT DEFINITIONS */
OBJECT = IMAGE
  INTERCHANGE_FORMAT = BINARY
  LINES = 59225
  LINE_SAMPLES = 9569
  SAMPLE_TYPE = UNSIGNED_INTEGER
  SAMPLE_BITS = 8
  BANDS = 1
  BAND_STORAGE_TYPE = BAND_SEQUENTIAL
  MAXIMUM = 255
  MEAN = 118.184
  MINIMUM = 1
  STANDARD_DEVIATION = 31.2649
END_OBJECT = IMAGE
/* MAP OBJECT DEFINITIONS */
OBJECT = IMAGE_MAP_PROJECTION
  ^DATA_SET_MAP_PROJECTION_CATALOG= "DSMAP.CAT"
  A_AXIS_RADIUS = 3396.0
  B_AXIS_RADIUS = 3396.0
  C_AXIS_RADIUS = 3396.0
  CENTER_LATITUDE = 0.0
  CENTER_LONGITUDE = 256.0
  COORDINATE_SYSTEM_NAME = PLANETOGRAPHIC
  COORDINATE_SYSTEM_TYPE = "BODY-FIXED ROTATING"
  EASTERNMOST_LONGITUDE = 259.433
  FIRST_STANDARD_PARALLEL = "N/A"
  LINE_FIRST_PIXEL = 1
  LINE_LAST_PIXEL = 59225
  LINE_PROJECTION_OFFSET = -114592.25
  MAP_PROJECTION_ROTATION = 0.0
  MAP_PROJECTION_TYPE = SINUSOIDAL
  MAP_RESOLUTION = 2370.85521546667
  MAP_SCALE = 0.025
  MAXIMUM_LATITUDE = -48.4165
  MINIMUM_LATITUDE = -73.42529999999999
  POSITIVE_LONGITUDE_DIRECTION = EAST
  REFERENCE_LATITUDE = "N/A"
  REFERENCE_LONGITUDE = "N/A"
  SAMPLE_FIRST_PIXEL = 1
  SAMPLE_LAST_PIXEL = 9569
  SAMPLE_PROJECTION_OFFSET = 3849.25
  SECOND_STANDARD_PARALLEL = "N/A"
  WESTERNMOST_LONGITUDE = 250.448
END_OBJECT = IMAGE_MAP_PROJECTION
/* The JPEG2000 image data file associated with this label. */
OBJECT = COMPRESSED_FILE
  FILE_NAME = "H2534_0000_S13.JP2"
  RECORD_TYPE = UNDEFINED
  FILE_RECORDS = UNK
  ENCODING_TYPE = "JP2"
  INTERCHANGE_FORMAT = BINARY
  UNCOMPRESSED_FILE_NAME = "H2534_0000_S13.IMG"
  REQUIRED_STORAGE_BYTES = "566752732"
  ^DESCRIPTION = "JP2INFO.TXT"
END_OBJECT = COMPRESSED_FILE
END
