PDS_VERSION_ID = PDS3
/* FILE DATA ELEMENTS */
RECORD_TYPE = STREAM
/* POINTERS TO DATA OBJECTS */
^COMPRESSED_FILE = "H2536_0000_P13.JP2"
/* IDENTIFICATION DATA ELEMENTS */
DATA_SET_ID = "MEX-M-HRSC-5-REFDR-MAPPROJECTED-V3.0"
DATA_SET_NAME = "MARS EXPRESS HRSC MAP PROJECTED REFDR V3.0"
DETECTOR_ID = MEX_HRSC_P1
EVENT_TYPE = "MARS-REGIONAL-MAPPING-Im-Gl-Pf"
INSTRUMENT_HOST_ID = MEX
INSTRUMENT_HOST_NAME = "MARS EXPRESS"
INSTRUMENT_ID = HRSC
INSTRUMENT_NAME = "HIGH RESOLUTION STEREO CAMERA"
MISSION_NAME = "MARS EXPRESS"
MISSION_PHASE_NAME = ME_Phase_1
PROCESSING_LEVEL_ID = 3
PRODUCT_CREATION_TIME = 2016-04-07T13:48:30.000Z
PRODUCT_ID = "H2536_0000_P13.JP2"
RELEASE_ID = 0032
REVISION_ID = 0000
/* QUALITY DATA ELEMENTS */
DATA_QUALITY_ID = 1
DATA_QUALITY_DESC = "Data calculated based on original SPICE kernels"
/* TIME DATA ELEMENTS */
SPACECRAFT_CLOCK_START_COUNT = "1/0084308922.57440"
SPACECRAFT_CLOCK_STOP_COUNT = "1/0084309158.16550"
START_TIME = 2006-01-02T19:08:57.084Z
STOP_TIME = 2006-01-02T19:11:48.411Z
/* ORBITAL DATA ELEMENTS */
ASCENDING_NODE_LONGITUDE = 175.04
MAXIMUM_RESOLUTION = 45.9
FOOTPRINT_POINT_LATITUDE = (-79.6689,-79.8,-79.9113,-80.0143, -79.88,-79.6776,-79.474,-79.1677, -78.9631,-78.7573,-78.5513,-78.3452, -78.1383,-77.9314,-77.7244,-77.5174, -77.3097,-77.1018,-76.8871,-76.671, -76.4565,-76.2398,-75.9146,-75.6971, -75.4798,-75.2624,-75.0464,-74.8286, -74.6109,-74.2741,-74.0484,-73.8218, -73.4813,-73.2543,-73.0264,-72.7996, -72.5726,-72.2222,-71.9881,-71.7535, -71.5179,-71.1649,-70.9302,-70.572, -70.3287,-69.9662,-69.7221,-69.4784, -69.2346,-68.9856,-68.7503,-68.6918, -68.6532,-68.6185,-68.6864,-68.9358, -69.1778,-69.4206,-69.6643,-69.9024, -70.1422,-70.3829,-70.6195,-70.9688, -71.2015,-71.4343,-71.6671,-71.8995, -72.132,-72.4741,-72.6976,-72.9225, -73.1461,-73.4826,-73.7067,-73.9296, -74.153,-74.4809,-74.696,-74.9078, -75.1231,-75.3351,-75.5489,-75.7597, -75.9733,-76.2905,-76.5026,-76.7136, -77.0193,-77.2229,-77.4295,-77.6306, -77.8322,-78.1332,-78.434,-78.7327, -78.9316,-79.1292,-79.3265,-79.6689)
FOOTPRINT_POINT_LONGITUDE = (42.8362,44.4061,45.8531,47.3098, 48.0015,48.3989,48.7821,49.3295,49.6772 ,50.0132,50.3367,50.6482,50.9493, 51.2395,51.5196,51.7899,52.0516,52.3048 ,52.5571,52.8026,53.0383,53.2683, 53.5997,53.8123,54.0182,54.2177,54.4099 ,54.5979,54.7802,55.0518,55.227,55.3978 ,55.6451,55.8041,55.9592,56.1094, 56.2555,56.4733,56.6137,56.7507,56.8846 ,57.0786,57.2034,57.3876,57.5087, 57.6832,57.7971,57.908,58.0162,58.1239, 57.7459,56.8353,56.2746,55.8003,54.9854 ,54.8601,54.7365,54.6107,54.4831, 54.3425,54.2009,54.057,53.9105,53.6892, 53.5365,53.3797,53.2185,53.0522,52.8815 ,52.6241,52.4459,52.2652,52.0773, 51.7873,51.5867,51.3781,51.1647,50.841, 50.6193,50.3848,50.1505,49.9029,49.6517 ,49.387,49.12,48.6979,48.4072,48.1067, 47.6555,47.3426,47.0263,46.6883,46.3407 ,45.7955,45.2227,44.6167,44.195,43.7563 ,43.3016,42.8362)
ORBIT_NUMBER = 2536
ORBITAL_ECCENTRICITY = 0.572
ORBITAL_INCLINATION = 86.62
ORBITAL_SEMIMAJOR_AXIS = 8527.5
PERIAPSIS_ALTITUDE = 276.9
PERIAPSIS_ARGUMENT_ANGLE = 272.64
PERIAPSIS_TIME = 2006-01-02T19:07:31.000Z
SPACECRAFT_ORIENTATION = (0.0,-1.0,0.0)
^MEX_ORIENTATION_DESC = "MEX_ORIENTATION_DESC.TXT"
SPACECRAFT_POINTING_MODE = ACROSSTRACK
^MEX_POINTING_DESC = "MEX_POINTING_DESC.TXT"
RIGHT_ASCENSION = -1e+32
DECLINATION = -1e+32
OFFSET_ANGLE = 0.48
SPACECRAFT_SOLAR_DISTANCE = 2.29422e+08
TARGET_NAME = MARS
/* CAMERA DATA ELEMENTS */
DETECTOR_TEMPERATURE = 17.5549
FOCAL_PLANE_TEMPERATURE = 8.9911
INST_CMPRS_NAME = "DISCRETE COSINE TRANSFORMATION (DCT)"
INST_CMPRS_RATIO = 31.3493
INST_CMPRS_QUALITY = 0
INST_CMPRS_QUANTZ_TBL_ID = 0
INSTRUMENT_TEMPERATURE = 11.6418
LENS_TEMPERATURE = 9.3989
MACROPIXEL_SIZE = 4
MISSING_FRAMES = 0
PIXEL_SUBSAMPLING_FLAG = N
SIGNAL_CHAIN_ID = 3
/* RADIOMETRIC DATA ELEMENTS */
BANDWIDTH = 174.0
CENTER_FILTER_WAVELENGTH = 675.0
RADIANCE_OFFSET = 1.25615
RADIANCE_SCALING_FACTOR = 0.00973489
REFLECTANCE_SCALING_FACTOR = 0.000275604
MEX:REFLECTANCE_OFFSET = 0.0355629
/* IMAGE OBJECT DEFINITIONS */
OBJECT = IMAGE
  INTERCHANGE_FORMAT = BINARY
  LINES = 13507
  LINE_SAMPLES = 4476
  SAMPLE_TYPE = UNSIGNED_INTEGER
  SAMPLE_BITS = 8
  BANDS = 1
  BAND_STORAGE_TYPE = BAND_SEQUENTIAL
  MAXIMUM = 255
  MEAN = 99.1699
  MINIMUM = 1
  STANDARD_DEVIATION = 48.4153
END_OBJECT = IMAGE
/* MAP OBJECT DEFINITIONS */
OBJECT = IMAGE_MAP_PROJECTION
  ^DATA_SET_MAP_PROJECTION_CATALOG= "DSMAP.CAT"
  A_AXIS_RADIUS = 3396.0
  B_AXIS_RADIUS = 3396.0
  C_AXIS_RADIUS = 3396.0
  CENTER_LATITUDE = 0.0
  CENTER_LONGITUDE = 53.0
  COORDINATE_SYSTEM_NAME = PLANETOGRAPHIC
  COORDINATE_SYSTEM_TYPE = "BODY-FIXED ROTATING"
  EASTERNMOST_LONGITUDE = 58.1239
  FIRST_STANDARD_PARALLEL = "N/A"
  LINE_FIRST_PIXEL = 1
  LINE_LAST_PIXEL = 13507
  LINE_PROJECTION_OFFSET = -81270.125
  MAP_PROJECTION_ROTATION = 0.0
  MAP_PROJECTION_TYPE = SINUSOIDAL
  MAP_RESOLUTION = 1185.42760773333
  MAP_SCALE = 0.05
  MAXIMUM_LATITUDE = -68.6185
  MINIMUM_LATITUDE = -80.01430000000001
  POSITIVE_LONGITUDE_DIRECTION = EAST
  REFERENCE_LATITUDE = "N/A"
  REFERENCE_LONGITUDE = "N/A"
  SAMPLE_FIRST_PIXEL = 1
  SAMPLE_LAST_PIXEL = 4476
  SAMPLE_PROJECTION_OFFSET = 2207.875
  SECOND_STANDARD_PARALLEL = "N/A"
  WESTERNMOST_LONGITUDE = 42.8362
END_OBJECT = IMAGE_MAP_PROJECTION
/* The JPEG2000 image data file associated with this label. */
OBJECT = COMPRESSED_FILE
  FILE_NAME = "H2536_0000_P13.JP2"
  RECORD_TYPE = UNDEFINED
  FILE_RECORDS = UNK
  ENCODING_TYPE = "JP2"
  INTERCHANGE_FORMAT = BINARY
  UNCOMPRESSED_FILE_NAME = "H2536_0000_P13.IMG"
  REQUIRED_STORAGE_BYTES = "60484188"
  ^DESCRIPTION = "JP2INFO.TXT"
END_OBJECT = COMPRESSED_FILE
END
