PDS_VERSION_ID = PDS3
/* FILE DATA ELEMENTS */
RECORD_TYPE = STREAM
/* POINTERS TO DATA OBJECTS */
^COMPRESSED_FILE = "H2536_0000_P23.JP2"
/* IDENTIFICATION DATA ELEMENTS */
DATA_SET_ID = "MEX-M-HRSC-5-REFDR-MAPPROJECTED-V3.0"
DATA_SET_NAME = "MARS EXPRESS HRSC MAP PROJECTED REFDR V3.0"
DETECTOR_ID = MEX_HRSC_P2
EVENT_TYPE = "MARS-REGIONAL-MAPPING-Im-Gl-Pf"
INSTRUMENT_HOST_ID = MEX
INSTRUMENT_HOST_NAME = "MARS EXPRESS"
INSTRUMENT_ID = HRSC
INSTRUMENT_NAME = "HIGH RESOLUTION STEREO CAMERA"
MISSION_NAME = "MARS EXPRESS"
MISSION_PHASE_NAME = ME_Phase_1
PROCESSING_LEVEL_ID = 3
PRODUCT_CREATION_TIME = 2016-04-07T13:48:30.000Z
PRODUCT_ID = "H2536_0000_P23.JP2"
RELEASE_ID = 0032
REVISION_ID = 0000
/* QUALITY DATA ELEMENTS */
DATA_QUALITY_ID = 1
DATA_QUALITY_DESC = "Data calculated based on original SPICE kernels"
/* TIME DATA ELEMENTS */
SPACECRAFT_CLOCK_START_COUNT = "1/0084308922.57440"
SPACECRAFT_CLOCK_STOP_COUNT = "1/0084309158.16550"
START_TIME = 2006-01-02T19:09:30.544Z
STOP_TIME = 2006-01-02T19:12:30.210Z
/* ORBITAL DATA ELEMENTS */
ASCENDING_NODE_LONGITUDE = 175.04
MAXIMUM_RESOLUTION = 47.2
FOOTPRINT_POINT_LATITUDE = (-79.5331,-79.649,-79.7464,-79.8359, -79.5168,-79.3149,-79.1117,-78.9016, -78.6921,-78.4819,-78.2714,-78.0612, -77.8505,-77.6393,-77.3225,-77.1109, -76.9013,-76.6866,-76.4657,-76.2464, -76.0267,-75.8073,-75.4791,-75.2598, -75.0392,-74.8195,-74.4789,-74.1389, -73.9119,-73.6857,-73.4596,-73.2346, -73.0047,-72.7717,-72.5384,-72.1881, -71.9545,-71.7215,-71.4849,-71.1249, -70.8847,-70.645,-70.285,-70.0451, -69.8077,-69.4514,-69.2142,-68.8585, -68.6932,-68.6708,-68.6423,-68.6043, -68.5639,-68.5375,-68.7731,-69.0082, -69.244,-69.4784,-69.8333,-70.0722, -70.4285,-70.6663,-70.9038,-71.1417, -71.497,-71.7273,-71.9581,-72.1887, -72.5343,-72.7656,-72.9942,-73.2178, -73.4406,-73.6637,-73.8877,-74.1109, -74.334,-74.5572,-74.7749,-75.0986, -75.3155,-75.5309,-75.7479,-76.072, -76.287,-76.502,-76.7096,-76.9164, -77.1226,-77.4298,-77.7397,-77.9448, -78.1506,-78.3553,-78.5599,-78.7639, -78.9618,-79.1573,-79.3521,-79.5331)
FOOTPRINT_POINT_LONGITUDE = (43.099,44.7374,46.2413,47.7499,48.7965 ,49.1644,49.5201,49.8733,50.2115, 50.5378,50.8521,51.1544,51.4462,51.7282 ,52.1325,52.3909,52.6383,52.8831, 53.1263,53.3598,53.586,53.8045,54.1186, 54.3202,54.5166,54.7063,54.9894,55.2593 ,55.4328,55.6008,55.7639,55.9218, 56.0786,56.233,56.3831,56.6007,56.7408, 56.8768,57.0117,57.2096,57.3372,57.4613 ,57.6415,57.7577,57.8704,58.0342,58.14, 58.2939,57.9829,57.4794,56.8797,56.1508 ,55.4173,54.9581,54.842,54.725,54.6033, 54.4839,54.2886,54.1464,53.9342,53.7875 ,53.6381,53.4837,53.2454,53.0854, 52.9194,52.7499,52.4878,52.3031,52.1185 ,51.9297,51.7389,51.5409,51.3323, 51.1213,50.9046,50.6801,50.4493,50.0963 ,49.8449,49.5931,49.3229,48.9069, 48.6241,48.3302,48.0349,47.7327,47.4223 ,46.9502,46.4258,46.0687,45.6893, 45.3031,44.898,44.4795,44.057,43.6211, 43.1711,43.099)
ORBIT_NUMBER = 2536
ORBITAL_ECCENTRICITY = 0.572
ORBITAL_INCLINATION = 86.62
ORBITAL_SEMIMAJOR_AXIS = 8527.5
PERIAPSIS_ALTITUDE = 276.9
PERIAPSIS_ARGUMENT_ANGLE = 272.64
PERIAPSIS_TIME = 2006-01-02T19:07:31.000Z
SPACECRAFT_ORIENTATION = (0.0,-1.0,0.0)
^MEX_ORIENTATION_DESC = "MEX_ORIENTATION_DESC.TXT"
SPACECRAFT_POINTING_MODE = ACROSSTRACK
^MEX_POINTING_DESC = "MEX_POINTING_DESC.TXT"
RIGHT_ASCENSION = -1e+32
DECLINATION = -1e+32
OFFSET_ANGLE = 0.48
SPACECRAFT_SOLAR_DISTANCE = 2.29422e+08
TARGET_NAME = MARS
/* CAMERA DATA ELEMENTS */
DETECTOR_TEMPERATURE = 18.5744
FOCAL_PLANE_TEMPERATURE = 8.9911
INST_CMPRS_NAME = "DISCRETE COSINE TRANSFORMATION (DCT)"
INST_CMPRS_RATIO = 23.521
INST_CMPRS_QUALITY = 0
INST_CMPRS_QUANTZ_TBL_ID = 0
INSTRUMENT_TEMPERATURE = 11.6418
LENS_TEMPERATURE = 9.3989
MACROPIXEL_SIZE = 4
MISSING_FRAMES = 0
PIXEL_SUBSAMPLING_FLAG = N
SIGNAL_CHAIN_ID = 3
/* RADIOMETRIC DATA ELEMENTS */
BANDWIDTH = 177.0
CENTER_FILTER_WAVELENGTH = 676.5
RADIANCE_OFFSET = 1.32038
RADIANCE_SCALING_FACTOR = 0.00920527
REFLECTANCE_SCALING_FACTOR = 0.000256899
MEX:REFLECTANCE_OFFSET = 0.036849
/* IMAGE OBJECT DEFINITIONS */
OBJECT = IMAGE
  INTERCHANGE_FORMAT = BINARY
  LINES = 13507
  LINE_SAMPLES = 4476
  SAMPLE_TYPE = UNSIGNED_INTEGER
  SAMPLE_BITS = 8
  BANDS = 1
  BAND_STORAGE_TYPE = BAND_SEQUENTIAL
  MAXIMUM = 255
  MEAN = 99.3292
  MINIMUM = 1
  STANDARD_DEVIATION = 52.8868
END_OBJECT = IMAGE
/* MAP OBJECT DEFINITIONS */
OBJECT = IMAGE_MAP_PROJECTION
  ^DATA_SET_MAP_PROJECTION_CATALOG= "DSMAP.CAT"
  A_AXIS_RADIUS = 3396.0
  B_AXIS_RADIUS = 3396.0
  C_AXIS_RADIUS = 3396.0
  CENTER_LATITUDE = 0.0
  CENTER_LONGITUDE = 53.0
  COORDINATE_SYSTEM_NAME = PLANETOGRAPHIC
  COORDINATE_SYSTEM_TYPE = "BODY-FIXED ROTATING"
  EASTERNMOST_LONGITUDE = 58.2939
  FIRST_STANDARD_PARALLEL = "N/A"
  LINE_FIRST_PIXEL = 1
  LINE_LAST_PIXEL = 13507
  LINE_PROJECTION_OFFSET = -81270.125
  MAP_PROJECTION_ROTATION = 0.0
  MAP_PROJECTION_TYPE = SINUSOIDAL
  MAP_RESOLUTION = 1185.42760773333
  MAP_SCALE = 0.05
  MAXIMUM_LATITUDE = -68.53749999999999
  MINIMUM_LATITUDE = -79.8359
  POSITIVE_LONGITUDE_DIRECTION = EAST
  REFERENCE_LATITUDE = "N/A"
  REFERENCE_LONGITUDE = "N/A"
  SAMPLE_FIRST_PIXEL = 1
  SAMPLE_LAST_PIXEL = 4476
  SAMPLE_PROJECTION_OFFSET = 2207.875
  SECOND_STANDARD_PARALLEL = "N/A"
  WESTERNMOST_LONGITUDE = 43.099
END_OBJECT = IMAGE_MAP_PROJECTION
/* The JPEG2000 image data file associated with this label. */
OBJECT = COMPRESSED_FILE
  FILE_NAME = "H2536_0000_P23.JP2"
  RECORD_TYPE = UNDEFINED
  FILE_RECORDS = UNK
  ENCODING_TYPE = "JP2"
  INTERCHANGE_FORMAT = BINARY
  UNCOMPRESSED_FILE_NAME = "H2536_0000_P23.IMG"
  REQUIRED_STORAGE_BYTES = "60484188"
  ^DESCRIPTION = "JP2INFO.TXT"
END_OBJECT = COMPRESSED_FILE
END
