PDS_VERSION_ID = PDS3
/* FILE DATA ELEMENTS */
RECORD_TYPE = STREAM
/* POINTERS TO DATA OBJECTS */
^COMPRESSED_FILE = "H2536_0000_RE3.JP2"
/* IDENTIFICATION DATA ELEMENTS */
DATA_SET_ID = "MEX-M-HRSC-5-REFDR-MAPPROJECTED-V3.0"
DATA_SET_NAME = "MARS EXPRESS HRSC MAP PROJECTED REFDR V3.0"
DETECTOR_ID = MEX_HRSC_RED
EVENT_TYPE = "MARS-REGIONAL-MAPPING-Im-Gl-Pf"
INSTRUMENT_HOST_ID = MEX
INSTRUMENT_HOST_NAME = "MARS EXPRESS"
INSTRUMENT_ID = HRSC
INSTRUMENT_NAME = "HIGH RESOLUTION STEREO CAMERA"
MISSION_NAME = "MARS EXPRESS"
MISSION_PHASE_NAME = ME_Phase_1
PROCESSING_LEVEL_ID = 3
PRODUCT_CREATION_TIME = 2016-04-07T13:48:30.000Z
PRODUCT_ID = "H2536_0000_RE3.JP2"
RELEASE_ID = 0032
REVISION_ID = 0000
/* QUALITY DATA ELEMENTS */
DATA_QUALITY_ID = 1
DATA_QUALITY_DESC = "Data calculated based on original SPICE kernels"
/* TIME DATA ELEMENTS */
SPACECRAFT_CLOCK_START_COUNT = "1/0084308922.57440"
SPACECRAFT_CLOCK_STOP_COUNT = "1/0084309158.16550"
START_TIME = 2006-01-02T19:09:35.071Z
STOP_TIME = 2006-01-02T19:12:36.030Z
/* ORBITAL DATA ELEMENTS */
ASCENDING_NODE_LONGITUDE = 175.04
MAXIMUM_RESOLUTION = 48.1
FOOTPRINT_POINT_LATITUDE = (-79.5508,-79.6028,-79.6527,-79.7465, -79.8324,-79.61,-79.3044,-79.0955, -78.8864,-78.6781,-78.4689,-78.2597, -78.0506,-77.841,-77.631,-77.3155, -77.1055,-76.8914,-76.5633,-76.3444, -76.1264,-75.9084,-75.691,-75.4733, -75.2555,-75.0324,-74.807,-74.4689, -74.1314,-73.9061,-73.6821,-73.4574, -73.2265,-72.9966,-72.7653,-72.5341, -72.3031,-72.0709,-71.8354,-71.5968, -71.3606,-71.1227,-70.8849,-70.6474, -70.4108,-70.1706,-69.9353,-69.7008, -69.3486,-68.9969,-68.6964,-68.6751, -68.6357,-68.5919,-68.5639,-68.54, -68.7729,-69.1217,-69.4698,-69.8209, -70.0582,-70.2931,-70.5285,-70.8817, -71.1171,-71.3529,-71.5885,-71.9375, -72.166,-72.5084,-72.7378,-72.9661, -73.3082,-73.5289,-73.7506,-73.9727, -74.1941,-74.4152,-74.7485,-74.9691, -75.291,-75.505,-75.721,-75.9353, -76.1504,-76.3639,-76.5777,-76.8941, -77.0993,-77.4037,-77.6095,-77.9159, -78.2231,-78.4264,-78.6301,-78.8326, -79.0348,-79.2315,-79.4251,-79.5508)
FOOTPRINT_POINT_LONGITUDE = (43.6536,44.4074,45.1631,46.677,48.1964 ,48.6429,49.2045,49.5691,49.9194, 50.2548,50.5787,50.8904,51.1903,51.48, 51.76,52.162,52.4182,52.6706,53.0408, 53.2773,53.5051,53.7256,53.9384,54.1449 ,54.345,54.5433,54.7378,55.0184,55.2861 ,55.4581,55.6245,55.7865,55.9485, 56.1054,56.2585,56.4073,56.5519,56.693, 56.8325,56.9699,57.1028,57.2327,57.3592 ,57.4823,57.6018,57.7193,57.8325, 57.9428,58.1031,58.2577,58.1295,57.6205 ,56.7588,55.891,55.3746,54.9422,54.8277 ,54.6528,54.4744,54.2816,54.14,54.0023, 53.8593,53.6386,53.4866,53.33,53.1693, 52.9214,52.7542,52.4953,52.3129,52.1293 ,51.8401,51.649,51.4489,51.2407,51.0291 ,50.8121,50.4662,50.2242,49.8614, 49.6124,49.3445,49.0761,48.793,48.5086, 48.2123,47.7548,47.4466,46.9819,46.6379 ,46.1104,45.5434,45.1546,44.7451, 44.3255,43.8878,43.4419,42.9879, 43.6536)
ORBIT_NUMBER = 2536
ORBITAL_ECCENTRICITY = 0.572
ORBITAL_INCLINATION = 86.62
ORBITAL_SEMIMAJOR_AXIS = 8527.5
PERIAPSIS_ALTITUDE = 276.9
PERIAPSIS_ARGUMENT_ANGLE = 272.64
PERIAPSIS_TIME = 2006-01-02T19:07:31.000Z
SPACECRAFT_ORIENTATION = (0.0,-1.0,0.0)
^MEX_ORIENTATION_DESC = "MEX_ORIENTATION_DESC.TXT"
SPACECRAFT_POINTING_MODE = ACROSSTRACK
^MEX_POINTING_DESC = "MEX_POINTING_DESC.TXT"
RIGHT_ASCENSION = -1e+32
DECLINATION = -1e+32
OFFSET_ANGLE = 0.48
SPACECRAFT_SOLAR_DISTANCE = 2.29422e+08
TARGET_NAME = MARS
/* CAMERA DATA ELEMENTS */
DETECTOR_TEMPERATURE = 18.5744
FOCAL_PLANE_TEMPERATURE = 8.9911
INST_CMPRS_NAME = "DISCRETE COSINE TRANSFORMATION (DCT)"
INST_CMPRS_RATIO = 32.0506
INST_CMPRS_QUALITY = 0
INST_CMPRS_QUANTZ_TBL_ID = 0
INSTRUMENT_TEMPERATURE = 11.6418
LENS_TEMPERATURE = 9.3989
MACROPIXEL_SIZE = 4
MISSING_FRAMES = 0
PIXEL_SUBSAMPLING_FLAG = N
SIGNAL_CHAIN_ID = 2
/* RADIOMETRIC DATA ELEMENTS */
BANDWIDTH = 48.0
CENTER_FILTER_WAVELENGTH = 748.0
RADIANCE_OFFSET = 0.315139
RADIANCE_SCALING_FACTOR = 0.00281925
REFLECTANCE_SCALING_FACTOR = 0.000338634
MEX:REFLECTANCE_OFFSET = 0.0378528
/* IMAGE OBJECT DEFINITIONS */
OBJECT = IMAGE
  INTERCHANGE_FORMAT = BINARY
  LINES = 13507
  LINE_SAMPLES = 4476
  SAMPLE_TYPE = UNSIGNED_INTEGER
  SAMPLE_BITS = 8
  BANDS = 1
  BAND_STORAGE_TYPE = BAND_SEQUENTIAL
  MAXIMUM = 255
  MEAN = 105.778
  MINIMUM = 1
  STANDARD_DEVIATION = 51.887
END_OBJECT = IMAGE
/* MAP OBJECT DEFINITIONS */
OBJECT = IMAGE_MAP_PROJECTION
  ^DATA_SET_MAP_PROJECTION_CATALOG= "DSMAP.CAT"
  A_AXIS_RADIUS = 3396.0
  B_AXIS_RADIUS = 3396.0
  C_AXIS_RADIUS = 3396.0
  CENTER_LATITUDE = 0.0
  CENTER_LONGITUDE = 53.0
  COORDINATE_SYSTEM_NAME = PLANETOGRAPHIC
  COORDINATE_SYSTEM_TYPE = "BODY-FIXED ROTATING"
  EASTERNMOST_LONGITUDE = 58.2577
  FIRST_STANDARD_PARALLEL = "N/A"
  LINE_FIRST_PIXEL = 1
  LINE_LAST_PIXEL = 13507
  LINE_PROJECTION_OFFSET = -81270.125
  MAP_PROJECTION_ROTATION = 0.0
  MAP_PROJECTION_TYPE = SINUSOIDAL
  MAP_RESOLUTION = 1185.42760773333
  MAP_SCALE = 0.05
  MAXIMUM_LATITUDE = -68.54000000000001
  MINIMUM_LATITUDE = -79.83240000000001
  POSITIVE_LONGITUDE_DIRECTION = EAST
  REFERENCE_LATITUDE = "N/A"
  REFERENCE_LONGITUDE = "N/A"
  SAMPLE_FIRST_PIXEL = 1
  SAMPLE_LAST_PIXEL = 4476
  SAMPLE_PROJECTION_OFFSET = 2207.875
  SECOND_STANDARD_PARALLEL = "N/A"
  WESTERNMOST_LONGITUDE = 42.9879
END_OBJECT = IMAGE_MAP_PROJECTION
/* The JPEG2000 image data file associated with this label. */
OBJECT = COMPRESSED_FILE
  FILE_NAME = "H2536_0000_RE3.JP2"
  RECORD_TYPE = UNDEFINED
  FILE_RECORDS = UNK
  ENCODING_TYPE = "JP2"
  INTERCHANGE_FORMAT = BINARY
  UNCOMPRESSED_FILE_NAME = "H2536_0000_RE3.IMG"
  REQUIRED_STORAGE_BYTES = "60484188"
  ^DESCRIPTION = "JP2INFO.TXT"
END_OBJECT = COMPRESSED_FILE
END
