PDS_VERSION_ID = PDS3
/* FILE DATA ELEMENTS */
RECORD_TYPE = STREAM
/* POINTERS TO DATA OBJECTS */
^COMPRESSED_FILE = "H2539_0000_S13.JP2"
/* IDENTIFICATION DATA ELEMENTS */
DATA_SET_ID = "MEX-M-HRSC-5-REFDR-MAPPROJECTED-V3.0"
DATA_SET_NAME = "MARS EXPRESS HRSC MAP PROJECTED REFDR V3.0"
DETECTOR_ID = MEX_HRSC_S1
EVENT_TYPE = "MARS-REGIONAL-MAPPING-Vo-Im-Fl"
INSTRUMENT_HOST_ID = MEX
INSTRUMENT_HOST_NAME = "MARS EXPRESS"
INSTRUMENT_ID = HRSC
INSTRUMENT_NAME = "HIGH RESOLUTION STEREO CAMERA"
MISSION_NAME = "MARS EXPRESS"
MISSION_PHASE_NAME = ME_Phase_1
PROCESSING_LEVEL_ID = 3
PRODUCT_CREATION_TIME = 2016-04-07T13:48:30.000Z
PRODUCT_ID = "H2539_0000_S13.JP2"
RELEASE_ID = 0032
REVISION_ID = 0000
/* QUALITY DATA ELEMENTS */
DATA_QUALITY_ID = 1
DATA_QUALITY_DESC = "Data calculated based on original SPICE kernels"
/* TIME DATA ELEMENTS */
SPACECRAFT_CLOCK_START_COUNT = "1/0084382079.56205"
SPACECRAFT_CLOCK_STOP_COUNT = "1/0084382751.14957"
START_TIME = 2006-01-03T15:28:05.728Z
STOP_TIME = 2006-01-03T15:33:02.514Z
/* ORBITAL DATA ELEMENTS */
ASCENDING_NODE_LONGITUDE = 174.99
MAXIMUM_RESOLUTION = 56.1
FOOTPRINT_POINT_LATITUDE = (-41.3433,-41.357,-41.3727,-41.3792, -41.3418,-40.7162,-40.08,-39.4305, -39.103,-38.7725,-38.4387,-38.1017, -37.7639,-37.423,-37.0789,-36.7333, -36.2085,-35.8567,-35.3228,-34.9653, -34.6097,-34.2533,-33.8971,-33.5424, -33.1893,-32.8355,-32.4821,-32.1299, -31.7789,-31.4252,-31.0754,-30.7258, -30.3776,-29.8593,-29.338,-28.994, -28.6521,-28.3121,-27.9714,-27.6305, -27.2911,-26.7824,-26.2743,-25.7728, -25.4365,-25.1015,-24.7686,-24.2617, -24.2706,-24.2832,-24.2907,-24.2886, -24.2897,-24.285,-24.4421,-24.7738, -25.108,-25.6069,-25.9407,-26.2773, -26.6126,-26.945,-27.2841,-27.6209, -27.9576,-28.296,-28.6349,-28.9745, -29.3149,-29.6576,-30.0015,-30.3458, -30.6918,-31.039,-31.5582,-31.8983, -32.2524,-32.7848,-33.1363,-33.4889, -33.8429,-34.198,-34.5551,-34.9132, -35.2673,-35.623,-35.9745,-36.3237, -36.6702,-37.0148,-37.3569,-37.697, -38.0327,-38.3661,-38.698,-39.3504, -39.8386,-40.6333,-41.1069,-41.3433)
FOOTPRINT_POINT_LONGITUDE = (126.37,126.843,127.582,128.055,128.674 ,128.702,128.729,128.756,128.769, 128.782,128.795,128.809,128.821,128.833 ,128.845,128.857,128.874,128.884,128.9, 128.91,128.919,128.929,128.939,128.948, 128.957,128.965,128.974,128.983,128.991 ,129.0,129.007,129.015,129.022,129.032, 129.043,129.049,129.054,129.059,129.064 ,129.07,129.075,129.082,129.09,129.095, 129.1,129.104,129.107,128.962,128.581, 127.972,127.364,126.946,126.337,125.842 ,125.189,125.207,125.226,125.252, 125.268,125.286,125.302,125.316,125.332 ,125.347,125.361,125.374,125.388, 125.401,125.413,125.426,125.438,125.45, 125.461,125.473,125.488,125.495,125.506 ,125.522,125.53,125.538,125.546,125.553 ,125.561,125.567,125.572,125.577, 125.581,125.585,125.588,125.591,125.594 ,125.596,125.597,125.598,125.599, 125.598,125.598,125.593,125.59,126.37)
ORBIT_NUMBER = 2539
ORBITAL_ECCENTRICITY = 0.572
ORBITAL_INCLINATION = 86.62
ORBITAL_SEMIMAJOR_AXIS = 8528.24
PERIAPSIS_ALTITUDE = 277.59
PERIAPSIS_ARGUMENT_ANGLE = 272.1
PERIAPSIS_TIME = 2006-01-03T15:16:45.000Z
SPACECRAFT_ORIENTATION = (0.0,-1.0,0.0)
^MEX_ORIENTATION_DESC = "MEX_ORIENTATION_DESC.TXT"
SPACECRAFT_POINTING_MODE = NADIR
^MEX_POINTING_DESC = "MEX_POINTING_DESC.TXT"
RIGHT_ASCENSION = -1e+32
DECLINATION = -1e+32
OFFSET_ANGLE = -1e+32
SPACECRAFT_SOLAR_DISTANCE = 2.29584e+08
TARGET_NAME = MARS
/* CAMERA DATA ELEMENTS */
DETECTOR_TEMPERATURE = 17.7588
FOCAL_PLANE_TEMPERATURE = 8.5833
INST_CMPRS_NAME = "DISCRETE COSINE TRANSFORMATION (DCT)"
INST_CMPRS_RATIO = 9.6476
INST_CMPRS_QUALITY = 0
INST_CMPRS_QUANTZ_TBL_ID = 0
INSTRUMENT_TEMPERATURE = 11.4379
LENS_TEMPERATURE = 9.195
MACROPIXEL_SIZE = 2
MISSING_FRAMES = 0
PIXEL_SUBSAMPLING_FLAG = N
SIGNAL_CHAIN_ID = 1
/* RADIOMETRIC DATA ELEMENTS */
BANDWIDTH = 180.0
CENTER_FILTER_WAVELENGTH = 677.0
RADIANCE_OFFSET = 4.09498
RADIANCE_SCALING_FACTOR = 0.016893
REFLECTANCE_SCALING_FACTOR = 0.000464553
MEX:REFLECTANCE_OFFSET = 0.112611
/* IMAGE OBJECT DEFINITIONS */
OBJECT = IMAGE
  INTERCHANGE_FORMAT = BINARY
  LINES = 20299
  LINE_SAMPLES = 5039
  SAMPLE_TYPE = UNSIGNED_INTEGER
  SAMPLE_BITS = 8
  BANDS = 1
  BAND_STORAGE_TYPE = BAND_SEQUENTIAL
  MAXIMUM = 255
  MEAN = 114.944
  MINIMUM = 1
  STANDARD_DEVIATION = 24.9147
END_OBJECT = IMAGE
/* MAP OBJECT DEFINITIONS */
OBJECT = IMAGE_MAP_PROJECTION
  ^DATA_SET_MAP_PROJECTION_CATALOG= "DSMAP.CAT"
  A_AXIS_RADIUS = 3396.0
  B_AXIS_RADIUS = 3396.0
  C_AXIS_RADIUS = 3396.0
  CENTER_LATITUDE = 0.0
  CENTER_LONGITUDE = 127.0
  COORDINATE_SYSTEM_NAME = PLANETOGRAPHIC
  COORDINATE_SYSTEM_TYPE = "BODY-FIXED ROTATING"
  EASTERNMOST_LONGITUDE = 129.107
  FIRST_STANDARD_PARALLEL = "N/A"
  LINE_FIRST_PIXEL = 1
  LINE_LAST_PIXEL = 20299
  LINE_PROJECTION_OFFSET = -28639.75
  MAP_PROJECTION_ROTATION = 0.0
  MAP_PROJECTION_TYPE = SINUSOIDAL
  MAP_RESOLUTION = 1185.42760773333
  MAP_SCALE = 0.05
  MAXIMUM_LATITUDE = -24.2617
  MINIMUM_LATITUDE = -41.3792
  POSITIVE_LONGITUDE_DIRECTION = EAST
  REFERENCE_LATITUDE = "N/A"
  REFERENCE_LONGITUDE = "N/A"
  SAMPLE_FIRST_PIXEL = 1
  SAMPLE_LAST_PIXEL = 5039
  SAMPLE_PROJECTION_OFFSET = 2404.75
  SECOND_STANDARD_PARALLEL = "N/A"
  WESTERNMOST_LONGITUDE = 125.189
END_OBJECT = IMAGE_MAP_PROJECTION
/* The JPEG2000 image data file associated with this label. */
OBJECT = COMPRESSED_FILE
  FILE_NAME = "H2539_0000_S13.JP2"
  RECORD_TYPE = UNDEFINED
  FILE_RECORDS = UNK
  ENCODING_TYPE = "JP2"
  INTERCHANGE_FORMAT = BINARY
  UNCOMPRESSED_FILE_NAME = "H2539_0000_S13.IMG"
  REQUIRED_STORAGE_BYTES = "102311856"
  ^DESCRIPTION = "JP2INFO.TXT"
END_OBJECT = COMPRESSED_FILE
END
