PDS_VERSION_ID = PDS3
/* FILE DATA ELEMENTS */
RECORD_TYPE = STREAM
/* POINTERS TO DATA OBJECTS */
^COMPRESSED_FILE = "H2547_0000_P23.JP2"
/* IDENTIFICATION DATA ELEMENTS */
DATA_SET_ID = "MEX-M-HRSC-5-REFDR-MAPPROJECTED-V3.0"
DATA_SET_NAME = "MARS EXPRESS HRSC MAP PROJECTED REFDR V3.0"
DETECTOR_ID = MEX_HRSC_P2
EVENT_TYPE = "MARS-REGIONAL-MAPPING-Im-Gl-Pf"
INSTRUMENT_HOST_ID = MEX
INSTRUMENT_HOST_NAME = "MARS EXPRESS"
INSTRUMENT_ID = HRSC
INSTRUMENT_NAME = "HIGH RESOLUTION STEREO CAMERA"
MISSION_NAME = "MARS EXPRESS"
MISSION_PHASE_NAME = ME_Phase_1
PROCESSING_LEVEL_ID = 3
PRODUCT_CREATION_TIME = 2016-04-07T13:48:30.000Z
PRODUCT_ID = "H2547_0000_P23.JP2"
RELEASE_ID = 0032
REVISION_ID = 0000
/* QUALITY DATA ELEMENTS */
DATA_QUALITY_ID = 1
DATA_QUALITY_DESC = "Data calculated based on original SPICE kernels"
/* TIME DATA ELEMENTS */
SPACECRAFT_CLOCK_START_COUNT = "1/0084575030.57145"
SPACECRAFT_CLOCK_STOP_COUNT = "1/0084575286.17041"
START_TIME = 2006-01-05T21:04:42.722Z
STOP_TIME = 2006-01-05T21:07:56.516Z
/* ORBITAL DATA ELEMENTS */
ASCENDING_NODE_LONGITUDE = 174.82
MAXIMUM_RESOLUTION = 57.5
FOOTPRINT_POINT_LATITUDE = (-78.6967,-78.7525,-78.8533,-78.9408, -79.122,-78.8939,-78.6648,-78.4344, -78.204,-77.9716,-77.7343,-77.3814, -77.1436,-76.9048,-76.665,-76.4248, -76.1846,-75.8216,-75.5775,-75.3362, -75.0943,-74.8505,-74.6097,-74.3708, -74.0123,-73.772,-73.5338,-73.2936, -73.0534,-72.6929,-72.3326,-72.0621, -71.7753,-71.4886,-71.202,-70.7725, -70.3428,-69.9115,-69.6209,-69.1972, -68.7705,-68.4855,-68.1999,-67.9145, -67.6284,-67.203,-66.909,-66.618, -66.3259,-66.1176,-66.1077,-66.0908, -66.0565,-66.0222,-66.3114,-66.601, -66.8911,-67.1768,-67.4587,-67.7411, -68.0236,-68.446,-68.8696,-69.152, -69.4398,-69.7227,-70.0054,-70.2866, -70.5687,-70.8519,-71.2767,-71.6999, -72.1168,-72.4718,-72.7081,-72.9444, -73.1792,-73.4165,-73.7709,-74.0041, -74.241,-74.4725,-74.7072,-74.9442, -75.1788,-75.5293,-75.8814,-76.1154, -76.3494,-76.5854,-76.8174,-77.1615, -77.392,-77.6251,-77.8472,-78.0657, -78.2867,-78.5056,-78.7267,-78.6967)
FOOTPRINT_POINT_LONGITUDE = (40.1184,41.0644,42.9249,44.7418, 45.1756,45.6206,46.0488,46.4614,46.8557 ,47.239,47.6126,48.1314,48.4659,48.7892 ,49.102,49.4038,49.6936,50.1138,50.3857 ,50.6415,50.8894,51.1325,51.361,51.578, 51.8904,52.0925,52.2841,52.4733,52.6566 ,52.9211,53.1733,53.3543,53.5408, 53.7207,53.8943,54.1433,54.3804,54.6086 ,54.7592,54.959,55.1537,55.2793,55.4022 ,55.5212,55.6376,55.801,55.9143,56.0186 ,56.1214,55.756,55.2792,54.5506,53.4141 ,52.4102,52.2884,52.1611,52.0282, 51.8941,51.7584,51.6166,51.4701,51.2464 ,51.0068,50.8405,50.6471,50.467,50.2812 ,50.0954,49.899,49.6907,49.3638,49.0252 ,48.6711,48.3525,48.133,47.9058,47.6772 ,47.4291,47.0474,46.7959,46.5168, 46.2543,45.965,45.6517,45.3394,44.8535, 44.3267,43.9613,43.5787,43.1663,42.7607 ,42.1407,41.694,41.2022,40.7315,40.2637 ,39.7514,39.2287,38.6586,40.1184)
ORBIT_NUMBER = 2547
ORBITAL_ECCENTRICITY = 0.571
ORBITAL_INCLINATION = 86.62
ORBITAL_SEMIMAJOR_AXIS = 8527.79
PERIAPSIS_ALTITUDE = 277.98
PERIAPSIS_ARGUMENT_ANGLE = 270.73
PERIAPSIS_TIME = 2006-01-05T21:01:37.000Z
SPACECRAFT_ORIENTATION = (0.0,-1.0,0.0)
^MEX_ORIENTATION_DESC = "MEX_ORIENTATION_DESC.TXT"
SPACECRAFT_POINTING_MODE = INERT
^MEX_POINTING_DESC = "MEX_POINTING_DESC.TXT"
RIGHT_ASCENSION = 318.274
DECLINATION = 49.453
OFFSET_ANGLE = -1e+32
SPACECRAFT_SOLAR_DISTANCE = 2.30015e+08
TARGET_NAME = MARS
/* CAMERA DATA ELEMENTS */
DETECTOR_TEMPERATURE = 18.3705
FOCAL_PLANE_TEMPERATURE = 8.3794
INST_CMPRS_NAME = "DISCRETE COSINE TRANSFORMATION (DCT)"
INST_CMPRS_RATIO = 12.0395
INST_CMPRS_QUALITY = 0
INST_CMPRS_QUANTZ_TBL_ID = 0
INSTRUMENT_TEMPERATURE = 10.8262
LENS_TEMPERATURE = 8.7872
MACROPIXEL_SIZE = 4
MISSING_FRAMES = 0
PIXEL_SUBSAMPLING_FLAG = N
SIGNAL_CHAIN_ID = 3
/* RADIOMETRIC DATA ELEMENTS */
BANDWIDTH = 177.0
CENTER_FILTER_WAVELENGTH = 676.5
RADIANCE_OFFSET = 1.07903
RADIANCE_SCALING_FACTOR = 0.0108014
REFLECTANCE_SCALING_FACTOR = 0.000303005
MEX:REFLECTANCE_OFFSET = 0.0302692
/* IMAGE OBJECT DEFINITIONS */
OBJECT = IMAGE
  INTERCHANGE_FORMAT = BINARY
  LINES = 15546
  LINE_SAMPLES = 5414
  SAMPLE_TYPE = UNSIGNED_INTEGER
  SAMPLE_BITS = 8
  BANDS = 1
  BAND_STORAGE_TYPE = BAND_SEQUENTIAL
  MAXIMUM = 255
  MEAN = 112.772
  MINIMUM = 1
  STANDARD_DEVIATION = 48.3608
END_OBJECT = IMAGE
/* MAP OBJECT DEFINITIONS */
OBJECT = IMAGE_MAP_PROJECTION
  ^DATA_SET_MAP_PROJECTION_CATALOG= "DSMAP.CAT"
  A_AXIS_RADIUS = 3396.0
  B_AXIS_RADIUS = 3396.0
  C_AXIS_RADIUS = 3396.0
  CENTER_LATITUDE = 0.0
  CENTER_LONGITUDE = 50.0
  COORDINATE_SYSTEM_NAME = PLANETOGRAPHIC
  COORDINATE_SYSTEM_TYPE = "BODY-FIXED ROTATING"
  EASTERNMOST_LONGITUDE = 56.1214
  FIRST_STANDARD_PARALLEL = "N/A"
  LINE_FIRST_PIXEL = 1
  LINE_LAST_PIXEL = 15546
  LINE_PROJECTION_OFFSET = -78230.125
  MAP_PROJECTION_ROTATION = 0.0
  MAP_PROJECTION_TYPE = SINUSOIDAL
  MAP_RESOLUTION = 1185.42760773333
  MAP_SCALE = 0.05
  MAXIMUM_LATITUDE = -66.0222
  MINIMUM_LATITUDE = -79.122
  POSITIVE_LONGITUDE_DIRECTION = EAST
  REFERENCE_LATITUDE = "N/A"
  REFERENCE_LONGITUDE = "N/A"
  SAMPLE_FIRST_PIXEL = 1
  SAMPLE_LAST_PIXEL = 5414
  SAMPLE_PROJECTION_OFFSET = 2450.625
  SECOND_STANDARD_PARALLEL = "N/A"
  WESTERNMOST_LONGITUDE = 38.6586
END_OBJECT = IMAGE_MAP_PROJECTION
/* The JPEG2000 image data file associated with this label. */
OBJECT = COMPRESSED_FILE
  FILE_NAME = "H2547_0000_P23.JP2"
  RECORD_TYPE = UNDEFINED
  FILE_RECORDS = UNK
  ENCODING_TYPE = "JP2"
  INTERCHANGE_FORMAT = BINARY
  UNCOMPRESSED_FILE_NAME = "H2547_0000_P23.IMG"
  REQUIRED_STORAGE_BYTES = "84193114"
  ^DESCRIPTION = "JP2INFO.TXT"
END_OBJECT = COMPRESSED_FILE
END
