PDS_VERSION_ID = PDS3
/* FILE DATA ELEMENTS */
RECORD_TYPE = STREAM
/* POINTERS TO DATA OBJECTS */
^COMPRESSED_FILE = "H2550_0000_IR3.JP2"
/* IDENTIFICATION DATA ELEMENTS */
DATA_SET_ID = "MEX-M-HRSC-5-REFDR-MAPPROJECTED-V3.0"
DATA_SET_NAME = "MARS EXPRESS HRSC MAP PROJECTED REFDR V3.0"
DETECTOR_ID = MEX_HRSC_IR
EVENT_TYPE = "MARS-REGIONAL-MAPPING-Te-Fl"
INSTRUMENT_HOST_ID = MEX
INSTRUMENT_HOST_NAME = "MARS EXPRESS"
INSTRUMENT_ID = HRSC
INSTRUMENT_NAME = "HIGH RESOLUTION STEREO CAMERA"
MISSION_NAME = "MARS EXPRESS"
MISSION_PHASE_NAME = ME_Phase_1
PROCESSING_LEVEL_ID = 3
PRODUCT_CREATION_TIME = 2016-04-07T13:48:30.000Z
PRODUCT_ID = "H2550_0000_IR3.JP2"
RELEASE_ID = 0032
REVISION_ID = 0000
/* QUALITY DATA ELEMENTS */
DATA_QUALITY_ID = 2
DATA_QUALITY_DESC = "Data calculated based on photogrammetrically improved orbit and attitude data"
/* TIME DATA ELEMENTS */
SPACECRAFT_CLOCK_START_COUNT = "1/0084647819.56193"
SPACECRAFT_CLOCK_STOP_COUNT = "1/0084648426.40225"
START_TIME = 2006-01-06T17:17:11.769Z
STOP_TIME = 2006-01-06T17:23:50.931Z
/* ORBITAL DATA ELEMENTS */
ASCENDING_NODE_LONGITUDE = 174.76
MAXIMUM_RESOLUTION = 66.3
FOOTPRINT_POINT_LATITUDE = (-63.131,-63.1907,-63.2613,-62.6561, -62.279,-61.902,-61.3262,-60.9407, -60.5428,-60.1521,-59.5502,-59.1476, -58.7354,-58.3252,-57.9061,-57.4868, -57.0584,-56.4084,-55.9712,-55.5256, -55.078,-54.392,-53.9353,-53.4691, -52.9997,-52.5254,-52.0463,-51.5558, -51.0602,-50.56,-50.0556,-49.5405, -49.0207,-48.4939,-47.961,-47.4207, -46.8729,-46.3175,-45.756,-45.1841, -44.6051,-44.0181,-43.4219,-42.818, -42.2043,-41.583,-40.6279,-39.9882, -39.3286,-38.6574,-38.4963,-38.4901, -38.4706,-38.4413,-39.1085,-39.7648, -40.4108,-41.0459,-41.6732,-42.2887, -42.8965,-43.4993,-44.0909,-44.6752, -45.2521,-45.8219,-46.3814,-46.9314, -47.4735,-48.0119,-48.5373,-49.0586, -49.5749,-50.0839,-50.5887,-51.0845, -51.5749,-52.0581,-52.7776,-53.2486, -53.9497,-54.4034,-55.0806,-55.7382, -56.1837,-56.618,-57.0442,-57.4697, -57.8913,-58.3077,-58.7183,-59.3266, -59.9162,-60.5064,-60.9033,-61.2881, -61.6668,-62.0478,-62.4232,-63.131)
FOOTPRINT_POINT_LONGITUDE = (122.574,123.647,125.222,125.712, 125.787,125.86,125.966,126.035,126.107, 126.17,126.268,126.33,126.393,126.452, 126.511,126.569,126.626,126.711,126.765 ,126.819,126.871,126.951,126.997, 127.045,127.091,127.136,127.178,127.224 ,127.269,127.311,127.351,127.392, 127.432,127.472,127.509,127.546,127.583 ,127.618,127.652,127.687,127.72,127.752 ,127.784,127.815,127.845,127.873, 127.918,127.942,127.97,127.997,127.431, 126.635,125.617,124.588,124.591,124.592 ,124.59,124.587,124.582,124.574,124.565 ,124.556,124.543,124.53,124.514,124.498 ,124.479,124.457,124.433,124.409, 124.381,124.353,124.324,124.293,124.261 ,124.225,124.189,124.151,124.093, 124.051,123.988,123.94,123.868,123.789, 123.742,123.687,123.631,123.574,123.516 ,123.455,123.392,123.294,123.185, 123.078,123.007,122.932,122.85,122.773, 122.69,122.574)
ORBIT_NUMBER = 2550
ORBITAL_ECCENTRICITY = 0.571
ORBITAL_INCLINATION = 86.62
ORBITAL_SEMIMAJOR_AXIS = 8528.5
PERIAPSIS_ALTITUDE = 278.61
PERIAPSIS_ARGUMENT_ANGLE = 270.19
PERIAPSIS_TIME = 2006-01-06T17:10:58.000Z
SPACECRAFT_ORIENTATION = (0.0,-1.0,0.0)
^MEX_ORIENTATION_DESC = "MEX_ORIENTATION_DESC.TXT"
SPACECRAFT_POINTING_MODE = NADIR
^MEX_POINTING_DESC = "MEX_POINTING_DESC.TXT"
RIGHT_ASCENSION = -1e+32
DECLINATION = -1e+32
OFFSET_ANGLE = -1e+32
SPACECRAFT_SOLAR_DISTANCE = 2.30176e+08
TARGET_NAME = MARS
/* CAMERA DATA ELEMENTS */
DETECTOR_TEMPERATURE = 17.7588
FOCAL_PLANE_TEMPERATURE = 8.5833
INST_CMPRS_NAME = "DISCRETE COSINE TRANSFORMATION (DCT)"
INST_CMPRS_RATIO = 16.1534
INST_CMPRS_QUALITY = 0
INST_CMPRS_QUANTZ_TBL_ID = 0
INSTRUMENT_TEMPERATURE = 11.4379
LENS_TEMPERATURE = 9.195
MACROPIXEL_SIZE = 4
MISSING_FRAMES = 0
PIXEL_SUBSAMPLING_FLAG = N
SIGNAL_CHAIN_ID = 2
/* RADIOMETRIC DATA ELEMENTS */
BANDWIDTH = 81.0
CENTER_FILTER_WAVELENGTH = 955.5
RADIANCE_OFFSET = 0.3852
RADIANCE_SCALING_FACTOR = 0.00687073
REFLECTANCE_SCALING_FACTOR = 0.000785337
MEX:REFLECTANCE_OFFSET = 0.044029
/* IMAGE OBJECT DEFINITIONS */
OBJECT = IMAGE
  INTERCHANGE_FORMAT = BINARY
  LINES = 29336
  LINE_SAMPLES = 3973
  SAMPLE_TYPE = UNSIGNED_INTEGER
  SAMPLE_BITS = 8
  BANDS = 1
  BAND_STORAGE_TYPE = BAND_SEQUENTIAL
  MAXIMUM = 255
  MEAN = 109.521
  MINIMUM = 1
  STANDARD_DEVIATION = 47.7478
END_OBJECT = IMAGE
/* MAP OBJECT DEFINITIONS */
OBJECT = IMAGE_MAP_PROJECTION
  ^DATA_SET_MAP_PROJECTION_CATALOG= "DSMAP.CAT"
  A_AXIS_RADIUS = 3396.0
  B_AXIS_RADIUS = 3396.0
  C_AXIS_RADIUS = 3396.0
  CENTER_LATITUDE = 0.0
  CENTER_LONGITUDE = 126.0
  COORDINATE_SYSTEM_NAME = PLANETOGRAPHIC
  COORDINATE_SYSTEM_TYPE = "BODY-FIXED ROTATING"
  EASTERNMOST_LONGITUDE = 127.997
  FIRST_STANDARD_PARALLEL = "N/A"
  LINE_FIRST_PIXEL = 1
  LINE_LAST_PIXEL = 29336
  LINE_PROJECTION_OFFSET = -45543.625
  MAP_PROJECTION_ROTATION = 0.0
  MAP_PROJECTION_TYPE = SINUSOIDAL
  MAP_RESOLUTION = 1185.42760773333
  MAP_SCALE = 0.05
  MAXIMUM_LATITUDE = -38.4413
  MINIMUM_LATITUDE = -63.2613
  POSITIVE_LONGITUDE_DIRECTION = EAST
  REFERENCE_LATITUDE = "N/A"
  REFERENCE_LONGITUDE = "N/A"
  SAMPLE_FIRST_PIXEL = 1
  SAMPLE_LAST_PIXEL = 3973
  SAMPLE_PROJECTION_OFFSET = 1916.875
  SECOND_STANDARD_PARALLEL = "N/A"
  WESTERNMOST_LONGITUDE = 122.574
END_OBJECT = IMAGE_MAP_PROJECTION
/* The JPEG2000 image data file associated with this label. */
OBJECT = COMPRESSED_FILE
  FILE_NAME = "H2550_0000_IR3.JP2"
  RECORD_TYPE = UNDEFINED
  FILE_RECORDS = UNK
  ENCODING_TYPE = "JP2"
  INTERCHANGE_FORMAT = BINARY
  UNCOMPRESSED_FILE_NAME = "H2550_0000_IR3.IMG"
  REQUIRED_STORAGE_BYTES = "116575766"
  ^DESCRIPTION = "JP2INFO.TXT"
END_OBJECT = COMPRESSED_FILE
END
