PDS_VERSION_ID = PDS3
/* FILE DATA ELEMENTS */
RECORD_TYPE = STREAM
/* POINTERS TO DATA OBJECTS */
^COMPRESSED_FILE = "H2550_0000_P13.JP2"
/* IDENTIFICATION DATA ELEMENTS */
DATA_SET_ID = "MEX-M-HRSC-5-REFDR-MAPPROJECTED-V3.0"
DATA_SET_NAME = "MARS EXPRESS HRSC MAP PROJECTED REFDR V3.0"
DETECTOR_ID = MEX_HRSC_P1
EVENT_TYPE = "MARS-REGIONAL-MAPPING-Te-Fl"
INSTRUMENT_HOST_ID = MEX
INSTRUMENT_HOST_NAME = "MARS EXPRESS"
INSTRUMENT_ID = HRSC
INSTRUMENT_NAME = "HIGH RESOLUTION STEREO CAMERA"
MISSION_NAME = "MARS EXPRESS"
MISSION_PHASE_NAME = ME_Phase_1
PROCESSING_LEVEL_ID = 3
PRODUCT_CREATION_TIME = 2016-04-07T13:48:30.000Z
PRODUCT_ID = "H2550_0000_P13.JP2"
RELEASE_ID = 0032
REVISION_ID = 0000
/* QUALITY DATA ELEMENTS */
DATA_QUALITY_ID = 2
DATA_QUALITY_DESC = "Data calculated based on photogrammetrically improved orbit and attitude data"
/* TIME DATA ELEMENTS */
SPACECRAFT_CLOCK_START_COUNT = "1/0084647819.56193"
SPACECRAFT_CLOCK_STOP_COUNT = "1/0084648426.40225"
START_TIME = 2006-01-06T17:17:18.023Z
STOP_TIME = 2006-01-06T17:24:04.530Z
/* ORBITAL DATA ELEMENTS */
ASCENDING_NODE_LONGITUDE = 174.76
MAXIMUM_RESOLUTION = 32.9
FOOTPRINT_POINT_LATITUDE = (-63.1493,-63.1956,-63.2328,-62.8277, -62.2652,-61.4991,-61.1108,-60.7172, -60.3224,-59.9228,-59.5215,-59.1122, -58.7019,-58.2854,-57.6548,-57.2297, -56.7968,-56.1406,-55.698,-55.2478, -54.563,-54.1056,-53.4048,-52.9329, -52.4544,-51.9721,-51.4784,-50.98, -50.4768,-49.9689,-49.4508,-48.9276, -48.3974,-47.8606,-47.317,-46.7655, -46.2074,-45.6417,-45.0663,-44.4845, -43.8927,-43.2922,-42.6844,-42.0669, -41.4418,-40.8059,-40.1624,-39.5044, -38.8344,-38.5011,-38.4974,-38.491, -38.4658,-38.7847,-39.4484,-40.1009, -40.7431,-41.3757,-41.9991,-42.6119, -43.2197,-43.8171,-44.4078,-44.9881, -45.563,-46.1311,-46.6848,-47.2311, -47.7736,-48.3061,-48.8337,-49.3544, -49.8689,-50.3776,-50.8789,-51.3737, -51.8616,-52.3466,-52.8256,-53.2986, -53.7681,-54.2282,-54.682,-55.353, -55.7954,-56.243,-56.6752,-57.1058, -57.5309,-57.9539,-58.3699,-58.9868, -59.3932,-59.7854,-60.1842,-60.5789, -61.3615,-62.1248,-62.8715,-63.1493)
FOOTPRINT_POINT_LONGITUDE = (123.284,124.21,125.082,125.696,125.809 ,125.954,126.024,126.095,126.163, 126.228,126.292,126.356,126.419,126.479 ,126.567,126.624,126.681,126.765,126.82 ,126.874,126.954,127.001,127.074, 127.121,127.165,127.208,127.255,127.3, 127.342,127.382,127.424,127.465,127.504 ,127.542,127.58,127.616,127.652,127.686 ,127.721,127.755,127.788,127.82,127.851 ,127.882,127.91,127.939,127.966,127.995 ,128.023,127.327,126.753,126.247,125.1, 124.55,124.553,124.554,124.552,124.549, 124.543,124.535,124.527,124.516,124.504 ,124.49,124.475,124.459,124.438,124.414 ,124.391,124.365,124.338,124.309, 124.279,124.247,124.214,124.179,124.141 ,124.104,124.063,124.023,123.982, 123.935,123.887,123.812,123.76,123.712, 123.658,123.601,123.545,123.486,123.424 ,123.329,123.261,123.188,123.117, 123.046,122.898,122.737,122.568, 123.284)
ORBIT_NUMBER = 2550
ORBITAL_ECCENTRICITY = 0.571
ORBITAL_INCLINATION = 86.62
ORBITAL_SEMIMAJOR_AXIS = 8528.5
PERIAPSIS_ALTITUDE = 278.61
PERIAPSIS_ARGUMENT_ANGLE = 270.19
PERIAPSIS_TIME = 2006-01-06T17:10:58.000Z
SPACECRAFT_ORIENTATION = (0.0,-1.0,0.0)
^MEX_ORIENTATION_DESC = "MEX_ORIENTATION_DESC.TXT"
SPACECRAFT_POINTING_MODE = NADIR
^MEX_POINTING_DESC = "MEX_POINTING_DESC.TXT"
RIGHT_ASCENSION = -1e+32
DECLINATION = -1e+32
OFFSET_ANGLE = -1e+32
SPACECRAFT_SOLAR_DISTANCE = 2.30176e+08
TARGET_NAME = MARS
/* CAMERA DATA ELEMENTS */
DETECTOR_TEMPERATURE = 17.7588
FOCAL_PLANE_TEMPERATURE = 8.5833
INST_CMPRS_NAME = "DISCRETE COSINE TRANSFORMATION (DCT)"
INST_CMPRS_RATIO = 13.3007
INST_CMPRS_QUALITY = 0
INST_CMPRS_QUANTZ_TBL_ID = 0
INSTRUMENT_TEMPERATURE = 11.4379
LENS_TEMPERATURE = 9.195
MACROPIXEL_SIZE = 2
MISSING_FRAMES = 0
PIXEL_SUBSAMPLING_FLAG = N
SIGNAL_CHAIN_ID = 3
/* RADIOMETRIC DATA ELEMENTS */
BANDWIDTH = 174.0
CENTER_FILTER_WAVELENGTH = 675.0
RADIANCE_OFFSET = 1.82363
RADIANCE_SCALING_FACTOR = 0.0233615
REFLECTANCE_SCALING_FACTOR = 0.000665749
MEX:REFLECTANCE_OFFSET = 0.0519692
/* IMAGE OBJECT DEFINITIONS */
OBJECT = IMAGE
  INTERCHANGE_FORMAT = BINARY
  LINES = 58671
  LINE_SAMPLES = 7946
  SAMPLE_TYPE = UNSIGNED_INTEGER
  SAMPLE_BITS = 8
  BANDS = 1
  BAND_STORAGE_TYPE = BAND_SEQUENTIAL
  MAXIMUM = 255
  MEAN = 114.63
  MINIMUM = 1
  STANDARD_DEVIATION = 48.0411
END_OBJECT = IMAGE
/* MAP OBJECT DEFINITIONS */
OBJECT = IMAGE_MAP_PROJECTION
  ^DATA_SET_MAP_PROJECTION_CATALOG= "DSMAP.CAT"
  A_AXIS_RADIUS = 3396.0
  B_AXIS_RADIUS = 3396.0
  C_AXIS_RADIUS = 3396.0
  CENTER_LATITUDE = 0.0
  CENTER_LONGITUDE = 126.0
  COORDINATE_SYSTEM_NAME = PLANETOGRAPHIC
  COORDINATE_SYSTEM_TYPE = "BODY-FIXED ROTATING"
  EASTERNMOST_LONGITUDE = 128.023
  FIRST_STANDARD_PARALLEL = "N/A"
  LINE_FIRST_PIXEL = 1
  LINE_LAST_PIXEL = 58671
  LINE_PROJECTION_OFFSET = -91086.75
  MAP_PROJECTION_ROTATION = 0.0
  MAP_PROJECTION_TYPE = SINUSOIDAL
  MAP_RESOLUTION = 2370.85521546667
  MAP_SCALE = 0.025
  MAXIMUM_LATITUDE = -38.4658
  MINIMUM_LATITUDE = -63.2328
  POSITIVE_LONGITUDE_DIRECTION = EAST
  REFERENCE_LATITUDE = "N/A"
  REFERENCE_LONGITUDE = "N/A"
  SAMPLE_FIRST_PIXEL = 1
  SAMPLE_LAST_PIXEL = 7946
  SAMPLE_PROJECTION_OFFSET = 3834.25
  SECOND_STANDARD_PARALLEL = "N/A"
  WESTERNMOST_LONGITUDE = 122.568
END_OBJECT = IMAGE_MAP_PROJECTION
/* The JPEG2000 image data file associated with this label. */
OBJECT = COMPRESSED_FILE
  FILE_NAME = "H2550_0000_P13.JP2"
  RECORD_TYPE = UNDEFINED
  FILE_RECORDS = UNK
  ENCODING_TYPE = "JP2"
  INTERCHANGE_FORMAT = BINARY
  UNCOMPRESSED_FILE_NAME = "H2550_0000_P13.IMG"
  REQUIRED_STORAGE_BYTES = "466231550"
  ^DESCRIPTION = "JP2INFO.TXT"
END_OBJECT = COMPRESSED_FILE
END
