PDS_VERSION_ID = PDS3
/* FILE DATA ELEMENTS */
RECORD_TYPE = STREAM
/* POINTERS TO DATA OBJECTS */
^COMPRESSED_FILE = "H2575_0000_GR3.JP2"
/* IDENTIFICATION DATA ELEMENTS */
DATA_SET_ID = "MEX-M-HRSC-5-REFDR-MAPPROJECTED-V3.0"
DATA_SET_NAME = "MARS EXPRESS HRSC MAP PROJECTED REFDR V3.0"
DETECTOR_ID = MEX_HRSC_GREEN
EVENT_TYPE = "MARS-REGIONAL-MAPPING-Te-Im"
INSTRUMENT_HOST_ID = MEX
INSTRUMENT_HOST_NAME = "MARS EXPRESS"
INSTRUMENT_ID = HRSC
INSTRUMENT_NAME = "HIGH RESOLUTION STEREO CAMERA"
MISSION_NAME = "MARS EXPRESS"
MISSION_PHASE_NAME = ME_Phase_2
PROCESSING_LEVEL_ID = 3
PRODUCT_CREATION_TIME = 2016-04-07T13:48:30.000Z
PRODUCT_ID = "H2575_0000_GR3.JP2"
RELEASE_ID = 0032
REVISION_ID = 0000
/* QUALITY DATA ELEMENTS */
DATA_QUALITY_ID = 2
DATA_QUALITY_DESC = "Data calculated based on photogrammetrically improved orbit and attitude data"
/* TIME DATA ELEMENTS */
SPACECRAFT_CLOCK_START_COUNT = "1/0085252667.08378"
SPACECRAFT_CLOCK_STOP_COUNT = "1/0085253337.20633"
START_TIME = 2006-01-13T17:18:37.139Z
STOP_TIME = 2006-01-13T17:25:29.313Z
/* ORBITAL DATA ELEMENTS */
ASCENDING_NODE_LONGITUDE = 174.25
MAXIMUM_RESOLUTION = 209.2
FOOTPRINT_POINT_LATITUDE = (-51.2127,-51.2705,-51.3172,-51.1772, -50.713,-50.0854,-49.6088,-48.9646, -48.4744,-46.4565,-45.9384,-45.2296, -44.8722,-44.512,-44.1486,-43.7817, -43.411,-43.0375,-42.6604,-42.2797, -41.8956,-41.508,-41.1173,-40.7223, -40.324,-39.9217,-39.5144,-39.1043, -38.6891,-38.2702,-37.8516,-37.4352, -37.021,-36.6086,-36.1985,-35.7906, -35.3847,-34.9801,-34.5774,-34.1769, -33.7789,-33.3818,-32.9869,-32.5938, -32.2023,-31.813,-31.4257,-31.0401, -30.6565,-30.6596,-30.664,-30.6648, -30.6653,-30.6612,-30.6555,-30.6463, -30.8246,-31.2043,-31.5864,-31.9706, -32.3567,-32.7449,-33.1348,-33.5263, -33.9197,-34.3156,-34.7134,-35.1138, -35.5145,-35.9176,-36.3232,-36.7312, -37.143,-37.7618,-38.1753,-38.7967, -39.2056,-39.6105,-40.0114,-40.4085, -40.8019,-41.1918,-41.5783,-41.9616, -42.3416,-42.718,-43.0909,-43.461, -43.8288,-44.1914,-44.908,-45.6119, -46.3049,-48.3124,-48.7997,-49.4405, -49.9146,-50.5391,-51.0009,-51.2127)
FOOTPRINT_POINT_LONGITUDE = (186.865,187.946,189.014,189.817, 189.873,189.946,189.999,190.069,190.12, 190.315,190.359,190.421,190.451,190.48, 190.509,190.538,190.566,190.594,190.621 ,190.648,190.675,190.701,190.727, 190.752,190.777,190.802,190.827,190.851 ,190.875,190.899,190.922,190.944, 190.965,190.986,191.006,191.025,191.043 ,191.061,191.079,191.096,191.112, 191.128,191.144,191.159,191.174,191.189 ,191.202,191.216,191.229,190.498, 190.019,189.583,189.103,188.4,187.87, 187.25,186.56,186.574,186.589,186.604, 186.618,186.632,186.644,186.654,186.664 ,186.674,186.683,186.693,186.697, 186.702,186.707,186.713,186.723,186.728 ,186.725,186.725,186.724,186.721, 186.716,186.71,186.704,186.696,186.689, 186.682,186.674,186.665,186.655,186.646 ,186.639,186.625,186.594,186.562, 186.527,186.404,186.366,186.315,186.276 ,186.221,186.178,186.865)
ORBIT_NUMBER = 2575
ORBITAL_ECCENTRICITY = 0.571
ORBITAL_INCLINATION = 86.62
ORBITAL_SEMIMAJOR_AXIS = 8530.37
PERIAPSIS_ALTITUDE = 280.57
PERIAPSIS_ARGUMENT_ANGLE = 265.83
PERIAPSIS_TIME = 2006-01-13T17:07:26.000Z
SPACECRAFT_ORIENTATION = (0.0,-1.0,0.0)
^MEX_ORIENTATION_DESC = "MEX_ORIENTATION_DESC.TXT"
SPACECRAFT_POINTING_MODE = ACROSSTRACK
^MEX_POINTING_DESC = "MEX_POINTING_DESC.TXT"
RIGHT_ASCENSION = -1e+32
DECLINATION = -1e+32
OFFSET_ANGLE = 0.92
SPACECRAFT_SOLAR_DISTANCE = 2.31509e+08
TARGET_NAME = MARS
/* CAMERA DATA ELEMENTS */
DETECTOR_TEMPERATURE = 18.5744
FOCAL_PLANE_TEMPERATURE = 9.195
INST_CMPRS_NAME = "DISCRETE COSINE TRANSFORMATION (DCT)"
INST_CMPRS_RATIO = 11.6508
INST_CMPRS_QUALITY = 0
INST_CMPRS_QUANTZ_TBL_ID = 0
INSTRUMENT_TEMPERATURE = 11.4379
LENS_TEMPERATURE = 9.3989
MACROPIXEL_SIZE = 8
MISSING_FRAMES = 81
PIXEL_SUBSAMPLING_FLAG = N
SIGNAL_CHAIN_ID = 2
/* RADIOMETRIC DATA ELEMENTS */
BANDWIDTH = 88.0
CENTER_FILTER_WAVELENGTH = 538.0
RADIANCE_OFFSET = 1.06359
RADIANCE_SCALING_FACTOR = 0.00417093
REFLECTANCE_SCALING_FACTOR = 0.00019247
MEX:REFLECTANCE_OFFSET = 0.0490799
/* IMAGE OBJECT DEFINITIONS */
OBJECT = IMAGE
  INTERCHANGE_FORMAT = BINARY
  LINES = 6114
  LINE_SAMPLES = 1259
  SAMPLE_TYPE = UNSIGNED_INTEGER
  SAMPLE_BITS = 8
  BANDS = 1
  BAND_STORAGE_TYPE = BAND_SEQUENTIAL
  MAXIMUM = 255
  MEAN = 135.89
  MINIMUM = 1
  STANDARD_DEVIATION = 29.9107
END_OBJECT = IMAGE
/* MAP OBJECT DEFINITIONS */
OBJECT = IMAGE_MAP_PROJECTION
  ^DATA_SET_MAP_PROJECTION_CATALOG= "DSMAP.CAT"
  A_AXIS_RADIUS = 3396.0
  B_AXIS_RADIUS = 3396.0
  C_AXIS_RADIUS = 3396.0
  CENTER_LATITUDE = 0.0
  CENTER_LONGITUDE = 189.0
  COORDINATE_SYSTEM_NAME = PLANETOGRAPHIC
  COORDINATE_SYSTEM_TYPE = "BODY-FIXED ROTATING"
  EASTERNMOST_LONGITUDE = 191.229
  FIRST_STANDARD_PARALLEL = "N/A"
  LINE_FIRST_PIXEL = 1
  LINE_LAST_PIXEL = 6114
  LINE_PROJECTION_OFFSET = -9132.9375
  MAP_PROJECTION_ROTATION = 0.0
  MAP_PROJECTION_TYPE = SINUSOIDAL
  MAP_RESOLUTION = 296.356901933333
  MAP_SCALE = 0.2
  MAXIMUM_LATITUDE = -30.6463
  MINIMUM_LATITUDE = -51.3172
  POSITIVE_LONGITUDE_DIRECTION = EAST
  REFERENCE_LATITUDE = "N/A"
  REFERENCE_LONGITUDE = "N/A"
  SAMPLE_FIRST_PIXEL = 1
  SAMPLE_LAST_PIXEL = 1259
  SAMPLE_PROJECTION_OFFSET = 656.1875
  SECOND_STANDARD_PARALLEL = "N/A"
  WESTERNMOST_LONGITUDE = 186.178
END_OBJECT = IMAGE_MAP_PROJECTION
/* The JPEG2000 image data file associated with this label. */
OBJECT = COMPRESSED_FILE
  FILE_NAME = "H2575_0000_GR3.JP2"
  RECORD_TYPE = UNDEFINED
  FILE_RECORDS = UNK
  ENCODING_TYPE = "JP2"
  INTERCHANGE_FORMAT = BINARY
  UNCOMPRESSED_FILE_NAME = "H2575_0000_GR3.IMG"
  REQUIRED_STORAGE_BYTES = "7716411"
  ^DESCRIPTION = "JP2INFO.TXT"
END_OBJECT = COMPRESSED_FILE
END
