PDS_VERSION_ID = PDS3
/* FILE DATA ELEMENTS */
RECORD_TYPE = STREAM
/* POINTERS TO DATA OBJECTS */
^COMPRESSED_FILE = "H2577_0000_P23.JP2"
/* IDENTIFICATION DATA ELEMENTS */
DATA_SET_ID = "MEX-M-HRSC-5-REFDR-MAPPROJECTED-V3.0"
DATA_SET_NAME = "MARS EXPRESS HRSC MAP PROJECTED REFDR V3.0"
DETECTOR_ID = MEX_HRSC_P2
EVENT_TYPE = "MARS-REGIONAL-MAPPING-Te-Im-Pf"
INSTRUMENT_HOST_ID = MEX
INSTRUMENT_HOST_NAME = "MARS EXPRESS"
INSTRUMENT_ID = HRSC
INSTRUMENT_NAME = "HIGH RESOLUTION STEREO CAMERA"
MISSION_NAME = "MARS EXPRESS"
MISSION_PHASE_NAME = ME_Phase_2
PROCESSING_LEVEL_ID = 3
PRODUCT_CREATION_TIME = 2016-04-07T13:48:30.000Z
PRODUCT_ID = "H2577_0000_P23.JP2"
RELEASE_ID = 0032
REVISION_ID = 0000
/* QUALITY DATA ELEMENTS */
DATA_QUALITY_ID = 2
DATA_QUALITY_DESC = "Data calculated based on photogrammetrically improved orbit and attitude data"
/* TIME DATA ELEMENTS */
SPACECRAFT_CLOCK_START_COUNT = "1/0085300778.09032"
SPACECRAFT_CLOCK_STOP_COUNT = "1/0085301319.28433"
START_TIME = 2006-01-14T06:40:47.154Z
STOP_TIME = 2006-01-14T06:48:00.697Z
/* ORBITAL DATA ELEMENTS */
ASCENDING_NODE_LONGITUDE = 174.22
MAXIMUM_RESOLUTION = 35.5
FOOTPRINT_POINT_LATITUDE = (-68.5954,-68.6522,-68.5994,-67.8935, -67.5376,-67.1749,-66.8123,-66.4437, -66.0748,-65.6998,-65.1333,-64.7514, -64.3649,-63.7799,-63.1866,-62.7873, -62.3814,-61.9725,-61.3504,-60.9341, -60.5118,-59.8701,-59.4368,-58.9986, -58.5554,-58.1085,-57.6564,-57.1992, -56.738,-56.2746,-55.7986,-55.3202, -54.8365,-54.3471,-53.8531,-53.0995, -52.5957,-52.0807,-51.5574,-50.7612, -50.2305,-49.6874,-49.137,-48.2908, -47.7205,-47.1442,-46.5615,-46.2418, -46.237,-46.229,-46.2172,-46.2067, -46.1865,-46.7627,-47.3376,-47.9056, -48.4666,-49.0195,-49.5667,-50.1096, -50.9072,-51.4401,-51.9591,-52.4713, -52.9772,-53.4739,-53.9643,-54.4552, -54.9371,-55.4139,-55.8881,-56.3544, -56.8161,-57.2741,-57.7281,-58.1754, -58.6189,-59.0559,-59.4891,-59.9177, -60.3425,-60.7635,-61.1786,-61.5906, -61.9997,-62.402,-62.8033,-63.2013, -63.5928,-64.1749,-64.5595,-64.9391, -65.5025,-65.8754,-66.2422,-66.6087, -66.9688,-67.6828,-68.558,-68.5954)
FOOTPRINT_POINT_LONGITUDE = (349.186,350.34,351.863,352.1,352.214, 352.325,352.432,352.538,352.641,352.741 ,352.887,352.982,353.074,353.209, 353.339,353.424,353.506,353.585,353.702 ,353.779,353.855,353.964,354.036, 354.105,354.173,354.24,354.306,354.37, 354.434,354.498,354.557,354.616,354.674 ,354.732,354.788,354.87,354.928,354.981 ,355.033,355.108,355.162,355.212, 355.261,355.328,355.373,355.419,355.464 ,354.767,354.215,353.538,352.776, 352.226,351.379,351.098,351.085,351.07, 351.053,351.035,351.013,350.988,350.948 ,350.912,350.88,350.846,350.811,350.776 ,350.74,350.696,350.653,350.607,350.557 ,350.507,350.454,350.397,350.338, 350.278,350.216,350.151,350.084,350.015 ,349.943,349.868,349.792,349.712, 349.629,349.545,349.456,349.364,349.271 ,349.124,349.022,348.918,348.754, 348.641,348.525,348.404,348.281,348.022 ,347.676,349.186)
ORBIT_NUMBER = 2577
ORBITAL_ECCENTRICITY = 0.571
ORBITAL_INCLINATION = 86.63
ORBITAL_SEMIMAJOR_AXIS = 8529.36
PERIAPSIS_ALTITUDE = 280.63
PERIAPSIS_ARGUMENT_ANGLE = 265.47
PERIAPSIS_TIME = 2006-01-14T06:33:50.000Z
SPACECRAFT_ORIENTATION = (0.0,-1.0,0.0)
^MEX_ORIENTATION_DESC = "MEX_ORIENTATION_DESC.TXT"
SPACECRAFT_POINTING_MODE = NADIR
^MEX_POINTING_DESC = "MEX_POINTING_DESC.TXT"
RIGHT_ASCENSION = -1e+32
DECLINATION = -1e+32
OFFSET_ANGLE = -1e+32
SPACECRAFT_SOLAR_DISTANCE = 2.31615e+08
TARGET_NAME = MARS
/* CAMERA DATA ELEMENTS */
DETECTOR_TEMPERATURE = 18.5744
FOCAL_PLANE_TEMPERATURE = 8.9911
INST_CMPRS_NAME = "DISCRETE COSINE TRANSFORMATION (DCT)"
INST_CMPRS_RATIO = 12.7575
INST_CMPRS_QUALITY = 0
INST_CMPRS_QUANTZ_TBL_ID = 0
INSTRUMENT_TEMPERATURE = 11.4379
LENS_TEMPERATURE = 8.9911
MACROPIXEL_SIZE = 2
MISSING_FRAMES = 0
PIXEL_SUBSAMPLING_FLAG = N
SIGNAL_CHAIN_ID = 3
/* RADIOMETRIC DATA ELEMENTS */
BANDWIDTH = 177.0
CENTER_FILTER_WAVELENGTH = 676.5
RADIANCE_OFFSET = 1.19272
RADIANCE_SCALING_FACTOR = 0.0171502
REFLECTANCE_SCALING_FACTOR = 0.000487826
MEX:REFLECTANCE_OFFSET = 0.0339261
/* IMAGE OBJECT DEFINITIONS */
OBJECT = IMAGE
  INTERCHANGE_FORMAT = BINARY
  LINES = 53602
  LINE_SAMPLES = 9020
  SAMPLE_TYPE = UNSIGNED_INTEGER
  SAMPLE_BITS = 8
  BANDS = 1
  BAND_STORAGE_TYPE = BAND_SEQUENTIAL
  MAXIMUM = 255
  MEAN = 101.376
  MINIMUM = 1
  STANDARD_DEVIATION = 36.5862
END_OBJECT = IMAGE
/* MAP OBJECT DEFINITIONS */
OBJECT = IMAGE_MAP_PROJECTION
  ^DATA_SET_MAP_PROJECTION_CATALOG= "DSMAP.CAT"
  A_AXIS_RADIUS = 3396.0
  B_AXIS_RADIUS = 3396.0
  C_AXIS_RADIUS = 3396.0
  CENTER_LATITUDE = 0.0
  CENTER_LONGITUDE = 352.0
  COORDINATE_SYSTEM_NAME = PLANETOGRAPHIC
  COORDINATE_SYSTEM_TYPE = "BODY-FIXED ROTATING"
  EASTERNMOST_LONGITUDE = 355.464
  FIRST_STANDARD_PARALLEL = "N/A"
  LINE_FIRST_PIXEL = 1
  LINE_LAST_PIXEL = 53602
  LINE_PROJECTION_OFFSET = -109447.75
  MAP_PROJECTION_ROTATION = 0.0
  MAP_PROJECTION_TYPE = SINUSOIDAL
  MAP_RESOLUTION = 2370.85521546667
  MAP_SCALE = 0.025
  MAXIMUM_LATITUDE = -46.1865
  MINIMUM_LATITUDE = -68.65219999999999
  POSITIVE_LONGITUDE_DIRECTION = EAST
  REFERENCE_LATITUDE = "N/A"
  REFERENCE_LONGITUDE = "N/A"
  SAMPLE_FIRST_PIXEL = 1
  SAMPLE_LAST_PIXEL = 9020
  SAMPLE_PROJECTION_OFFSET = 3689.75
  SECOND_STANDARD_PARALLEL = "N/A"
  WESTERNMOST_LONGITUDE = 347.676
END_OBJECT = IMAGE_MAP_PROJECTION
/* The JPEG2000 image data file associated with this label. */
OBJECT = COMPRESSED_FILE
  FILE_NAME = "H2577_0000_P23.JP2"
  RECORD_TYPE = UNDEFINED
  FILE_RECORDS = UNK
  ENCODING_TYPE = "JP2"
  INTERCHANGE_FORMAT = BINARY
  UNCOMPRESSED_FILE_NAME = "H2577_0000_P23.IMG"
  REQUIRED_STORAGE_BYTES = "483526120"
  ^DESCRIPTION = "JP2INFO.TXT"
END_OBJECT = COMPRESSED_FILE
END
