PDS_VERSION_ID = PDS3
/* FILE DATA ELEMENTS */
RECORD_TYPE = STREAM
/* POINTERS TO DATA OBJECTS */
^COMPRESSED_FILE = "H2578_0000_ND3.JP2"
/* IDENTIFICATION DATA ELEMENTS */
DATA_SET_ID = "MEX-M-HRSC-5-REFDR-MAPPROJECTED-V3.0"
DATA_SET_NAME = "MARS EXPRESS HRSC MAP PROJECTED REFDR V3.0"
DETECTOR_ID = MEX_HRSC_NADIR
EVENT_TYPE = "MARS-REGIONAL-MAPPING-Gl-Eo"
INSTRUMENT_HOST_ID = MEX
INSTRUMENT_HOST_NAME = "MARS EXPRESS"
INSTRUMENT_ID = HRSC
INSTRUMENT_NAME = "HIGH RESOLUTION STEREO CAMERA"
MISSION_NAME = "MARS EXPRESS"
MISSION_PHASE_NAME = ME_Phase_2
PROCESSING_LEVEL_ID = 3
PRODUCT_CREATION_TIME = 2016-04-07T13:48:30.000Z
PRODUCT_ID = "H2578_0000_ND3.JP2"
RELEASE_ID = 0032
REVISION_ID = 0000
/* QUALITY DATA ELEMENTS */
DATA_QUALITY_ID = 1
DATA_QUALITY_DESC = "Data calculated based on original SPICE kernels"
/* TIME DATA ELEMENTS */
SPACECRAFT_CLOCK_START_COUNT = "1/0085324834.09074"
SPACECRAFT_CLOCK_STOP_COUNT = "1/0085325019.08891"
START_TIME = 2006-01-14T13:21:08.651Z
STOP_TIME = 2006-01-14T13:23:03.656Z
/* ORBITAL DATA ELEMENTS */
ASCENDING_NODE_LONGITUDE = 174.2
MAXIMUM_RESOLUTION = 13.3
FOOTPRINT_POINT_LATITUDE = (-77.6891,-77.7617,-77.8383,-77.885, -77.9342,-77.8255,-77.5607,-77.2959, -77.1597,-77.0229,-76.886,-76.7492, -76.6123,-76.4755,-76.3384,-76.2016, -76.0648,-75.9283,-75.7915,-75.6547, -75.518,-75.3814,-75.2447,-75.108, -74.9715,-74.8351,-74.6985,-74.562, -74.4257,-74.2892,-74.1529,-74.0166, -73.7441,-73.4717,-73.3206,-73.1583, -72.9961,-72.834,-72.6719,-72.51, -72.3481,-72.1863,-72.0247,-71.863, -71.7015,-71.5401,-71.3788,-71.2176, -71.0565,-70.8955,-70.7346,-70.694, -70.6661,-70.6154,-70.566,-70.525, -70.6608,-70.8204,-70.9801,-71.1399, -71.2998,-71.4597,-71.6197,-71.7799, -71.94,-72.1002,-72.2605,-72.4208, -72.5812,-72.7417,-72.9021,-73.0627, -73.215,-73.4842,-73.7534,-74.0228, -74.2922,-74.4269,-74.5617,-74.6964, -74.8311,-74.9659,-75.1006,-75.2353, -75.3701,-75.5048,-75.6394,-75.7741, -75.9088,-76.0434,-76.178,-76.3125, -76.4471,-76.5815,-76.716,-76.8503, -76.9845,-77.2443,-77.5039,-77.6891)
FOOTPRINT_POINT_LONGITUDE = (242.861,243.987,245.276,246.126, 247.086,247.702,247.994,248.273,248.411 ,248.549,248.682,248.812,248.94,249.065 ,249.183,249.302,249.42,249.538,249.651 ,249.761,249.869,249.976,250.078, 250.179,250.28,250.381,250.477,250.57, 250.664,250.754,250.843,250.931,251.101 ,251.263,251.351,251.445,251.537, 251.627,251.715,251.802,251.886,251.969 ,252.051,252.13,252.209,252.285,252.36, 252.434,252.506,252.577,252.647,252.125 ,251.516,250.504,249.618,248.937, 248.472,248.386,248.298,248.209,248.117 ,248.024,247.929,247.832,247.734, 247.632,247.528,247.421,247.313,247.204 ,247.091,246.975,246.864,246.662,246.45 ,246.232,246.005,245.888,245.769, 245.648,245.524,245.397,245.269,245.137 ,245.003,244.867,244.727,244.585, 244.439,244.29,244.139,243.984,243.825, 243.664,243.498,243.329,243.157,242.811 ,242.45,242.861)
ORBIT_NUMBER = 2578
ORBITAL_ECCENTRICITY = 0.571
ORBITAL_INCLINATION = 86.62
ORBITAL_SEMIMAJOR_AXIS = 8530.28
PERIAPSIS_ALTITUDE = 280.01
PERIAPSIS_ARGUMENT_ANGLE = 265.3
PERIAPSIS_TIME = 2006-01-14T13:17:02.000Z
SPACECRAFT_ORIENTATION = (0.0,-1.0,0.0)
^MEX_ORIENTATION_DESC = "MEX_ORIENTATION_DESC.TXT"
SPACECRAFT_POINTING_MODE = NADIR
^MEX_POINTING_DESC = "MEX_POINTING_DESC.TXT"
RIGHT_ASCENSION = -1e+32
DECLINATION = -1e+32
OFFSET_ANGLE = -1e+32
SPACECRAFT_SOLAR_DISTANCE = 2.31668e+08
TARGET_NAME = MARS
/* CAMERA DATA ELEMENTS */
DETECTOR_TEMPERATURE = 18.3705
FOCAL_PLANE_TEMPERATURE = 8.5833
INST_CMPRS_NAME = "DISCRETE COSINE TRANSFORMATION (DCT)"
INST_CMPRS_RATIO = 8.26901
INST_CMPRS_QUALITY = 0
INST_CMPRS_QUANTZ_TBL_ID = 0
INSTRUMENT_TEMPERATURE = 11.4379
LENS_TEMPERATURE = 8.9911
MACROPIXEL_SIZE = 1
MISSING_FRAMES = 0
PIXEL_SUBSAMPLING_FLAG = N
SIGNAL_CHAIN_ID = 0
/* RADIOMETRIC DATA ELEMENTS */
BANDWIDTH = 177.0
CENTER_FILTER_WAVELENGTH = 677.5
RADIANCE_OFFSET = 0.796704
RADIANCE_SCALING_FACTOR = 0.00481667
REFLECTANCE_SCALING_FACTOR = 0.00013733
MEX:REFLECTANCE_OFFSET = 0.0227151
/* IMAGE OBJECT DEFINITIONS */
OBJECT = IMAGE
  INTERCHANGE_FORMAT = BINARY
  LINES = 35336
  LINE_SAMPLES = 12893
  SAMPLE_TYPE = UNSIGNED_INTEGER
  SAMPLE_BITS = 8
  BANDS = 1
  BAND_STORAGE_TYPE = BAND_SEQUENTIAL
  MAXIMUM = 254
  MEAN = 123.287
  MINIMUM = 1
  STANDARD_DEVIATION = 36.6551
END_OBJECT = IMAGE
/* MAP OBJECT DEFINITIONS */
OBJECT = IMAGE_MAP_PROJECTION
  ^DATA_SET_MAP_PROJECTION_CATALOG= "DSMAP.CAT"
  A_AXIS_RADIUS = 3396.0
  B_AXIS_RADIUS = 3396.0
  C_AXIS_RADIUS = 3396.0
  CENTER_LATITUDE = 0.0
  CENTER_LONGITUDE = 248.0
  COORDINATE_SYSTEM_NAME = PLANETOGRAPHIC
  COORDINATE_SYSTEM_TYPE = "BODY-FIXED ROTATING"
  EASTERNMOST_LONGITUDE = 252.647
  FIRST_STANDARD_PARALLEL = "N/A"
  LINE_FIRST_PIXEL = 1
  LINE_LAST_PIXEL = 35336
  LINE_PROJECTION_OFFSET = -334291.0
  MAP_PROJECTION_ROTATION = 0.0
  MAP_PROJECTION_TYPE = SINUSOIDAL
  MAP_RESOLUTION = 4741.71043093333
  MAP_SCALE = 0.0125
  MAXIMUM_LATITUDE = -70.52500000000001
  MINIMUM_LATITUDE = -77.9342
  POSITIVE_LONGITUDE_DIRECTION = EAST
  REFERENCE_LATITUDE = "N/A"
  REFERENCE_LONGITUDE = "N/A"
  SAMPLE_FIRST_PIXEL = 1
  SAMPLE_LAST_PIXEL = 12893
  SAMPLE_PROJECTION_OFFSET = 5730.0
  SECOND_STANDARD_PARALLEL = "N/A"
  WESTERNMOST_LONGITUDE = 242.45
END_OBJECT = IMAGE_MAP_PROJECTION
/* The JPEG2000 image data file associated with this label. */
OBJECT = COMPRESSED_FILE
  FILE_NAME = "H2578_0000_ND3.JP2"
  RECORD_TYPE = UNDEFINED
  FILE_RECORDS = UNK
  ENCODING_TYPE = "JP2"
  INTERCHANGE_FORMAT = BINARY
  UNCOMPRESSED_FILE_NAME = "H2578_0000_ND3.IMG"
  REQUIRED_STORAGE_BYTES = "455625727"
  ^DESCRIPTION = "JP2INFO.TXT"
END_OBJECT = COMPRESSED_FILE
END
