PDS_VERSION_ID = PDS3
/* FILE DATA ELEMENTS */
RECORD_TYPE = STREAM
/* POINTERS TO DATA OBJECTS */
^COMPRESSED_FILE = "H2578_0000_P23.JP2"
/* IDENTIFICATION DATA ELEMENTS */
DATA_SET_ID = "MEX-M-HRSC-5-REFDR-MAPPROJECTED-V3.0"
DATA_SET_NAME = "MARS EXPRESS HRSC MAP PROJECTED REFDR V3.0"
DETECTOR_ID = MEX_HRSC_P2
EVENT_TYPE = "MARS-REGIONAL-MAPPING-Gl-Eo"
INSTRUMENT_HOST_ID = MEX
INSTRUMENT_HOST_NAME = "MARS EXPRESS"
INSTRUMENT_ID = HRSC
INSTRUMENT_NAME = "HIGH RESOLUTION STEREO CAMERA"
MISSION_NAME = "MARS EXPRESS"
MISSION_PHASE_NAME = ME_Phase_2
PROCESSING_LEVEL_ID = 3
PRODUCT_CREATION_TIME = 2016-04-07T13:48:30.000Z
PRODUCT_ID = "H2578_0000_P23.JP2"
RELEASE_ID = 0032
REVISION_ID = 0000
/* QUALITY DATA ELEMENTS */
DATA_QUALITY_ID = 1
DATA_QUALITY_DESC = "Data calculated based on original SPICE kernels"
/* TIME DATA ELEMENTS */
SPACECRAFT_CLOCK_START_COUNT = "1/0085324834.09074"
SPACECRAFT_CLOCK_STOP_COUNT = "1/0085325019.08891"
START_TIME = 2006-01-14T13:21:29.053Z
STOP_TIME = 2006-01-14T13:23:28.956Z
/* ORBITAL DATA ELEMENTS */
ASCENDING_NODE_LONGITUDE = 174.2
MAXIMUM_RESOLUTION = 56.2
FOOTPRINT_POINT_LATITUDE = (-77.6075,-77.6566,-77.6979,-77.7405, -77.8024,-77.8455,-77.9501,-77.8174, -77.6849,-77.5523,-77.3534,-77.221, -77.0887,-76.9565,-76.8239,-76.6916, -76.493,-76.3592,-76.16,-75.898, -75.6999,-75.5678,-75.4364,-75.2376, -75.1056,-74.8446,-74.6154,-74.3811, -74.2239,-73.9894,-73.833,-73.6767, -73.5191,-73.2845,-73.0515,-72.896, -72.7409,-72.5861,-72.4308,-72.276, -72.1216,-71.967,-71.8125,-71.6579, -71.5034,-71.3492,-71.1954,-71.0414, -70.8877,-70.7044,-70.6718,-70.6418, -70.6162,-70.5763,-70.5427,-70.4928, -70.7246,-70.8768,-71.0292,-71.2581, -71.4871,-71.64,-71.7925,-71.9458, -72.0992,-72.2532,-72.484,-72.6375, -72.7912,-72.9454,-73.1764,-73.3306, -73.4845,-73.7176,-73.9488,-74.1032, -74.2579,-74.4128,-74.5646,-74.8242, -75.0191,-75.149,-75.2788,-75.4087, -75.5389,-75.7336,-75.9288,-76.0588, -76.1889,-76.319,-76.449,-76.579, -76.709,-76.8391,-76.9691,-77.099, -77.229,-77.3589,-77.4887,-77.6075)
FOOTPRINT_POINT_LONGITUDE = (242.787,243.544,244.212,244.932, 246.045,246.875,247.645,247.796,247.943 ,248.088,248.298,248.434,248.568, 248.699,248.826,248.952,249.134,249.251 ,249.424,249.65,249.811,249.916,250.02, 250.17,250.268,250.461,250.621,250.782, 250.885,251.037,251.135,251.231,251.324 ,251.461,251.595,251.682,251.768, 251.852,251.934,252.014,252.094,252.171 ,252.247,252.321,252.394,252.466, 252.537,252.606,252.674,252.594,251.83, 251.19,250.671,249.915,249.321,248.477, 248.354,248.272,248.188,248.058,247.925 ,247.835,247.743,247.648,247.551, 247.451,247.298,247.195,247.088,246.979 ,246.813,246.698,246.582,246.398, 246.213,246.086,245.956,245.822,245.688 ,245.452,245.269,245.144,245.017, 244.887,244.754,244.551,244.34,244.196, 244.049,243.899,243.746,243.59,243.43, 243.267,243.1,242.93,242.756,242.578, 242.396,242.787)
ORBIT_NUMBER = 2578
ORBITAL_ECCENTRICITY = 0.571
ORBITAL_INCLINATION = 86.62
ORBITAL_SEMIMAJOR_AXIS = 8530.28
PERIAPSIS_ALTITUDE = 280.01
PERIAPSIS_ARGUMENT_ANGLE = 265.3
PERIAPSIS_TIME = 2006-01-14T13:17:02.000Z
SPACECRAFT_ORIENTATION = (0.0,-1.0,0.0)
^MEX_ORIENTATION_DESC = "MEX_ORIENTATION_DESC.TXT"
SPACECRAFT_POINTING_MODE = NADIR
^MEX_POINTING_DESC = "MEX_POINTING_DESC.TXT"
RIGHT_ASCENSION = -1e+32
DECLINATION = -1e+32
OFFSET_ANGLE = -1e+32
SPACECRAFT_SOLAR_DISTANCE = 2.31668e+08
TARGET_NAME = MARS
/* CAMERA DATA ELEMENTS */
DETECTOR_TEMPERATURE = 18.7783
FOCAL_PLANE_TEMPERATURE = 8.5833
INST_CMPRS_NAME = "DISCRETE COSINE TRANSFORMATION (DCT)"
INST_CMPRS_RATIO = 35.5775
INST_CMPRS_QUALITY = 0
INST_CMPRS_QUANTZ_TBL_ID = 0
INSTRUMENT_TEMPERATURE = 11.4379
LENS_TEMPERATURE = 8.9911
MACROPIXEL_SIZE = 4
MISSING_FRAMES = 0
PIXEL_SUBSAMPLING_FLAG = N
SIGNAL_CHAIN_ID = 3
/* RADIOMETRIC DATA ELEMENTS */
BANDWIDTH = 177.0
CENTER_FILTER_WAVELENGTH = 676.5
RADIANCE_OFFSET = 1.02223
RADIANCE_SCALING_FACTOR = 0.00445418
REFLECTANCE_SCALING_FACTOR = 0.000126753
MEX:REFLECTANCE_OFFSET = 0.0290899
/* IMAGE OBJECT DEFINITIONS */
OBJECT = IMAGE
  INTERCHANGE_FORMAT = BINARY
  LINES = 8834
  LINE_SAMPLES = 3224
  SAMPLE_TYPE = UNSIGNED_INTEGER
  SAMPLE_BITS = 8
  BANDS = 1
  BAND_STORAGE_TYPE = BAND_SEQUENTIAL
  MAXIMUM = 255
  MEAN = 126.321
  MINIMUM = 1
  STANDARD_DEVIATION = 41.4763
END_OBJECT = IMAGE
/* MAP OBJECT DEFINITIONS */
OBJECT = IMAGE_MAP_PROJECTION
  ^DATA_SET_MAP_PROJECTION_CATALOG= "DSMAP.CAT"
  A_AXIS_RADIUS = 3396.0
  B_AXIS_RADIUS = 3396.0
  C_AXIS_RADIUS = 3396.0
  CENTER_LATITUDE = 0.0
  CENTER_LONGITUDE = 248.0
  COORDINATE_SYSTEM_NAME = PLANETOGRAPHIC
  COORDINATE_SYSTEM_TYPE = "BODY-FIXED ROTATING"
  EASTERNMOST_LONGITUDE = 252.674
  FIRST_STANDARD_PARALLEL = "N/A"
  LINE_FIRST_PIXEL = 1
  LINE_LAST_PIXEL = 8834
  LINE_PROJECTION_OFFSET = -83573.125
  MAP_PROJECTION_ROTATION = 0.0
  MAP_PROJECTION_TYPE = SINUSOIDAL
  MAP_RESOLUTION = 1185.42760773333
  MAP_SCALE = 0.05
  MAXIMUM_LATITUDE = -70.4928
  MINIMUM_LATITUDE = -77.95010000000001
  POSITIVE_LONGITUDE_DIRECTION = EAST
  REFERENCE_LATITUDE = "N/A"
  REFERENCE_LONGITUDE = "N/A"
  SAMPLE_FIRST_PIXEL = 1
  SAMPLE_LAST_PIXEL = 3224
  SAMPLE_PROJECTION_OFFSET = 1432.125
  SECOND_STANDARD_PARALLEL = "N/A"
  WESTERNMOST_LONGITUDE = 242.396
END_OBJECT = IMAGE_MAP_PROJECTION
/* The JPEG2000 image data file associated with this label. */
OBJECT = COMPRESSED_FILE
  FILE_NAME = "H2578_0000_P23.JP2"
  RECORD_TYPE = UNDEFINED
  FILE_RECORDS = UNK
  ENCODING_TYPE = "JP2"
  INTERCHANGE_FORMAT = BINARY
  UNCOMPRESSED_FILE_NAME = "H2578_0000_P23.IMG"
  REQUIRED_STORAGE_BYTES = "28503384"
  ^DESCRIPTION = "JP2INFO.TXT"
END_OBJECT = COMPRESSED_FILE
END
