PDS_VERSION_ID = PDS3
/* FILE DATA ELEMENTS */
RECORD_TYPE = STREAM
/* POINTERS TO DATA OBJECTS */
^COMPRESSED_FILE = "H2582_0000_IR3.JP2"
/* IDENTIFICATION DATA ELEMENTS */
DATA_SET_ID = "MEX-M-HRSC-5-REFDR-MAPPROJECTED-V3.0"
DATA_SET_NAME = "MARS EXPRESS HRSC MAP PROJECTED REFDR V3.0"
DETECTOR_ID = MEX_HRSC_IR
EVENT_TYPE = "MARS-REGIONAL-MAPPING-Im-Fl"
INSTRUMENT_HOST_ID = MEX
INSTRUMENT_HOST_NAME = "MARS EXPRESS"
INSTRUMENT_ID = HRSC
INSTRUMENT_NAME = "HIGH RESOLUTION STEREO CAMERA"
MISSION_NAME = "MARS EXPRESS"
MISSION_PHASE_NAME = ME_Phase_2
PROCESSING_LEVEL_ID = 3
PRODUCT_CREATION_TIME = 2016-04-07T13:48:30.000Z
PRODUCT_ID = "H2582_0000_IR3.JP2"
RELEASE_ID = 0032
REVISION_ID = 0000
/* QUALITY DATA ELEMENTS */
DATA_QUALITY_ID = 2
DATA_QUALITY_DESC = "Data calculated based on photogrammetrically improved orbit and attitude data"
/* TIME DATA ELEMENTS */
SPACECRAFT_CLOCK_START_COUNT = "1/0085421693.07310"
SPACECRAFT_CLOCK_STOP_COUNT = "1/0085422125.27308"
START_TIME = 2006-01-15T16:15:04.337Z
STOP_TIME = 2006-01-15T16:19:58.016Z
/* ORBITAL DATA ELEMENTS */
ASCENDING_NODE_LONGITUDE = 174.11
MAXIMUM_RESOLUTION = 61.3
FOOTPRINT_POINT_LATITUDE = (-72.2293,-72.3103,-72.3342,-71.8486, -71.5218,-71.1951,-70.706,-70.3773, -70.0507,-69.5614,-69.0737,-68.7482, -68.4291,-68.1045,-67.774,-67.4394, -66.9379,-66.5959,-66.2549,-65.9102, -65.5607,-65.2123,-64.6782,-64.3219, -63.9584,-63.5943,-63.2251,-62.67, -62.2878,-61.9086,-61.5218,-61.135, -60.7412,-60.1467,-59.7457,-59.3393, -58.7233,-58.3082,-57.8876,-57.465, -56.8178,-56.3869,-55.9443,-55.4988, -55.05,-54.5907,-54.1272,-53.6597, -53.5736,-53.5444,-53.5022,-53.4426, -53.9077,-54.3693,-54.8254,-55.2755, -55.7222,-56.16,-56.815,-57.2442, -57.6691,-58.0874,-58.5007,-58.9058, -59.5186,-59.9177,-60.3189,-60.7075, -61.0953,-61.4784,-62.0481,-62.4252, -62.7953,-63.1663,-63.5316,-63.8878, -64.2526,-64.6072,-64.9623,-65.3097, -65.6579,-66.0033,-66.3433,-66.6832, -67.0166,-67.513,-67.8428,-68.1656, -68.488,-68.973,-69.296,-69.6196, -69.9437,-70.2666,-70.5904,-70.9146, -71.2376,-71.5607,-71.8843,-72.2293)
FOOTPRINT_POINT_LONGITUDE = (215.043,216.337,218.28,218.535,218.698 ,218.856,219.08,219.226,219.365,219.564 ,219.751,219.872,219.981,220.094, 220.205,220.315,220.472,220.576,220.675 ,220.772,220.868,220.96,221.096,221.183 ,221.269,221.353,221.435,221.552, 221.633,221.709,221.784,221.857,221.929 ,222.033,222.1,222.167,222.263,222.325, 222.386,222.445,222.534,222.587,222.643 ,222.698,222.75,222.804,222.856,222.907 ,222.297,221.483,220.537,219.417, 219.372,219.325,219.277,219.228,219.176 ,219.12,219.038,218.98,218.921,218.857, 218.793,218.723,218.621,218.55,218.479, 218.402,218.323,218.242,218.118,218.031 ,217.943,217.853,217.76,217.661,217.566 ,217.465,217.361,217.255,217.146, 217.035,216.921,216.802,216.681,216.491 ,216.361,216.228,216.089,215.872, 215.721,215.564,215.401,215.231,215.055 ,214.872,214.682,214.483,214.277, 215.043)
ORBIT_NUMBER = 2582
ORBITAL_ECCENTRICITY = 0.571
ORBITAL_INCLINATION = 86.63
ORBITAL_SEMIMAJOR_AXIS = 8530.16
PERIAPSIS_ALTITUDE = 279.79
PERIAPSIS_ARGUMENT_ANGLE = 264.61
PERIAPSIS_TIME = 2006-01-15T16:09:46.000Z
SPACECRAFT_ORIENTATION = (0.0,-1.0,0.0)
^MEX_ORIENTATION_DESC = "MEX_ORIENTATION_DESC.TXT"
SPACECRAFT_POINTING_MODE = ACROSSTRACK
^MEX_POINTING_DESC = "MEX_POINTING_DESC.TXT"
RIGHT_ASCENSION = -1e+32
DECLINATION = -1e+32
OFFSET_ANGLE = 0.13
SPACECRAFT_SOLAR_DISTANCE = 2.31879e+08
TARGET_NAME = MARS
/* CAMERA DATA ELEMENTS */
DETECTOR_TEMPERATURE = 17.351
FOCAL_PLANE_TEMPERATURE = 8.3794
INST_CMPRS_NAME = "DISCRETE COSINE TRANSFORMATION (DCT)"
INST_CMPRS_RATIO = 12.9316
INST_CMPRS_QUALITY = 0
INST_CMPRS_QUANTZ_TBL_ID = 0
INSTRUMENT_TEMPERATURE = 11.234
LENS_TEMPERATURE = 8.7872
MACROPIXEL_SIZE = 4
MISSING_FRAMES = 0
PIXEL_SUBSAMPLING_FLAG = N
SIGNAL_CHAIN_ID = 2
/* RADIOMETRIC DATA ELEMENTS */
BANDWIDTH = 81.0
CENTER_FILTER_WAVELENGTH = 955.5
RADIANCE_OFFSET = 0.235658
RADIANCE_SCALING_FACTOR = 0.00314788
REFLECTANCE_SCALING_FACTOR = 0.00036515
MEX:REFLECTANCE_OFFSET = 0.027336
/* IMAGE OBJECT DEFINITIONS */
OBJECT = IMAGE
  INTERCHANGE_FORMAT = BINARY
  LINES = 22360
  LINE_SAMPLES = 4640
  SAMPLE_TYPE = UNSIGNED_INTEGER
  SAMPLE_BITS = 8
  BANDS = 1
  BAND_STORAGE_TYPE = BAND_SEQUENTIAL
  MAXIMUM = 255
  MEAN = 106.801
  MINIMUM = 1
  STANDARD_DEVIATION = 35.6928
END_OBJECT = IMAGE
/* MAP OBJECT DEFINITIONS */
OBJECT = IMAGE_MAP_PROJECTION
  ^DATA_SET_MAP_PROJECTION_CATALOG= "DSMAP.CAT"
  A_AXIS_RADIUS = 3396.0
  B_AXIS_RADIUS = 3396.0
  C_AXIS_RADIUS = 3396.0
  CENTER_LATITUDE = 0.0
  CENTER_LONGITUDE = 219.0
  COORDINATE_SYSTEM_NAME = PLANETOGRAPHIC
  COORDINATE_SYSTEM_TYPE = "BODY-FIXED ROTATING"
  EASTERNMOST_LONGITUDE = 222.907
  FIRST_STANDARD_PARALLEL = "N/A"
  LINE_FIRST_PIXEL = 1
  LINE_LAST_PIXEL = 22360
  LINE_PROJECTION_OFFSET = -63381.125
  MAP_PROJECTION_ROTATION = 0.0
  MAP_PROJECTION_TYPE = SINUSOIDAL
  MAP_RESOLUTION = 1185.42760773333
  MAP_SCALE = 0.05
  MAXIMUM_LATITUDE = -53.4426
  MINIMUM_LATITUDE = -72.3342
  POSITIVE_LONGITUDE_DIRECTION = EAST
  REFERENCE_LATITUDE = "N/A"
  REFERENCE_LONGITUDE = "N/A"
  SAMPLE_FIRST_PIXEL = 1
  SAMPLE_LAST_PIXEL = 4640
  SAMPLE_PROJECTION_OFFSET = 1807.125
  SECOND_STANDARD_PARALLEL = "N/A"
  WESTERNMOST_LONGITUDE = 214.277
END_OBJECT = IMAGE_MAP_PROJECTION
/* The JPEG2000 image data file associated with this label. */
OBJECT = COMPRESSED_FILE
  FILE_NAME = "H2582_0000_IR3.JP2"
  RECORD_TYPE = UNDEFINED
  FILE_RECORDS = UNK
  ENCODING_TYPE = "JP2"
  INTERCHANGE_FORMAT = BINARY
  UNCOMPRESSED_FILE_NAME = "H2582_0000_IR3.IMG"
  REQUIRED_STORAGE_BYTES = "103778240"
  ^DESCRIPTION = "JP2INFO.TXT"
END_OBJECT = COMPRESSED_FILE
END
