PDS_VERSION_ID = PDS3
/* FILE DATA ELEMENTS */
RECORD_TYPE = STREAM
/* POINTERS TO DATA OBJECTS */
^COMPRESSED_FILE = "H2582_0000_ND3.JP2"
/* IDENTIFICATION DATA ELEMENTS */
DATA_SET_ID = "MEX-M-HRSC-5-REFDR-MAPPROJECTED-V3.0"
DATA_SET_NAME = "MARS EXPRESS HRSC MAP PROJECTED REFDR V3.0"
DETECTOR_ID = MEX_HRSC_NADIR
EVENT_TYPE = "MARS-REGIONAL-MAPPING-Im-Fl"
INSTRUMENT_HOST_ID = MEX
INSTRUMENT_HOST_NAME = "MARS EXPRESS"
INSTRUMENT_ID = HRSC
INSTRUMENT_NAME = "HIGH RESOLUTION STEREO CAMERA"
MISSION_NAME = "MARS EXPRESS"
MISSION_PHASE_NAME = ME_Phase_2
PROCESSING_LEVEL_ID = 3
PRODUCT_CREATION_TIME = 2016-04-07T13:48:30.000Z
PRODUCT_ID = "H2582_0000_ND3.JP2"
RELEASE_ID = 0032
REVISION_ID = 0000
/* QUALITY DATA ELEMENTS */
DATA_QUALITY_ID = 2
DATA_QUALITY_DESC = "Data calculated based on photogrammetrically improved orbit and attitude data"
/* TIME DATA ELEMENTS */
SPACECRAFT_CLOCK_START_COUNT = "1/0085421693.07310"
SPACECRAFT_CLOCK_STOP_COUNT = "1/0085422125.27308"
START_TIME = 2006-01-15T16:15:32.393Z
STOP_TIME = 2006-01-15T16:20:49.380Z
/* ORBITAL DATA ELEMENTS */
ASCENDING_NODE_LONGITUDE = 174.11
MAXIMUM_RESOLUTION = 15.3
FOOTPRINT_POINT_LATITUDE = (-72.1403,-72.2163,-72.3,-71.857, -71.541,-71.2254,-70.9101,-70.5954, -70.281,-69.967,-69.6463,-69.3247, -68.8394,-68.5106,-68.1823,-67.6805, -67.3455,-66.8333,-66.4916,-66.1429, -65.7942,-65.2628,-64.9077,-64.5453, -64.1835,-63.8145,-63.2581,-62.8831, -62.5042,-62.123,-61.7355,-61.1494, -60.5553,-59.9518,-59.5455,-59.1328, -58.7168,-58.2974,-57.8731,-57.4435, -57.0099,-56.5724,-56.1303,-55.6828, -55.2297,-54.772,-54.3093,-53.8413, -53.5838,-53.5658,-53.5466,-53.5214, -53.4889,-53.6986,-54.1645,-54.6251, -55.0807,-55.5316,-55.9769,-56.417, -56.8526,-57.2842,-57.7119,-58.1341, -58.5516,-58.9657,-59.3763,-59.7808, -60.3817,-60.9729,-61.3635,-61.7492, -62.3211,-62.6982,-63.0713,-63.4417, -63.8082,-64.3519,-64.7124,-65.0655, -65.594,-65.9408,-66.2876,-66.6272, -67.1364,-67.4692,-67.9679,-68.2937, -68.6199,-69.1018,-69.4208,-69.7392, -70.0506,-70.3623,-70.6744,-70.9868, -71.2995,-71.6125,-71.9257,-72.1403)
FOOTPRINT_POINT_LONGITUDE = (214.845,216.109,217.707,218.626, 218.784,218.937,219.083,219.227,219.365 ,219.497,219.628,219.754,219.937, 220.054,220.166,220.337,220.446,220.607 ,220.709,220.811,220.909,221.053, 221.145,221.236,221.324,221.411,221.538 ,221.619,221.701,221.78,221.857,221.971 ,222.08,222.186,222.254,222.321,222.387 ,222.452,222.514,222.576,222.635, 222.695,222.751,222.809,222.864,222.919 ,222.974,223.028,222.456,221.783, 221.185,220.51,219.762,219.235,219.191, 219.146,219.099,219.05,218.995,218.943, 218.89,218.835,218.776,218.713,218.65, 218.581,218.515,218.444,218.34,218.222, 218.142,218.06,217.934,217.847,217.758, 217.666,217.565,217.423,217.321,217.217 ,217.056,216.945,216.832,216.714, 216.529,216.403,216.205,216.069,215.928 ,215.711,215.56,215.403,215.246,215.08, 214.91,214.732,214.547,214.354,214.153, 214.845)
ORBIT_NUMBER = 2582
ORBITAL_ECCENTRICITY = 0.571
ORBITAL_INCLINATION = 86.63
ORBITAL_SEMIMAJOR_AXIS = 8530.16
PERIAPSIS_ALTITUDE = 279.79
PERIAPSIS_ARGUMENT_ANGLE = 264.61
PERIAPSIS_TIME = 2006-01-15T16:09:46.000Z
SPACECRAFT_ORIENTATION = (0.0,-1.0,0.0)
^MEX_ORIENTATION_DESC = "MEX_ORIENTATION_DESC.TXT"
SPACECRAFT_POINTING_MODE = ACROSSTRACK
^MEX_POINTING_DESC = "MEX_POINTING_DESC.TXT"
RIGHT_ASCENSION = -1e+32
DECLINATION = -1e+32
OFFSET_ANGLE = 0.13
SPACECRAFT_SOLAR_DISTANCE = 2.31879e+08
TARGET_NAME = MARS
/* CAMERA DATA ELEMENTS */
DETECTOR_TEMPERATURE = 18.1666
FOCAL_PLANE_TEMPERATURE = 8.3794
INST_CMPRS_NAME = "DISCRETE COSINE TRANSFORMATION (DCT)"
INST_CMPRS_RATIO = 6.97736
INST_CMPRS_QUALITY = 0
INST_CMPRS_QUANTZ_TBL_ID = 0
INSTRUMENT_TEMPERATURE = 11.234
LENS_TEMPERATURE = 8.7872
MACROPIXEL_SIZE = 1
MISSING_FRAMES = 0
PIXEL_SUBSAMPLING_FLAG = N
SIGNAL_CHAIN_ID = 0
/* RADIOMETRIC DATA ELEMENTS */
BANDWIDTH = 177.0
CENTER_FILTER_WAVELENGTH = 677.5
RADIANCE_OFFSET = 0.945656
RADIANCE_SCALING_FACTOR = 0.0116707
REFLECTANCE_SCALING_FACTOR = 0.000333356
MEX:REFLECTANCE_OFFSET = 0.0270112
/* IMAGE OBJECT DEFINITIONS */
OBJECT = IMAGE
  INTERCHANGE_FORMAT = BINARY
  LINES = 89438
  LINE_SAMPLES = 18559
  SAMPLE_TYPE = UNSIGNED_INTEGER
  SAMPLE_BITS = 8
  BANDS = 1
  BAND_STORAGE_TYPE = BAND_SEQUENTIAL
  MAXIMUM = 255
  MEAN = 107.184
  MINIMUM = 1
  STANDARD_DEVIATION = 39.0309
END_OBJECT = IMAGE
/* MAP OBJECT DEFINITIONS */
OBJECT = IMAGE_MAP_PROJECTION
  ^DATA_SET_MAP_PROJECTION_CATALOG= "DSMAP.CAT"
  A_AXIS_RADIUS = 3396.0
  B_AXIS_RADIUS = 3396.0
  C_AXIS_RADIUS = 3396.0
  CENTER_LATITUDE = 0.0
  CENTER_LONGITUDE = 219.0
  COORDINATE_SYSTEM_NAME = PLANETOGRAPHIC
  COORDINATE_SYSTEM_TYPE = "BODY-FIXED ROTATING"
  EASTERNMOST_LONGITUDE = 223.028
  FIRST_STANDARD_PARALLEL = "N/A"
  LINE_FIRST_PIXEL = 1
  LINE_LAST_PIXEL = 89438
  LINE_PROJECTION_OFFSET = -253523.0
  MAP_PROJECTION_ROTATION = 0.0
  MAP_PROJECTION_TYPE = SINUSOIDAL
  MAP_RESOLUTION = 4741.71043093333
  MAP_SCALE = 0.0125
  MAXIMUM_LATITUDE = -53.4889
  MINIMUM_LATITUDE = -72.3
  POSITIVE_LONGITUDE_DIRECTION = EAST
  REFERENCE_LATITUDE = "N/A"
  REFERENCE_LONGITUDE = "N/A"
  SAMPLE_FIRST_PIXEL = 1
  SAMPLE_LAST_PIXEL = 18559
  SAMPLE_PROJECTION_OFFSET = 7230.0
  SECOND_STANDARD_PARALLEL = "N/A"
  WESTERNMOST_LONGITUDE = 214.153
END_OBJECT = IMAGE_MAP_PROJECTION
/* The JPEG2000 image data file associated with this label. */
OBJECT = COMPRESSED_FILE
  FILE_NAME = "H2582_0000_ND3.JP2"
  RECORD_TYPE = UNDEFINED
  FILE_RECORDS = UNK
  ENCODING_TYPE = "JP2"
  INTERCHANGE_FORMAT = BINARY
  UNCOMPRESSED_FILE_NAME = "H2582_0000_ND3.IMG"
  REQUIRED_STORAGE_BYTES = "1659935519"
  ^DESCRIPTION = "JP2INFO.TXT"
END_OBJECT = COMPRESSED_FILE
END
