PDS_VERSION_ID = PDS3
/* FILE DATA ELEMENTS */
RECORD_TYPE = STREAM
/* POINTERS TO DATA OBJECTS */
^COMPRESSED_FILE = "H2583_0000_ND3.JP2"
/* IDENTIFICATION DATA ELEMENTS */
DATA_SET_ID = "MEX-M-HRSC-5-REFDR-MAPPROJECTED-V3.0"
DATA_SET_NAME = "MARS EXPRESS HRSC MAP PROJECTED REFDR V3.0"
DETECTOR_ID = MEX_HRSC_NADIR
EVENT_TYPE = "MARS-REGIONAL-MAPPING-Te-Fl-Gl"
INSTRUMENT_HOST_ID = MEX
INSTRUMENT_HOST_NAME = "MARS EXPRESS"
INSTRUMENT_ID = HRSC
INSTRUMENT_NAME = "HIGH RESOLUTION STEREO CAMERA"
MISSION_NAME = "MARS EXPRESS"
MISSION_PHASE_NAME = ME_Phase_2
PROCESSING_LEVEL_ID = 3
PRODUCT_CREATION_TIME = 2016-04-07T13:48:30.000Z
PRODUCT_ID = "H2583_0000_ND3.JP2"
RELEASE_ID = 0032
REVISION_ID = 0000
/* QUALITY DATA ELEMENTS */
DATA_QUALITY_ID = 2
DATA_QUALITY_DESC = "Data calculated based on photogrammetrically improved orbit and attitude data"
/* TIME DATA ELEMENTS */
SPACECRAFT_CLOCK_START_COUNT = "1/0085445838.09039"
SPACECRAFT_CLOCK_STOP_COUNT = "1/0085446301.54336"
START_TIME = 2006-01-15T22:57:54.538Z
STOP_TIME = 2006-01-15T23:03:48.519Z
/* ORBITAL DATA ELEMENTS */
ASCENDING_NODE_LONGITUDE = 174.09
MAXIMUM_RESOLUTION = 14.2
FOOTPRINT_POINT_LATITUDE = (-75.6082,-75.6871,-75.6082,-74.9737, -74.3397,-73.9765,-73.5992,-73.2222, -72.8456,-72.4696,-72.0941,-71.7191, -71.3448,-70.9709,-70.5976,-70.2249, -69.655,-69.2739,-68.6904,-68.3006, -67.9022,-67.5047,-67.0992,-66.6935, -66.28,-65.6554,-65.2335,-64.8064, -64.1584,-63.7211,-63.2775,-62.8306, -62.378,-61.9197,-61.4574,-60.9902, -60.5157,-60.0362,-59.5515,-59.0613, -58.5651,-58.0617,-57.5524,-57.0368, -56.5145,-55.9862,-55.4507,-54.9079, -54.5913,-54.5693,-54.5506,-54.5276, -54.4947,-54.7416,-55.2819,-55.8153, -56.3418,-56.8619,-57.3755,-57.8829, -58.384,-58.8781,-59.3664,-59.8491, -60.3266,-60.7992,-61.2641,-61.7246, -62.1811,-62.631,-63.0759,-63.5177, -63.9526,-64.5975,-65.0227,-65.442, -66.0632,-66.4746,-66.8775,-67.2812, -67.6761,-68.2658,-68.6526,-69.0387, -69.4168,-69.9826,-70.3522,-70.7223, -71.0929,-71.4641,-71.8349,-72.2065, -72.5786,-72.9514,-73.3243,-73.6969, -74.059,-74.6843,-75.3092,-75.6082)
FOOTPRINT_POINT_LONGITUDE = (115.022,116.401,118.097,118.592,119.04 ,119.286,119.527,119.754,119.971, 120.179,120.378,120.567,120.753,120.926 ,121.092,121.252,121.484,121.631, 121.844,121.978,122.112,122.243,122.371 ,122.493,122.612,122.784,122.895, 123.003,123.158,123.259,123.359,123.452 ,123.546,123.637,123.726,123.813, 123.898,123.979,124.06,124.139,124.216, 124.291,124.366,124.438,124.508,124.581 ,124.651,124.711,124.18,123.391,122.829 ,122.228,121.479,120.908,120.852, 120.793,120.733,120.67,120.603,120.534, 120.462,120.387,120.307,120.225,120.14, 120.052,119.961,119.867,119.771,119.663 ,119.558,119.449,119.337,119.165, 119.042,118.915,118.715,118.577,118.432 ,118.289,118.137,117.899,117.735, 117.562,117.386,117.108,116.917,116.717 ,116.508,116.292,116.052,115.809, 115.555,115.296,115.022,114.723,114.421 ,113.866,113.249,115.022)
ORBIT_NUMBER = 2583
ORBITAL_ECCENTRICITY = 0.571
ORBITAL_INCLINATION = 86.62
ORBITAL_SEMIMAJOR_AXIS = 8529.94
PERIAPSIS_ALTITUDE = 280.52
PERIAPSIS_ARGUMENT_ANGLE = 264.43
PERIAPSIS_TIME = 2006-01-15T22:53:00.000Z
SPACECRAFT_ORIENTATION = (0.0,-1.0,0.0)
^MEX_ORIENTATION_DESC = "MEX_ORIENTATION_DESC.TXT"
SPACECRAFT_POINTING_MODE = ACROSSTRACK
^MEX_POINTING_DESC = "MEX_POINTING_DESC.TXT"
RIGHT_ASCENSION = -1e+32
DECLINATION = -1e+32
OFFSET_ANGLE = 0.08
SPACECRAFT_SOLAR_DISTANCE = 2.31932e+08
TARGET_NAME = MARS
/* CAMERA DATA ELEMENTS */
DETECTOR_TEMPERATURE = 18.3705
FOCAL_PLANE_TEMPERATURE = 8.5833
INST_CMPRS_NAME = "DISCRETE COSINE TRANSFORMATION (DCT)"
INST_CMPRS_RATIO = 7.4179
INST_CMPRS_QUALITY = 0
INST_CMPRS_QUANTZ_TBL_ID = 0
INSTRUMENT_TEMPERATURE = 11.4379
LENS_TEMPERATURE = 8.9911
MACROPIXEL_SIZE = 1
MISSING_FRAMES = 0
PIXEL_SUBSAMPLING_FLAG = N
SIGNAL_CHAIN_ID = 0
/* RADIOMETRIC DATA ELEMENTS */
BANDWIDTH = 177.0
CENTER_FILTER_WAVELENGTH = 677.5
RADIANCE_OFFSET = 0.810226
RADIANCE_SCALING_FACTOR = 0.0136626
REFLECTANCE_SCALING_FACTOR = 0.00039043
MEX:REFLECTANCE_OFFSET = 0.0231534
/* IMAGE OBJECT DEFINITIONS */
OBJECT = IMAGE
  INTERCHANGE_FORMAT = BINARY
  LINES = 100959
  LINE_SAMPLES = 19581
  SAMPLE_TYPE = UNSIGNED_INTEGER
  SAMPLE_BITS = 8
  BANDS = 1
  BAND_STORAGE_TYPE = BAND_SEQUENTIAL
  MAXIMUM = 255
  MEAN = 92.0997
  MINIMUM = 1
  STANDARD_DEVIATION = 33.7565
END_OBJECT = IMAGE
/* MAP OBJECT DEFINITIONS */
OBJECT = IMAGE_MAP_PROJECTION
  ^DATA_SET_MAP_PROJECTION_CATALOG= "DSMAP.CAT"
  A_AXIS_RADIUS = 3396.0
  B_AXIS_RADIUS = 3396.0
  C_AXIS_RADIUS = 3396.0
  CENTER_LATITUDE = 0.0
  CENTER_LONGITUDE = 121.0
  COORDINATE_SYSTEM_NAME = PLANETOGRAPHIC
  COORDINATE_SYSTEM_TYPE = "BODY-FIXED ROTATING"
  EASTERNMOST_LONGITUDE = 124.711
  FIRST_STANDARD_PARALLEL = "N/A"
  LINE_FIRST_PIXEL = 1
  LINE_LAST_PIXEL = 100959
  LINE_PROJECTION_OFFSET = -258271.0
  MAP_PROJECTION_ROTATION = 0.0
  MAP_PROJECTION_TYPE = SINUSOIDAL
  MAP_RESOLUTION = 4741.71043093333
  MAP_SCALE = 0.0125
  MAXIMUM_LATITUDE = -54.4947
  MINIMUM_LATITUDE = -75.6871
  POSITIVE_LONGITUDE_DIRECTION = EAST
  REFERENCE_LATITUDE = "N/A"
  REFERENCE_LONGITUDE = "N/A"
  SAMPLE_FIRST_PIXEL = 1
  SAMPLE_LAST_PIXEL = 19581
  SAMPLE_PROJECTION_OFFSET = 9400.0
  SECOND_STANDARD_PARALLEL = "N/A"
  WESTERNMOST_LONGITUDE = 113.249
END_OBJECT = IMAGE_MAP_PROJECTION
/* The JPEG2000 image data file associated with this label. */
OBJECT = COMPRESSED_FILE
  FILE_NAME = "H2583_0000_ND3.JP2"
  RECORD_TYPE = UNDEFINED
  FILE_RECORDS = UNK
  ENCODING_TYPE = "JP2"
  INTERCHANGE_FORMAT = BINARY
  UNCOMPRESSED_FILE_NAME = "H2583_0000_ND3.IMG"
  REQUIRED_STORAGE_BYTES = "1976936922"
  ^DESCRIPTION = "JP2INFO.TXT"
END_OBJECT = COMPRESSED_FILE
END
