PDS_VERSION_ID = PDS3
/* FILE DATA ELEMENTS */
RECORD_TYPE = STREAM
/* POINTERS TO DATA OBJECTS */
^COMPRESSED_FILE = "H2584_0000_RE3.JP2"
/* IDENTIFICATION DATA ELEMENTS */
DATA_SET_ID = "MEX-M-HRSC-5-REFDR-MAPPROJECTED-V3.0"
DATA_SET_NAME = "MARS EXPRESS HRSC MAP PROJECTED REFDR V3.0"
DETECTOR_ID = MEX_HRSC_RED
EVENT_TYPE = "MARS-REGIONAL-MAPPING-Vo-Te"
INSTRUMENT_HOST_ID = MEX
INSTRUMENT_HOST_NAME = "MARS EXPRESS"
INSTRUMENT_ID = HRSC
INSTRUMENT_NAME = "HIGH RESOLUTION STEREO CAMERA"
MISSION_NAME = "MARS EXPRESS"
MISSION_PHASE_NAME = ME_Phase_2
PROCESSING_LEVEL_ID = 3
PRODUCT_CREATION_TIME = 2016-04-07T13:48:30.000Z
PRODUCT_ID = "H2584_0000_RE3.JP2"
RELEASE_ID = 0032
REVISION_ID = 0000
/* QUALITY DATA ELEMENTS */
DATA_QUALITY_ID = 2
DATA_QUALITY_DESC = "Data calculated based on photogrammetrically improved orbit and attitude data"
/* TIME DATA ELEMENTS */
SPACECRAFT_CLOCK_START_COUNT = "1/0085470193.07292"
SPACECRAFT_CLOCK_STOP_COUNT = "1/0085470626.29265"
START_TIME = 2006-01-16T05:44:42.169Z
STOP_TIME = 2006-01-16T05:50:09.574Z
/* ORBITAL DATA ELEMENTS */
ASCENDING_NODE_LONGITUDE = 174.07
MAXIMUM_RESOLUTION = 84.7
FOOTPRINT_POINT_LATITUDE = (-64.7821,-64.8467,-64.8865,-64.9279, -64.7591,-64.354,-64.0763,-63.8018, -63.523,-63.2455,-62.9633,-62.6806, -62.3934,-62.1055,-61.6752,-61.3807, -61.0873,-60.7897,-60.3411,-59.8886, -59.5844,-59.2761,-58.9677,-58.6561, -58.3413,-58.0225,-57.5448,-57.2228, -56.8975,-56.5702,-56.2411,-55.9092, -55.573,-55.2419,-54.7254,-54.3789, -53.8549,-53.506,-53.1536,-52.7971, -52.4378,-52.0733,-51.7132,-51.3473, -50.9762,-50.6024,-50.2248,-49.8432, -49.2684,-48.8788,-48.7926,-48.7873, -48.7747,-48.7648,-48.746,-48.7272, -48.9064,-49.291,-49.6726,-50.0504, -50.4255,-50.985,-51.3528,-51.7171, -52.0839,-52.4425,-52.7962,-53.3242, -53.6722,-54.0184,-54.362,-54.7029, -55.0414,-55.3765,-55.7075,-56.2012, -56.5269,-56.851,-57.336,-57.6553, -57.9724,-58.2853,-58.5972,-58.9071, -59.2132,-59.6683,-60.1194,-60.5675, -60.8635,-61.1555,-61.4474,-61.736, -62.0233,-62.3082,-62.5913,-62.8723, -63.2898,-63.7046,-64.2492,-64.7821)
FOOTPRINT_POINT_LONGITUDE = (21.0942,22.3323,23.1978,24.2162, 25.1014,25.2007,25.264,25.3273,25.3903, 25.4522,25.513,25.5723,25.6306,25.6871, 25.7755,25.83,25.885,25.9389,26.0183, 26.0967,26.148,26.198,26.2478,26.2969, 26.345,26.3908,26.462,26.5078,26.5534, 26.5985,26.6429,26.6866,26.7291,26.7757 ,26.8354,26.8755,26.9353,26.9767, 27.0171,27.0565,27.0956,27.133,27.1739, 27.213,27.2505,27.2877,27.3242,27.3597, 27.4147,27.4494,26.7389,26.2737,25.472, 24.9661,24.165,23.4484,22.9213,22.9082, 22.8939,22.8787,22.8621,22.8337,22.8143 ,22.7939,22.7687,22.7462,22.7241, 22.6866,22.6608,22.6331,22.6044,22.5745 ,22.5436,22.512,22.4803,22.4296,22.3941 ,22.3571,22.2966,22.2557,22.214,22.1717 ,22.1275,22.0824,22.0366,21.9659,21.892 ,21.8134,21.7604,21.7061,21.6501, 21.5931,21.5347,21.475,21.414,21.3516, 21.2556,21.1557,21.019,21.0942)
ORBIT_NUMBER = 2584
ORBITAL_ECCENTRICITY = 0.571
ORBITAL_INCLINATION = 86.61
ORBITAL_SEMIMAJOR_AXIS = 8530.36
PERIAPSIS_ALTITUDE = 280.74
PERIAPSIS_ARGUMENT_ANGLE = 264.25
PERIAPSIS_TIME = 2006-01-16T05:36:09.000Z
SPACECRAFT_ORIENTATION = (0.0,-1.0,0.0)
^MEX_ORIENTATION_DESC = "MEX_ORIENTATION_DESC.TXT"
SPACECRAFT_POINTING_MODE = NADIR
^MEX_POINTING_DESC = "MEX_POINTING_DESC.TXT"
RIGHT_ASCENSION = -1e+32
DECLINATION = -1e+32
OFFSET_ANGLE = -1e+32
SPACECRAFT_SOLAR_DISTANCE = 2.31985e+08
TARGET_NAME = MARS
/* CAMERA DATA ELEMENTS */
DETECTOR_TEMPERATURE = 18.7783
FOCAL_PLANE_TEMPERATURE = 8.7872
INST_CMPRS_NAME = "DISCRETE COSINE TRANSFORMATION (DCT)"
INST_CMPRS_RATIO = 19.0599
INST_CMPRS_QUALITY = 0
INST_CMPRS_QUANTZ_TBL_ID = 0
INSTRUMENT_TEMPERATURE = 11.4379
LENS_TEMPERATURE = 8.1755
MACROPIXEL_SIZE = 4
MISSING_FRAMES = 0
PIXEL_SUBSAMPLING_FLAG = N
SIGNAL_CHAIN_ID = 2
/* RADIOMETRIC DATA ELEMENTS */
BANDWIDTH = 48.0
CENTER_FILTER_WAVELENGTH = 748.0
RADIANCE_OFFSET = 0.36925
RADIANCE_SCALING_FACTOR = 0.00404104
REFLECTANCE_SCALING_FACTOR = 0.000496297
MEX:REFLECTANCE_OFFSET = 0.0453491
/* IMAGE OBJECT DEFINITIONS */
OBJECT = IMAGE
  INTERCHANGE_FORMAT = BINARY
  LINES = 9682
  LINE_SAMPLES = 1985
  SAMPLE_TYPE = UNSIGNED_INTEGER
  SAMPLE_BITS = 8
  BANDS = 1
  BAND_STORAGE_TYPE = BAND_SEQUENTIAL
  MAXIMUM = 255
  MEAN = 103.456
  MINIMUM = 1
  STANDARD_DEVIATION = 29.2135
END_OBJECT = IMAGE
/* MAP OBJECT DEFINITIONS */
OBJECT = IMAGE_MAP_PROJECTION
  ^DATA_SET_MAP_PROJECTION_CATALOG= "DSMAP.CAT"
  A_AXIS_RADIUS = 3396.0
  B_AXIS_RADIUS = 3396.0
  C_AXIS_RADIUS = 3396.0
  CENTER_LATITUDE = 0.0
  CENTER_LONGITUDE = 24.0
  COORDINATE_SYSTEM_NAME = PLANETOGRAPHIC
  COORDINATE_SYSTEM_TYPE = "BODY-FIXED ROTATING"
  EASTERNMOST_LONGITUDE = 27.4494
  FIRST_STANDARD_PARALLEL = "N/A"
  LINE_FIRST_PIXEL = 1
  LINE_LAST_PIXEL = 9682
  LINE_PROJECTION_OFFSET = -28864.125
  MAP_PROJECTION_ROTATION = 0.0
  MAP_PROJECTION_TYPE = SINUSOIDAL
  MAP_RESOLUTION = 592.713803866667
  MAP_SCALE = 0.1
  MAXIMUM_LATITUDE = -48.7272
  MINIMUM_LATITUDE = -64.92789999999999
  POSITIVE_LONGITUDE_DIRECTION = EAST
  REFERENCE_LATITUDE = "N/A"
  REFERENCE_LONGITUDE = "N/A"
  SAMPLE_FIRST_PIXEL = 1
  SAMPLE_LAST_PIXEL = 1985
  SAMPLE_PROJECTION_OFFSET = 751.625
  SECOND_STANDARD_PARALLEL = "N/A"
  WESTERNMOST_LONGITUDE = 21.019
END_OBJECT = IMAGE_MAP_PROJECTION
/* The JPEG2000 image data file associated with this label. */
OBJECT = COMPRESSED_FILE
  FILE_NAME = "H2584_0000_RE3.JP2"
  RECORD_TYPE = UNDEFINED
  FILE_RECORDS = UNK
  ENCODING_TYPE = "JP2"
  INTERCHANGE_FORMAT = BINARY
  UNCOMPRESSED_FILE_NAME = "H2584_0000_RE3.IMG"
  REQUIRED_STORAGE_BYTES = "19238620"
  ^DESCRIPTION = "JP2INFO.TXT"
END_OBJECT = COMPRESSED_FILE
END
