PDS_VERSION_ID = PDS3
/* FILE DATA ELEMENTS */
RECORD_TYPE = STREAM
/* POINTERS TO DATA OBJECTS */
^COMPRESSED_FILE = "H2584_0000_S13.JP2"
/* IDENTIFICATION DATA ELEMENTS */
DATA_SET_ID = "MEX-M-HRSC-5-REFDR-MAPPROJECTED-V3.0"
DATA_SET_NAME = "MARS EXPRESS HRSC MAP PROJECTED REFDR V3.0"
DETECTOR_ID = MEX_HRSC_S1
EVENT_TYPE = "MARS-REGIONAL-MAPPING-Vo-Te"
INSTRUMENT_HOST_ID = MEX
INSTRUMENT_HOST_NAME = "MARS EXPRESS"
INSTRUMENT_ID = HRSC
INSTRUMENT_NAME = "HIGH RESOLUTION STEREO CAMERA"
MISSION_NAME = "MARS EXPRESS"
MISSION_PHASE_NAME = ME_Phase_2
PROCESSING_LEVEL_ID = 3
PRODUCT_CREATION_TIME = 2016-04-07T13:48:30.000Z
PRODUCT_ID = "H2584_0000_S13.JP2"
RELEASE_ID = 0032
REVISION_ID = 0000
/* QUALITY DATA ELEMENTS */
DATA_QUALITY_ID = 2
DATA_QUALITY_DESC = "Data calculated based on photogrammetrically improved orbit and attitude data"
/* TIME DATA ELEMENTS */
SPACECRAFT_CLOCK_START_COUNT = "1/0085470193.07292"
SPACECRAFT_CLOCK_STOP_COUNT = "1/0085470626.29265"
START_TIME = 2006-01-16T05:43:18.871Z
STOP_TIME = 2006-01-16T05:47:35.882Z
/* ORBITAL DATA ELEMENTS */
ASCENDING_NODE_LONGITUDE = 174.07
MAXIMUM_RESOLUTION = 37.4
FOOTPRINT_POINT_LATITUDE = (-64.9751,-65.0426,-65.091,-64.8915, -64.6235,-64.2172,-63.9436,-63.6687, -63.2555,-62.9748,-62.6952,-62.4115, -62.1297,-61.6955,-61.4029,-61.1112, -60.815,-60.5194,-60.2206,-59.9179, -59.4609,-59.1544,-58.6893,-58.3767, -58.0655,-57.7443,-57.2629,-56.9387, -56.6108,-56.2815,-55.7815,-55.4473, -55.0984,-54.5908,-54.0701,-53.7186, -53.3625,-53.0045,-52.4558,-52.0858, -51.7247,-51.3517,-50.7835,-50.4018, -50.0163,-49.6285,-49.2364,-48.8397, -48.7696,-48.757,-48.7465,-48.7268, -48.7085,-48.6797,-49.0621,-49.4529, -49.8414,-50.226,-50.6032,-50.98, -51.3539,-51.7227,-52.2672,-52.6318, -52.991,-53.346,-53.6941,-54.0492, -54.3952,-54.7386,-55.2479,-55.5882, -55.9218,-56.4179,-56.7446,-57.0655, -57.3859,-57.7024,-58.0189,-58.3305, -58.7973,-59.1043,-59.4114,-59.7127, -60.1655,-60.4589,-60.7546,-61.0479, -61.3376,-61.7707,-62.1961,-62.4803, -62.8983,-63.1768,-63.4519,-63.7243, -63.9973,-64.4028,-64.8039,-64.9751)
FOOTPRINT_POINT_LONGITUDE = (21.8408,23.0982,24.1905,24.7941, 24.8576,24.9529,25.0138,25.0745,25.161, 25.2195,25.2759,25.3313,25.3831,25.4663 ,25.5201,25.5723,25.6236,25.6728, 25.7224,25.7712,25.8437,25.8894,25.9581 ,26.0025,26.0436,26.0887,26.1523,26.194 ,26.2352,26.2754,26.3345,26.372,26.4156 ,26.467,26.5213,26.5576,26.5931,26.6281 ,26.6825,26.7178,26.7459,26.7786, 26.8272,26.858,26.8883,26.9177,26.9472, 26.976,26.4244,25.7986,25.3825,24.7584, 24.2737,23.6507,23.3764,23.3559,23.3346 ,23.3121,23.2877,23.2633,23.2378, 23.2111,23.1682,23.1406,23.1106,23.0801 ,23.0467,23.016,22.9824,22.9472,22.8935 ,22.8579,22.8196,22.761,22.7199,22.6774 ,22.6337,22.5896,22.5439,22.4978, 22.4265,22.378,22.3278,22.2771,22.1984, 22.144,22.0887,22.0326,21.9751,21.8862, 21.7945,21.7314,21.6356,21.5692,21.5021 ,21.4334,21.363,21.256,21.1447,21.8408)
ORBIT_NUMBER = 2584
ORBITAL_ECCENTRICITY = 0.571
ORBITAL_INCLINATION = 86.61
ORBITAL_SEMIMAJOR_AXIS = 8530.36
PERIAPSIS_ALTITUDE = 280.74
PERIAPSIS_ARGUMENT_ANGLE = 264.25
PERIAPSIS_TIME = 2006-01-16T05:36:09.000Z
SPACECRAFT_ORIENTATION = (0.0,-1.0,0.0)
^MEX_ORIENTATION_DESC = "MEX_ORIENTATION_DESC.TXT"
SPACECRAFT_POINTING_MODE = NADIR
^MEX_POINTING_DESC = "MEX_POINTING_DESC.TXT"
RIGHT_ASCENSION = -1e+32
DECLINATION = -1e+32
OFFSET_ANGLE = -1e+32
SPACECRAFT_SOLAR_DISTANCE = 2.31985e+08
TARGET_NAME = MARS
/* CAMERA DATA ELEMENTS */
DETECTOR_TEMPERATURE = 17.9627
FOCAL_PLANE_TEMPERATURE = 8.7872
INST_CMPRS_NAME = "DISCRETE COSINE TRANSFORMATION (DCT)"
INST_CMPRS_RATIO = 10.8669
INST_CMPRS_QUALITY = 0
INST_CMPRS_QUANTZ_TBL_ID = 0
INSTRUMENT_TEMPERATURE = 11.4379
LENS_TEMPERATURE = 8.1755
MACROPIXEL_SIZE = 2
MISSING_FRAMES = 0
PIXEL_SUBSAMPLING_FLAG = N
SIGNAL_CHAIN_ID = 1
/* RADIOMETRIC DATA ELEMENTS */
BANDWIDTH = 180.0
CENTER_FILTER_WAVELENGTH = 677.0
RADIANCE_OFFSET = 1.90812
RADIANCE_SCALING_FACTOR = 0.013095
REFLECTANCE_SCALING_FACTOR = 0.000367677
MEX:REFLECTANCE_OFFSET = 0.0535758
/* IMAGE OBJECT DEFINITIONS */
OBJECT = IMAGE
  INTERCHANGE_FORMAT = BINARY
  LINES = 19364
  LINE_SAMPLES = 3970
  SAMPLE_TYPE = UNSIGNED_INTEGER
  SAMPLE_BITS = 8
  BANDS = 1
  BAND_STORAGE_TYPE = BAND_SEQUENTIAL
  MAXIMUM = 255
  MEAN = 95.3086
  MINIMUM = 1
  STANDARD_DEVIATION = 26.601
END_OBJECT = IMAGE
/* MAP OBJECT DEFINITIONS */
OBJECT = IMAGE_MAP_PROJECTION
  ^DATA_SET_MAP_PROJECTION_CATALOG= "DSMAP.CAT"
  A_AXIS_RADIUS = 3396.0
  B_AXIS_RADIUS = 3396.0
  C_AXIS_RADIUS = 3396.0
  CENTER_LATITUDE = 0.0
  CENTER_LONGITUDE = 24.0
  COORDINATE_SYSTEM_NAME = PLANETOGRAPHIC
  COORDINATE_SYSTEM_TYPE = "BODY-FIXED ROTATING"
  EASTERNMOST_LONGITUDE = 26.976
  FIRST_STANDARD_PARALLEL = "N/A"
  LINE_FIRST_PIXEL = 1
  LINE_LAST_PIXEL = 19364
  LINE_PROJECTION_OFFSET = -57727.75
  MAP_PROJECTION_ROTATION = 0.0
  MAP_PROJECTION_TYPE = SINUSOIDAL
  MAP_RESOLUTION = 1185.42760773333
  MAP_SCALE = 0.05
  MAXIMUM_LATITUDE = -48.6797
  MINIMUM_LATITUDE = -65.09099999999999
  POSITIVE_LONGITUDE_DIRECTION = EAST
  REFERENCE_LATITUDE = "N/A"
  REFERENCE_LONGITUDE = "N/A"
  SAMPLE_FIRST_PIXEL = 1
  SAMPLE_LAST_PIXEL = 3970
  SAMPLE_PROJECTION_OFFSET = 1503.75
  SECOND_STANDARD_PARALLEL = "N/A"
  WESTERNMOST_LONGITUDE = 21.1447
END_OBJECT = IMAGE_MAP_PROJECTION
/* The JPEG2000 image data file associated with this label. */
OBJECT = COMPRESSED_FILE
  FILE_NAME = "H2584_0000_S13.JP2"
  RECORD_TYPE = UNDEFINED
  FILE_RECORDS = UNK
  ENCODING_TYPE = "JP2"
  INTERCHANGE_FORMAT = BINARY
  UNCOMPRESSED_FILE_NAME = "H2584_0000_S13.IMG"
  REQUIRED_STORAGE_BYTES = "76898900"
  ^DESCRIPTION = "JP2INFO.TXT"
END_OBJECT = COMPRESSED_FILE
END
