PDS_VERSION_ID = PDS3
/* FILE DATA ELEMENTS */
RECORD_TYPE = STREAM
/* POINTERS TO DATA OBJECTS */
^COMPRESSED_FILE = "H2586_0000_P23.JP2"
/* IDENTIFICATION DATA ELEMENTS */
DATA_SET_ID = "MEX-M-HRSC-5-REFDR-MAPPROJECTED-V3.0"
DATA_SET_NAME = "MARS EXPRESS HRSC MAP PROJECTED REFDR V3.0"
DETECTOR_ID = MEX_HRSC_P2
EVENT_TYPE = "MARS-REGIONAL-MAPPING-Im-Fl"
INSTRUMENT_HOST_ID = MEX
INSTRUMENT_HOST_NAME = "MARS EXPRESS"
INSTRUMENT_ID = HRSC
INSTRUMENT_NAME = "HIGH RESOLUTION STEREO CAMERA"
MISSION_NAME = "MARS EXPRESS"
MISSION_PHASE_NAME = ME_Phase_2
PROCESSING_LEVEL_ID = 3
PRODUCT_CREATION_TIME = 2016-04-07T13:48:30.000Z
PRODUCT_ID = "H2586_0000_P23.JP2"
RELEASE_ID = 0032
REVISION_ID = 0000
/* QUALITY DATA ELEMENTS */
DATA_QUALITY_ID = 2
DATA_QUALITY_DESC = "Data calculated based on photogrammetrically improved orbit and attitude data"
/* TIME DATA ELEMENTS */
SPACECRAFT_CLOCK_START_COUNT = "1/0085518448.08255"
SPACECRAFT_CLOCK_STOP_COUNT = "1/0085518892.08638"
START_TIME = 2006-01-16T19:08:30.143Z
STOP_TIME = 2006-01-16T19:14:25.712Z
/* ORBITAL DATA ELEMENTS */
ASCENDING_NODE_LONGITUDE = 174.03
MAXIMUM_RESOLUTION = 32
FOOTPRINT_POINT_LATITUDE = (-73.7414,-73.8289,-73.8993,-73.6515, -73.33,-73.0084,-72.526,-72.0405, -71.712,-71.3841,-71.0493,-70.5472, -70.2059,-69.6936,-69.3452,-68.9972, -68.6429,-68.2879,-67.9274,-67.5669, -67.2027,-66.8353,-66.4631,-66.0901, -65.7107,-65.1369,-64.5555,-64.1647, -63.7677,-63.3673,-62.7623,-62.3551, -61.9422,-61.5248,-61.1034,-60.6783, -60.2485,-59.8136,-59.3741,-58.9304, -58.4821,-58.0289,-57.5712,-57.1062, -56.6386,-56.1651,-55.6858,-55.2012, -54.7092,-54.4182,-54.3937,-54.376, -54.362,-54.3452,-54.3194,-54.5518, -55.0394,-55.5208,-55.9973,-56.4677, -57.1656,-57.6223,-58.0755,-58.5237, -58.9684,-59.4058,-60.0566,-60.4809, -61.117,-61.5333,-61.9531,-62.559, -62.9669,-63.3633,-63.7579,-64.3433, -64.9203,-65.3012,-65.6767,-66.2353, -66.6055,-66.973,-67.334,-67.6933, -68.0508,-68.4028,-68.7538,-69.2703, -69.6149,-69.9529,-70.2915,-70.6242, -70.9557,-71.4483,-71.7702,-72.2527, -72.5719,-73.0487,-73.5249,-73.7414)
FOOTPRINT_POINT_LONGITUDE = (180.867,182.429,183.865,184.355, 184.563,184.762,185.045,185.313,185.487 ,185.653,185.817,186.052,186.204, 186.422,186.565,186.702,186.835,186.965 ,187.091,187.215,187.336,187.453, 187.568,187.68,187.789,187.947,188.1, 188.199,188.297,188.391,188.53,188.62, 188.709,188.795,188.879,188.961,189.042 ,189.121,189.198,189.274,189.349, 189.422,189.493,189.562,189.631,189.699 ,189.765,189.829,189.892,189.358, 188.259,187.648,187.199,186.709,186.055 ,185.688,185.639,185.588,185.534, 185.479,185.39,185.33,185.266,185.199, 185.128,185.058,184.945,184.87,184.744, 184.659,184.559,184.429,184.325,184.232 ,184.129,183.97,183.803,183.687,183.57, 183.384,183.253,183.113,182.979,182.835 ,182.687,182.536,182.38,182.141,181.968 ,181.797,181.617,181.43,181.241,180.938 ,180.74,180.414,180.185,179.833,179.462 ,180.867)
ORBIT_NUMBER = 2586
ORBITAL_ECCENTRICITY = 0.571
ORBITAL_INCLINATION = 86.62
ORBITAL_SEMIMAJOR_AXIS = 8530.84
PERIAPSIS_ALTITUDE = 280.48
PERIAPSIS_ARGUMENT_ANGLE = 263.92
PERIAPSIS_TIME = 2006-01-16T19:02:35.000Z
SPACECRAFT_ORIENTATION = (0.0,-1.0,0.0)
^MEX_ORIENTATION_DESC = "MEX_ORIENTATION_DESC.TXT"
SPACECRAFT_POINTING_MODE = ACROSSTRACK
^MEX_POINTING_DESC = "MEX_POINTING_DESC.TXT"
RIGHT_ASCENSION = -1e+32
DECLINATION = -1e+32
OFFSET_ANGLE = 0.19
SPACECRAFT_SOLAR_DISTANCE = 2.3209e+08
TARGET_NAME = MARS
/* CAMERA DATA ELEMENTS */
DETECTOR_TEMPERATURE = 18.5744
FOCAL_PLANE_TEMPERATURE = 8.1755
INST_CMPRS_NAME = "DISCRETE COSINE TRANSFORMATION (DCT)"
INST_CMPRS_RATIO = 8.08109
INST_CMPRS_QUALITY = 0
INST_CMPRS_QUANTZ_TBL_ID = 0
INSTRUMENT_TEMPERATURE = 11.234
LENS_TEMPERATURE = 8.5833
MACROPIXEL_SIZE = 2
MISSING_FRAMES = 0
PIXEL_SUBSAMPLING_FLAG = N
SIGNAL_CHAIN_ID = 3
/* RADIOMETRIC DATA ELEMENTS */
BANDWIDTH = 177.0
CENTER_FILTER_WAVELENGTH = 676.5
RADIANCE_OFFSET = 1.0843
RADIANCE_SCALING_FACTOR = 0.0106304
REFLECTANCE_SCALING_FACTOR = 0.000303614
MEX:REFLECTANCE_OFFSET = 0.0309686
/* IMAGE OBJECT DEFINITIONS */
OBJECT = IMAGE
  INTERCHANGE_FORMAT = BINARY
  LINES = 46668
  LINE_SAMPLES = 9531
  SAMPLE_TYPE = UNSIGNED_INTEGER
  SAMPLE_BITS = 8
  BANDS = 1
  BAND_STORAGE_TYPE = BAND_SEQUENTIAL
  MAXIMUM = 255
  MEAN = 111.901
  MINIMUM = 1
  STANDARD_DEVIATION = 42.5407
END_OBJECT = IMAGE
/* MAP OBJECT DEFINITIONS */
OBJECT = IMAGE_MAP_PROJECTION
  ^DATA_SET_MAP_PROJECTION_CATALOG= "DSMAP.CAT"
  A_AXIS_RADIUS = 3396.0
  B_AXIS_RADIUS = 3396.0
  C_AXIS_RADIUS = 3396.0
  CENTER_LATITUDE = 0.0
  CENTER_LONGITUDE = 186.0
  COORDINATE_SYSTEM_NAME = PLANETOGRAPHIC
  COORDINATE_SYSTEM_TYPE = "BODY-FIXED ROTATING"
  EASTERNMOST_LONGITUDE = 189.892
  FIRST_STANDARD_PARALLEL = "N/A"
  LINE_FIRST_PIXEL = 1
  LINE_LAST_PIXEL = 46668
  LINE_PROJECTION_OFFSET = -128706.75
  MAP_PROJECTION_ROTATION = 0.0
  MAP_PROJECTION_TYPE = SINUSOIDAL
  MAP_RESOLUTION = 2370.85521546667
  MAP_SCALE = 0.025
  MAXIMUM_LATITUDE = -54.3194
  MINIMUM_LATITUDE = -73.8993
  POSITIVE_LONGITUDE_DIRECTION = EAST
  REFERENCE_LATITUDE = "N/A"
  REFERENCE_LONGITUDE = "N/A"
  SAMPLE_FIRST_PIXEL = 1
  SAMPLE_LAST_PIXEL = 9531
  SAMPLE_PROJECTION_OFFSET = 4358.25
  SECOND_STANDARD_PARALLEL = "N/A"
  WESTERNMOST_LONGITUDE = 179.462
END_OBJECT = IMAGE_MAP_PROJECTION
/* The JPEG2000 image data file associated with this label. */
OBJECT = COMPRESSED_FILE
  FILE_NAME = "H2586_0000_P23.JP2"
  RECORD_TYPE = UNDEFINED
  FILE_RECORDS = UNK
  ENCODING_TYPE = "JP2"
  INTERCHANGE_FORMAT = BINARY
  UNCOMPRESSED_FILE_NAME = "H2586_0000_P23.IMG"
  REQUIRED_STORAGE_BYTES = "444821301"
  ^DESCRIPTION = "JP2INFO.TXT"
END_OBJECT = COMPRESSED_FILE
END
