PDS_VERSION_ID = PDS3
/* FILE DATA ELEMENTS */
RECORD_TYPE = STREAM
/* POINTERS TO DATA OBJECTS */
^COMPRESSED_FILE = "H2587_0001_BL3.JP2"
/* IDENTIFICATION DATA ELEMENTS */
DATA_SET_ID = "MEX-M-HRSC-5-REFDR-MAPPROJECTED-V3.0"
DATA_SET_NAME = "MARS EXPRESS HRSC MAP PROJECTED REFDR V3.0"
DETECTOR_ID = MEX_HRSC_BLUE
EVENT_TYPE = "MARS-REGIONAL-MAPPING-Fl-Gl-Mw"
INSTRUMENT_HOST_ID = MEX
INSTRUMENT_HOST_NAME = "MARS EXPRESS"
INSTRUMENT_ID = HRSC
INSTRUMENT_NAME = "HIGH RESOLUTION STEREO CAMERA"
MISSION_NAME = "MARS EXPRESS"
MISSION_PHASE_NAME = ME_Phase_2
PROCESSING_LEVEL_ID = 3
PRODUCT_CREATION_TIME = 2016-04-07T13:48:30.000Z
PRODUCT_ID = "H2587_0001_BL3.JP2"
RELEASE_ID = 0032
REVISION_ID = 0000
/* QUALITY DATA ELEMENTS */
DATA_QUALITY_ID = 2
DATA_QUALITY_DESC = "Data calculated based on photogrammetrically improved orbit and attitude data"
/* TIME DATA ELEMENTS */
SPACECRAFT_CLOCK_START_COUNT = "1/0085542751.08394"
SPACECRAFT_CLOCK_STOP_COUNT = "1/0085543504.23786"
START_TIME = 2006-01-17T01:53:24.536Z
STOP_TIME = 2006-01-17T02:02:38.281Z
/* ORBITAL DATA ELEMENTS */
ASCENDING_NODE_LONGITUDE = 174.01
MAXIMUM_RESOLUTION = 73.2
FOOTPRINT_POINT_LATITUDE = (-66.8172,-66.8986,-66.75,-65.9064, -65.048,-64.1667,-63.2684,-62.8118, -62.3492,-61.8816,-61.4105,-60.9332, -60.4485,-59.9582,-59.4617,-58.9618, -58.4539,-57.9412,-57.4206,-56.8922, -56.3584,-55.8169,-55.2686,-54.7146, -54.1508,-53.58,-53.0016,-52.4154, -51.819,-51.216,-50.6031,-49.9815, -49.3519,-48.7116,-48.0645,-47.4069, -46.7378,-46.0578,-45.3673,-44.6655, -43.9529,-43.2288,-42.4928,-41.7446, -40.984,-40.2111,-39.4246,-38.6252, -38.1492,-38.1554,-38.1564,-38.1527, -38.1422,-38.534,-39.3263,-40.1061, -40.873,-41.6275,-42.3701,-43.1013, -43.8209,-44.5291,-45.2264,-45.913, -46.589,-47.2547,-47.9106,-48.5565, -49.193,-49.8194,-50.4371,-51.0448, -51.6445,-52.2373,-52.8213,-53.3983, -53.9661,-54.528,-55.0811,-55.6265, -56.1656,-56.6974,-57.2222,-57.7412, -58.2535,-58.7589,-59.2585,-59.7524, -60.2407,-60.7234,-61.1988,-61.6689, -62.1346,-62.5957,-63.4986,-64.3838, -65.0345,-65.6751,-66.5144,-66.8172)
FOOTPRINT_POINT_LONGITUDE = (86.7082,88.3783,89.6065,89.8397, 90.0681,90.267,90.466,90.5602,90.6538, 90.7436,90.834,90.9206,91.004,91.0844, 91.1613,91.2433,91.3183,91.3961,91.4685 ,91.5358,91.6052,91.6707,91.7358, 91.8027,91.8628,91.9259,91.9862,92.0442 ,92.1,92.1561,92.2101,92.26,92.3142, 92.363,92.4168,92.4688,92.5164,92.5618, 92.6055,92.6488,92.6912,92.7322,92.7716 ,92.8101,92.8473,92.8838,92.9188, 92.9541,92.2274,91.3917,90.6887,89.8525 ,88.9274,88.2606,88.2802,88.2953, 88.3069,88.3159,88.3198,88.3216,88.3186 ,88.3138,88.3066,88.2957,88.2824,88.266 ,88.2461,88.2239,88.1997,88.1748, 88.1446,88.1191,88.0858,88.048,88.0076, 87.9603,87.9174,87.8659,87.8125,87.7588 ,87.6997,87.6391,87.5767,87.5089, 87.4389,87.3676,87.2915,87.2119,87.129, 87.0426,86.9539,86.8624,86.767,86.668, 86.4603,86.2357,86.0582,85.8692,85.6012 ,86.7082)
ORBIT_NUMBER = 2587
ORBITAL_ECCENTRICITY = 0.571
ORBITAL_INCLINATION = 86.63
ORBITAL_SEMIMAJOR_AXIS = 8529.24
PERIAPSIS_ALTITUDE = 279.67
PERIAPSIS_ARGUMENT_ANGLE = 263.74
PERIAPSIS_TIME = 2006-01-17T01:45:49.000Z
SPACECRAFT_ORIENTATION = (0.0,-1.0,0.0)
^MEX_ORIENTATION_DESC = "MEX_ORIENTATION_DESC.TXT"
SPACECRAFT_POINTING_MODE = NADIR
^MEX_POINTING_DESC = "MEX_POINTING_DESC.TXT"
RIGHT_ASCENSION = -1e+32
DECLINATION = -1e+32
OFFSET_ANGLE = -1e+32
SPACECRAFT_SOLAR_DISTANCE = 2.32142e+08
TARGET_NAME = MARS
/* CAMERA DATA ELEMENTS */
DETECTOR_TEMPERATURE = 19.1861
FOCAL_PLANE_TEMPERATURE = 8.5833
INST_CMPRS_NAME = "DISCRETE COSINE TRANSFORMATION (DCT)"
INST_CMPRS_RATIO = 10.582
INST_CMPRS_QUALITY = 0
INST_CMPRS_QUANTZ_TBL_ID = 0
INSTRUMENT_TEMPERATURE = 12.4574
LENS_TEMPERATURE = 8.7872
MACROPIXEL_SIZE = 4
MISSING_FRAMES = 0
PIXEL_SUBSAMPLING_FLAG = N
SIGNAL_CHAIN_ID = 2
/* RADIOMETRIC DATA ELEMENTS */
BANDWIDTH = 76.0
CENTER_FILTER_WAVELENGTH = 444.0
RADIANCE_OFFSET = 0.337055
RADIANCE_SCALING_FACTOR = 0.00218009
REFLECTANCE_SCALING_FACTOR = 0.000120709
MEX:REFLECTANCE_OFFSET = 0.0186624
/* IMAGE OBJECT DEFINITIONS */
OBJECT = IMAGE
  INTERCHANGE_FORMAT = BINARY
  LINES = 34173
  LINE_SAMPLES = 4805
  SAMPLE_TYPE = UNSIGNED_INTEGER
  SAMPLE_BITS = 8
  BANDS = 1
  BAND_STORAGE_TYPE = BAND_SEQUENTIAL
  MAXIMUM = 255
  MEAN = 128.344
  MINIMUM = 1
  STANDARD_DEVIATION = 55.9857
END_OBJECT = IMAGE
/* MAP OBJECT DEFINITIONS */
OBJECT = IMAGE_MAP_PROJECTION
  ^DATA_SET_MAP_PROJECTION_CATALOG= "DSMAP.CAT"
  A_AXIS_RADIUS = 3396.0
  B_AXIS_RADIUS = 3396.0
  C_AXIS_RADIUS = 3396.0
  CENTER_LATITUDE = 0.0
  CENTER_LONGITUDE = 90.0
  COORDINATE_SYSTEM_NAME = PLANETOGRAPHIC
  COORDINATE_SYSTEM_TYPE = "BODY-FIXED ROTATING"
  EASTERNMOST_LONGITUDE = 92.9541
  FIRST_STANDARD_PARALLEL = "N/A"
  LINE_FIRST_PIXEL = 1
  LINE_LAST_PIXEL = 34173
  LINE_PROJECTION_OFFSET = -45196.125
  MAP_PROJECTION_ROTATION = 0.0
  MAP_PROJECTION_TYPE = SINUSOIDAL
  MAP_RESOLUTION = 1185.42760773333
  MAP_SCALE = 0.05
  MAXIMUM_LATITUDE = -38.1422
  MINIMUM_LATITUDE = -66.8986
  POSITIVE_LONGITUDE_DIRECTION = EAST
  REFERENCE_LATITUDE = "N/A"
  REFERENCE_LONGITUDE = "N/A"
  SAMPLE_FIRST_PIXEL = 1
  SAMPLE_LAST_PIXEL = 4805
  SAMPLE_PROJECTION_OFFSET = 2077.375
  SECOND_STANDARD_PARALLEL = "N/A"
  WESTERNMOST_LONGITUDE = 85.60120000000001
END_OBJECT = IMAGE_MAP_PROJECTION
/* The JPEG2000 image data file associated with this label. */
OBJECT = COMPRESSED_FILE
  FILE_NAME = "H2587_0001_BL3.JP2"
  RECORD_TYPE = UNDEFINED
  FILE_RECORDS = UNK
  ENCODING_TYPE = "JP2"
  INTERCHANGE_FORMAT = BINARY
  UNCOMPRESSED_FILE_NAME = "H2587_0001_BL3.IMG"
  REQUIRED_STORAGE_BYTES = "164225290"
  ^DESCRIPTION = "JP2INFO.TXT"
END_OBJECT = COMPRESSED_FILE
END
