PDS_VERSION_ID = PDS3
/* FILE DATA ELEMENTS */
RECORD_TYPE = STREAM
/* POINTERS TO DATA OBJECTS */
^COMPRESSED_FILE = "H2593_0009_ND3.JP2"
/* IDENTIFICATION DATA ELEMENTS */
DATA_SET_ID = "MEX-M-HRSC-5-REFDR-MAPPROJECTED-V3.0"
DATA_SET_NAME = "MARS EXPRESS HRSC MAP PROJECTED REFDR V3.0"
DETECTOR_ID = MEX_HRSC_NADIR
EVENT_TYPE = "MARS-TERMINATOR-VARIABLE-Gl-At"
INSTRUMENT_HOST_ID = MEX
INSTRUMENT_HOST_NAME = "MARS EXPRESS"
INSTRUMENT_ID = HRSC
INSTRUMENT_NAME = "HIGH RESOLUTION STEREO CAMERA"
MISSION_NAME = "MARS EXPRESS"
MISSION_PHASE_NAME = ME_Phase_2
PROCESSING_LEVEL_ID = 3
PRODUCT_CREATION_TIME = 2016-04-07T13:48:30.000Z
PRODUCT_ID = "H2593_0009_ND3.JP2"
RELEASE_ID = 0032
REVISION_ID = 0000
/* QUALITY DATA ELEMENTS */
DATA_QUALITY_ID = 1
DATA_QUALITY_DESC = "Data calculated based on original SPICE kernels"
/* TIME DATA ELEMENTS */
SPACECRAFT_CLOCK_START_COUNT = "1/0085695538.09079"
SPACECRAFT_CLOCK_STOP_COUNT = "1/0085696358.06127"
START_TIME = 2006-01-18T20:19:03.988Z
STOP_TIME = 2006-01-18T20:32:41.960Z
/* ORBITAL DATA ELEMENTS */
ASCENDING_NODE_LONGITUDE = 173.88
MAXIMUM_RESOLUTION = 364.3
FOOTPRINT_POINT_LATITUDE = (79.0892,79.4464,79.6027,79.5637, 79.3431,78.9612,78.4412,77.8065,77.0789 ,76.2775,75.4171,74.5095,73.5643, 72.5887,71.5886,70.5682,69.5297,68.4745 ,67.4055,66.3245,65.2305,64.123,63.0038 ,61.8738,60.7321,59.9931,61.1653, 62.3136,63.435,64.5256,65.5809,66.5957, 67.5633,68.5861,69.2234,70.0094,70.7121 ,71.3193,72.6224,73.9213,75.2122, 76.4934,77.7592,79.0013,80.2101,81.3698 ,82.1893,83.1783,83.9826,84.5021, 84.5891,84.1886,83.3995,82.8907,82.3185 ,81.6916,81.0126,80.2884,79.5319, 78.7382,77.9192,77.0712,76.1929,75.285, 74.3453,73.3722,72.3647,71.3206,70.2379 ,69.1119,67.9385,66.7121,65.4242, 65.0682,66.3412,67.5517,68.7021,69.7972 ,70.838,71.826,72.7625,73.6478,74.4777, 75.2542,75.9723,76.6305,77.2258,77.7526 ,78.2065,78.5842,78.8812,79.0957, 79.2261,79.2724,79.2366,79.1216,78.9329 ,78.6762,79.0892)
FOOTPRINT_POINT_LONGITUDE = (134.476,142.414,150.532,158.555, 166.229,173.364,179.853,185.667,190.825 ,195.379,199.396,202.946,206.095, 208.903,211.42,213.686,215.741,217.616, 219.334,220.915,222.38,223.746,225.023, 226.22,227.349,228.192,229.565,231.084, 232.767,234.63,236.696,238.984,241.518, 244.692,247.015,250.375,254.055,258.057 ,261.504,262.685,264.136,265.934, 268.194,271.061,274.766,279.615,284.281 ,292.311,303.058,316.828,336.753, 351.878,4.48164,9.65892,14.1411,18.003, 21.3252,24.1835,26.6516,28.7873,30.6472 ,32.2713,33.6932,34.9429,36.0425, 37.0112,37.8659,38.6196,39.2838,39.8673 ,40.3775,40.8207,41.2009,42.9874, 44.4778,46.0771,47.7964,49.6502,51.6521 ,53.8181,56.1664,58.7164,61.4815, 64.4868,67.7442,71.2714,75.0804,79.1687 ,83.5257,88.132,92.9466,97.9235,102.996 ,108.092,113.14,118.058,122.797,127.305 ,134.476)
ORBIT_NUMBER = 2593
ORBITAL_ECCENTRICITY = 0.571
ORBITAL_INCLINATION = 86.63
ORBITAL_SEMIMAJOR_AXIS = 8530.82
PERIAPSIS_ALTITUDE = 279.68
PERIAPSIS_ARGUMENT_ANGLE = 262.7
PERIAPSIS_TIME = 2006-01-18T18:04:55.000Z
SPACECRAFT_ORIENTATION = (0.0,-1.0,0.0)
^MEX_ORIENTATION_DESC = "MEX_ORIENTATION_DESC.TXT"
SPACECRAFT_POINTING_MODE = INERT
^MEX_POINTING_DESC = "MEX_POINTING_DESC.TXT"
RIGHT_ASCENSION = 305.837
DECLINATION = 49.702
OFFSET_ANGLE = -1e+32
SPACECRAFT_SOLAR_DISTANCE = 2.32457e+08
TARGET_NAME = MARS
/* CAMERA DATA ELEMENTS */
DETECTOR_TEMPERATURE = 18.5744
FOCAL_PLANE_TEMPERATURE = 10.0106
INST_CMPRS_NAME = "DISCRETE COSINE TRANSFORMATION (DCT)"
INST_CMPRS_RATIO = 9.8308
INST_CMPRS_QUALITY = 0
INST_CMPRS_QUANTZ_TBL_ID = 0
INSTRUMENT_TEMPERATURE = 12.0496
LENS_TEMPERATURE = 10.0106
MACROPIXEL_SIZE = 1
MISSING_FRAMES = 0
PIXEL_SUBSAMPLING_FLAG = N
SIGNAL_CHAIN_ID = 0
/* RADIOMETRIC DATA ELEMENTS */
BANDWIDTH = 177.0
CENTER_FILTER_WAVELENGTH = 677.5
RADIANCE_OFFSET = 0.0
RADIANCE_SCALING_FACTOR = 0.0343077
REFLECTANCE_SCALING_FACTOR = 0.000984974
MEX:REFLECTANCE_OFFSET = 0.0
/* IMAGE OBJECT DEFINITIONS */
OBJECT = IMAGE
  INTERCHANGE_FORMAT = BINARY
  LINES = 4185
  LINE_SAMPLES = 20589
  SAMPLE_TYPE = UNSIGNED_INTEGER
  SAMPLE_BITS = 8
  BANDS = 1
  BAND_STORAGE_TYPE = BAND_SEQUENTIAL
  MAXIMUM = 255
  MEAN = 34.5311
  MINIMUM = 1
  STANDARD_DEVIATION = 59.4297
END_OBJECT = IMAGE
/* MAP OBJECT DEFINITIONS */
OBJECT = IMAGE_MAP_PROJECTION
  ^DATA_SET_MAP_PROJECTION_CATALOG= "DSMAP.CAT"
  A_AXIS_RADIUS = 3396.0
  B_AXIS_RADIUS = 3396.0
  C_AXIS_RADIUS = 3396.0
  CENTER_LATITUDE = 0.0
  CENTER_LONGITUDE = 220.0
  COORDINATE_SYSTEM_NAME = PLANETOGRAPHIC
  COORDINATE_SYSTEM_TYPE = "BODY-FIXED ROTATING"
  EASTERNMOST_LONGITUDE = 360.0
  FIRST_STANDARD_PARALLEL = "N/A"
  LINE_FIRST_PIXEL = 1
  LINE_LAST_PIXEL = 4185
  LINE_PROJECTION_OFFSET = 13073.0
  MAP_PROJECTION_ROTATION = 0.0
  MAP_PROJECTION_TYPE = SINUSOIDAL
  MAP_RESOLUTION = 148.178450966667
  MAP_SCALE = 0.4
  MAXIMUM_LATITUDE = 90.0
  MINIMUM_LATITUDE = 59.9931
  POSITIVE_LONGITUDE_DIRECTION = EAST
  REFERENCE_LATITUDE = "N/A"
  REFERENCE_LONGITUDE = "N/A"
  SAMPLE_FIRST_PIXEL = 1
  SAMPLE_LAST_PIXEL = 20589
  SAMPLE_PROJECTION_OFFSET = 11441.0
  SECOND_STANDARD_PARALLEL = "N/A"
  WESTERNMOST_LONGITUDE = 0.0
END_OBJECT = IMAGE_MAP_PROJECTION
/* The JPEG2000 image data file associated with this label. */
OBJECT = COMPRESSED_FILE
  FILE_NAME = "H2593_0009_ND3.JP2"
  RECORD_TYPE = UNDEFINED
  FILE_RECORDS = UNK
  ENCODING_TYPE = "JP2"
  INTERCHANGE_FORMAT = BINARY
  UNCOMPRESSED_FILE_NAME = "H2593_0009_ND3.IMG"
  REQUIRED_STORAGE_BYTES = "86226732"
  ^DESCRIPTION = "JP2INFO.TXT"
END_OBJECT = COMPRESSED_FILE
END
