PDS_VERSION_ID = PDS3
/* FILE DATA ELEMENTS */
RECORD_TYPE = STREAM
/* POINTERS TO DATA OBJECTS */
^COMPRESSED_FILE = "H2594_0001_P23.JP2"
/* IDENTIFICATION DATA ELEMENTS */
DATA_SET_ID = "MEX-M-HRSC-5-REFDR-MAPPROJECTED-V3.0"
DATA_SET_NAME = "MARS EXPRESS HRSC MAP PROJECTED REFDR V3.0"
DETECTOR_ID = MEX_HRSC_P2
EVENT_TYPE = "MARS-REGIONAL-MAPPING-Te-Im-Fl"
INSTRUMENT_HOST_ID = MEX
INSTRUMENT_HOST_NAME = "MARS EXPRESS"
INSTRUMENT_ID = HRSC
INSTRUMENT_NAME = "HIGH RESOLUTION STEREO CAMERA"
MISSION_NAME = "MARS EXPRESS"
MISSION_PHASE_NAME = ME_Phase_2
PROCESSING_LEVEL_ID = 3
PRODUCT_CREATION_TIME = 2016-04-07T13:48:30.000Z
PRODUCT_ID = "H2594_0001_P23.JP2"
RELEASE_ID = 0032
REVISION_ID = 0000
/* QUALITY DATA ELEMENTS */
DATA_QUALITY_ID = 2
DATA_QUALITY_DESC = "Data calculated based on photogrammetrically improved orbit and attitude data"
/* TIME DATA ELEMENTS */
SPACECRAFT_CLOCK_START_COUNT = "1/0085712240.08574"
SPACECRAFT_CLOCK_STOP_COUNT = "1/0085712702.33215"
START_TIME = 2006-01-19T00:59:04.773Z
STOP_TIME = 2006-01-19T01:04:11.678Z
/* ORBITAL DATA ELEMENTS */
ASCENDING_NODE_LONGITUDE = 173.86
MAXIMUM_RESOLUTION = 52.8
FOOTPRINT_POINT_LATITUDE = (-58.3849,-58.4218,-58.4442,-58.4639, -58.5356,-58.0477,-57.5574,-57.1843, -56.4262,-55.9218,-55.4078,-55.1453, -54.8757,-54.4755,-54.2072,-53.9367, -53.6661,-53.3949,-53.1214,-52.8457, -52.5665,-52.2867,-52.0053,-51.7235, -51.4384,-51.1515,-50.8646,-50.5745, -50.2821,-49.9878,-49.6916,-49.3933, -48.9409,-48.6377,-48.3286,-48.0259, -47.7172,-47.4058,-47.0924,-46.7731, -46.454,-46.1364,-45.815,-45.4898, -45.1733,-44.8452,-44.2735,-44.2771, -44.2751,-44.2726,-44.2755,-44.2657, -44.2577,-44.2505,-44.2389,-44.4001, -44.7249,-45.0512,-45.3744,-45.6939, -46.0133,-46.3317,-46.6466,-46.9592, -47.27,-47.5783,-47.8846,-48.189, -48.4899,-48.789,-49.0891,-49.3879, -49.6841,-49.9775,-50.2689,-50.5581, -50.8444,-51.1278,-51.4124,-51.6948, -51.9749,-52.2515,-52.529,-52.8036, -53.0774,-53.4833,-53.7547,-54.0231, -54.2901,-54.5548,-54.8177,-55.0792, -55.5959,-56.1056,-56.6097,-56.9849, -57.4785,-57.8461,-58.3321,-58.3849)
FOOTPRINT_POINT_LONGITUDE = (120.869,121.803,122.455,123.109, 124.035,124.101,124.169,124.217,124.309 ,124.378,124.441,124.47,124.492,124.533 ,124.561,124.588,124.615,124.643, 124.671,124.699,124.723,124.749,124.775 ,124.802,124.827,124.853,124.879, 124.904,124.928,124.953,124.977,125.001 ,125.035,125.059,125.079,125.105, 125.129,125.151,125.174,125.193,125.214 ,125.238,125.261,125.282,125.311, 125.332,125.365,124.501,123.878,123.448 ,122.732,122.255,121.826,121.301, 120.778,120.425,120.429,120.43,120.431, 120.432,120.431,120.429,120.427,120.424 ,120.42,120.416,120.412,120.406,120.402 ,120.396,120.388,120.378,120.368, 120.359,120.349,120.338,120.328,120.317 ,120.304,120.29,120.277,120.264,120.248 ,120.233,120.216,120.191,120.172, 120.153,120.132,120.112,120.092,120.07, 120.027,119.981,119.933,119.895,119.842 ,119.8,119.741,120.869)
ORBIT_NUMBER = 2594
ORBITAL_ECCENTRICITY = 0.571
ORBITAL_INCLINATION = 86.62
ORBITAL_SEMIMAJOR_AXIS = 8530.31
PERIAPSIS_ALTITUDE = 280.37
PERIAPSIS_ARGUMENT_ANGLE = 262.52
PERIAPSIS_TIME = 2006-01-19T00:48:08.000Z
SPACECRAFT_ORIENTATION = (0.0,-1.0,0.0)
^MEX_ORIENTATION_DESC = "MEX_ORIENTATION_DESC.TXT"
SPACECRAFT_POINTING_MODE = ACROSSTRACK
^MEX_POINTING_DESC = "MEX_POINTING_DESC.TXT"
RIGHT_ASCENSION = -1e+32
DECLINATION = -1e+32
OFFSET_ANGLE = -0.23
SPACECRAFT_SOLAR_DISTANCE = 2.32509e+08
TARGET_NAME = MARS
/* CAMERA DATA ELEMENTS */
DETECTOR_TEMPERATURE = 20.6134
FOCAL_PLANE_TEMPERATURE = 9.3989
INST_CMPRS_NAME = "DISCRETE COSINE TRANSFORMATION (DCT)"
INST_CMPRS_RATIO = 8.70464
INST_CMPRS_QUALITY = 0
INST_CMPRS_QUANTZ_TBL_ID = 0
INSTRUMENT_TEMPERATURE = 12.8652
LENS_TEMPERATURE = 9.8067
MACROPIXEL_SIZE = 2
MISSING_FRAMES = 0
PIXEL_SUBSAMPLING_FLAG = N
SIGNAL_CHAIN_ID = 3
/* RADIOMETRIC DATA ELEMENTS */
BANDWIDTH = 177.0
CENTER_FILTER_WAVELENGTH = 676.5
RADIANCE_OFFSET = 1.72742
RADIANCE_SCALING_FACTOR = 0.0203226
REFLECTANCE_SCALING_FACTOR = 0.000582531
MEX:REFLECTANCE_OFFSET = 0.0495152
/* IMAGE OBJECT DEFINITIONS */
OBJECT = IMAGE
  INTERCHANGE_FORMAT = BINARY
  LINES = 16973
  LINE_SAMPLES = 3931
  SAMPLE_TYPE = UNSIGNED_INTEGER
  SAMPLE_BITS = 8
  BANDS = 1
  BAND_STORAGE_TYPE = BAND_SEQUENTIAL
  MAXIMUM = 255
  MEAN = 89.3056
  MINIMUM = 1
  STANDARD_DEVIATION = 35.2012
END_OBJECT = IMAGE
/* MAP OBJECT DEFINITIONS */
OBJECT = IMAGE_MAP_PROJECTION
  ^DATA_SET_MAP_PROJECTION_CATALOG= "DSMAP.CAT"
  A_AXIS_RADIUS = 3396.0
  B_AXIS_RADIUS = 3396.0
  C_AXIS_RADIUS = 3396.0
  CENTER_LATITUDE = 0.0
  CENTER_LONGITUDE = 122.0
  COORDINATE_SYSTEM_NAME = PLANETOGRAPHIC
  COORDINATE_SYSTEM_TYPE = "BODY-FIXED ROTATING"
  EASTERNMOST_LONGITUDE = 125.365
  FIRST_STANDARD_PARALLEL = "N/A"
  LINE_FIRST_PIXEL = 1
  LINE_LAST_PIXEL = 16973
  LINE_PROJECTION_OFFSET = -52393.75
  MAP_PROJECTION_ROTATION = 0.0
  MAP_PROJECTION_TYPE = SINUSOIDAL
  MAP_RESOLUTION = 1185.42760773333
  MAP_SCALE = 0.05
  MAXIMUM_LATITUDE = -44.2389
  MINIMUM_LATITUDE = -58.5356
  POSITIVE_LONGITUDE_DIRECTION = EAST
  REFERENCE_LATITUDE = "N/A"
  REFERENCE_LONGITUDE = "N/A"
  SAMPLE_FIRST_PIXEL = 1
  SAMPLE_LAST_PIXEL = 3931
  SAMPLE_PROJECTION_OFFSET = 1320.75
  SECOND_STANDARD_PARALLEL = "N/A"
  WESTERNMOST_LONGITUDE = 119.741
END_OBJECT = IMAGE_MAP_PROJECTION
/* The JPEG2000 image data file associated with this label. */
OBJECT = COMPRESSED_FILE
  FILE_NAME = "H2594_0001_P23.JP2"
  RECORD_TYPE = UNDEFINED
  FILE_RECORDS = UNK
  ENCODING_TYPE = "JP2"
  INTERCHANGE_FORMAT = BINARY
  UNCOMPRESSED_FILE_NAME = "H2594_0001_P23.IMG"
  REQUIRED_STORAGE_BYTES = "66744449"
  ^DESCRIPTION = "JP2INFO.TXT"
END_OBJECT = COMPRESSED_FILE
END
