PDS_VERSION_ID = PDS3
/* FILE DATA ELEMENTS */
RECORD_TYPE = STREAM
/* POINTERS TO DATA OBJECTS */
^COMPRESSED_FILE = "H2595_0001_GR3.JP2"
/* IDENTIFICATION DATA ELEMENTS */
DATA_SET_ID = "MEX-M-HRSC-5-REFDR-MAPPROJECTED-V3.0"
DATA_SET_NAME = "MARS EXPRESS HRSC MAP PROJECTED REFDR V3.0"
DETECTOR_ID = MEX_HRSC_GREEN
EVENT_TYPE = "MARS-REGIONAL-MAPPING-Te-Fl-Eo"
INSTRUMENT_HOST_ID = MEX
INSTRUMENT_HOST_NAME = "MARS EXPRESS"
INSTRUMENT_ID = HRSC
INSTRUMENT_NAME = "HIGH RESOLUTION STEREO CAMERA"
MISSION_NAME = "MARS EXPRESS"
MISSION_PHASE_NAME = ME_Phase_2
PROCESSING_LEVEL_ID = 3
PRODUCT_CREATION_TIME = 2016-04-07T13:48:30.000Z
PRODUCT_ID = "H2595_0001_GR3.JP2"
RELEASE_ID = 0032
REVISION_ID = 0000
/* QUALITY DATA ELEMENTS */
DATA_QUALITY_ID = 2
DATA_QUALITY_DESC = "Data calculated based on photogrammetrically improved orbit and attitude data"
/* TIME DATA ELEMENTS */
SPACECRAFT_CLOCK_START_COUNT = "1/0085736545.07304"
SPACECRAFT_CLOCK_STOP_COUNT = "1/0085737269.47674"
START_TIME = 2006-01-19T07:43:28.628Z
STOP_TIME = 2006-01-19T07:49:54.543Z
/* ORBITAL DATA ELEMENTS */
ASCENDING_NODE_LONGITUDE = 173.84
MAXIMUM_RESOLUTION = 115.1
FOOTPRINT_POINT_LATITUDE = (-51.4007,-51.4297,-51.4556,-51.4682, -51.3078,-50.6714,-50.0248,-49.3689, -48.7032,-48.0262,-47.6839,-47.3389, -46.9911,-46.6405,-46.2869,-45.9306, -45.5563,-45.194,-44.8287,-44.4603, -44.0887,-43.7144,-43.3369,-42.9557, -42.5715,-42.1839,-41.7935,-41.399, -40.7842,-40.3808,-39.9744,-39.5637, -39.1498,-38.7318,-38.3104,-37.6798, -37.262,-36.8464,-36.4328,-36.0212, -35.6119,-35.0,-34.5977,-33.9955, -33.5961,-33.1989,-32.8029,-32.5414, -32.5534,-32.566,-32.5709,-32.5722, -32.5717,-32.5669,-32.7536,-33.1445, -33.5362,-33.9303,-34.3264,-34.7249, -35.1253,-35.5277,-35.9326,-36.3394, -36.7488,-37.1595,-37.5728,-37.9888, -38.406,-38.8229,-39.2359,-39.6455, -40.0511,-40.453,-40.8518,-41.4597, -41.8497,-42.236,-42.6198,-43.0,-43.377 ,-43.7509,-44.1221,-44.4902,-44.8561, -45.2182,-45.5774,-45.9481,-46.3014, -46.6517,-46.9992,-47.3443,-47.6863, -48.0253,-48.6958,-49.3568,-50.0076, -50.6487,-51.2796,-51.4007)
FOOTPRINT_POINT_LONGITUDE = (22.9561,23.7666,24.6875,25.2783, 25.8871,25.9435,25.9965,26.0476,26.0978 ,26.1461,26.1697,26.1927,26.2157, 26.2384,26.2611,26.2828,26.3053,26.3268 ,26.3477,26.3683,26.3888,26.4082, 26.4276,26.4469,26.4653,26.4841,26.5019 ,26.5201,26.548,26.5657,26.5829,26.5999 ,26.6163,26.6324,26.6479,26.6705, 26.6851,26.6989,26.7123,26.7255,26.7379 ,26.7593,26.7665,26.7822,26.7932, 26.8034,26.8149,26.3122,25.7528,24.9167 ,24.2207,23.7094,23.1981,22.5009,21.841 ,21.8628,21.8812,21.8996,21.9172, 21.9347,21.9513,21.9667,21.9823,21.9965 ,22.0109,22.0229,22.0351,22.0474, 22.0569,22.0666,22.0758,22.0838,22.0909 ,22.0959,22.101,22.1066,22.1088,22.1092 ,22.1096,22.1089,22.1078,22.1059, 22.1035,22.1,22.0974,22.0924,22.0869, 22.0792,22.0717,22.0632,22.0544,22.0453 ,22.0342,22.022,21.9954,21.9668,21.9369 ,21.9022,21.8647,22.9561)
ORBIT_NUMBER = 2595
ORBITAL_ECCENTRICITY = 0.571
ORBITAL_INCLINATION = 86.61
ORBITAL_SEMIMAJOR_AXIS = 8530.91
PERIAPSIS_ALTITUDE = 280.64
PERIAPSIS_ARGUMENT_ANGLE = 262.34
PERIAPSIS_TIME = 2006-01-19T07:31:17.000Z
SPACECRAFT_ORIENTATION = (0.0,-1.0,0.0)
^MEX_ORIENTATION_DESC = "MEX_ORIENTATION_DESC.TXT"
SPACECRAFT_POINTING_MODE = NADIR
^MEX_POINTING_DESC = "MEX_POINTING_DESC.TXT"
RIGHT_ASCENSION = -1e+32
DECLINATION = -1e+32
OFFSET_ANGLE = -1e+32
SPACECRAFT_SOLAR_DISTANCE = 2.32561e+08
TARGET_NAME = MARS
/* CAMERA DATA ELEMENTS */
DETECTOR_TEMPERATURE = 20.0017
FOCAL_PLANE_TEMPERATURE = 9.3989
INST_CMPRS_NAME = "DISCRETE COSINE TRANSFORMATION (DCT)"
INST_CMPRS_RATIO = 12.2349
INST_CMPRS_QUALITY = 0
INST_CMPRS_QUANTZ_TBL_ID = 0
INSTRUMENT_TEMPERATURE = 12.2535
LENS_TEMPERATURE = 9.8067
MACROPIXEL_SIZE = 4
MISSING_FRAMES = 2
PIXEL_SUBSAMPLING_FLAG = N
SIGNAL_CHAIN_ID = 2
/* RADIOMETRIC DATA ELEMENTS */
BANDWIDTH = 88.0
CENTER_FILTER_WAVELENGTH = 538.0
RADIANCE_OFFSET = 0.796818
RADIANCE_SCALING_FACTOR = 0.0042441
REFLECTANCE_SCALING_FACTOR = 0.000197631
MEX:REFLECTANCE_OFFSET = 0.0371047
/* IMAGE OBJECT DEFINITIONS */
OBJECT = IMAGE
  INTERCHANGE_FORMAT = BINARY
  LINES = 11234
  LINE_SAMPLES = 2613
  SAMPLE_TYPE = UNSIGNED_INTEGER
  SAMPLE_BITS = 8
  BANDS = 1
  BAND_STORAGE_TYPE = BAND_SEQUENTIAL
  MAXIMUM = 255
  MEAN = 136.575
  MINIMUM = 1
  STANDARD_DEVIATION = 24.5238
END_OBJECT = IMAGE
/* MAP OBJECT DEFINITIONS */
OBJECT = IMAGE_MAP_PROJECTION
  ^DATA_SET_MAP_PROJECTION_CATALOG= "DSMAP.CAT"
  A_AXIS_RADIUS = 3396.0
  B_AXIS_RADIUS = 3396.0
  C_AXIS_RADIUS = 3396.0
  CENTER_LATITUDE = 0.0
  CENTER_LONGITUDE = 24.0
  COORDINATE_SYSTEM_NAME = PLANETOGRAPHIC
  COORDINATE_SYSTEM_TYPE = "BODY-FIXED ROTATING"
  EASTERNMOST_LONGITUDE = 26.8149
  FIRST_STANDARD_PARALLEL = "N/A"
  LINE_FIRST_PIXEL = 1
  LINE_LAST_PIXEL = 11234
  LINE_PROJECTION_OFFSET = -19277.125
  MAP_PROJECTION_ROTATION = 0.0
  MAP_PROJECTION_TYPE = SINUSOIDAL
  MAP_RESOLUTION = 592.713803866667
  MAP_SCALE = 0.1
  MAXIMUM_LATITUDE = -32.5414
  MINIMUM_LATITUDE = -51.4682
  POSITIVE_LONGITUDE_DIRECTION = EAST
  REFERENCE_LATITUDE = "N/A"
  REFERENCE_LONGITUDE = "N/A"
  SAMPLE_FIRST_PIXEL = 1
  SAMPLE_LAST_PIXEL = 2613
  SAMPLE_PROJECTION_OFFSET = 1132.375
  SECOND_STANDARD_PARALLEL = "N/A"
  WESTERNMOST_LONGITUDE = 21.841
END_OBJECT = IMAGE_MAP_PROJECTION
/* The JPEG2000 image data file associated with this label. */
OBJECT = COMPRESSED_FILE
  FILE_NAME = "H2595_0001_GR3.JP2"
  RECORD_TYPE = UNDEFINED
  FILE_RECORDS = UNK
  ENCODING_TYPE = "JP2"
  INTERCHANGE_FORMAT = BINARY
  UNCOMPRESSED_FILE_NAME = "H2595_0001_GR3.IMG"
  REQUIRED_STORAGE_BYTES = "29375346"
  ^DESCRIPTION = "JP2INFO.TXT"
END_OBJECT = COMPRESSED_FILE
END
