PDS_VERSION_ID = PDS3
/* FILE DATA ELEMENTS */
RECORD_TYPE = STREAM
/* POINTERS TO DATA OBJECTS */
^COMPRESSED_FILE = "H2595_0001_S13.JP2"
/* IDENTIFICATION DATA ELEMENTS */
DATA_SET_ID = "MEX-M-HRSC-5-REFDR-MAPPROJECTED-V3.0"
DATA_SET_NAME = "MARS EXPRESS HRSC MAP PROJECTED REFDR V3.0"
DETECTOR_ID = MEX_HRSC_S1
EVENT_TYPE = "MARS-REGIONAL-MAPPING-Te-Fl-Eo"
INSTRUMENT_HOST_ID = MEX
INSTRUMENT_HOST_NAME = "MARS EXPRESS"
INSTRUMENT_ID = HRSC
INSTRUMENT_NAME = "HIGH RESOLUTION STEREO CAMERA"
MISSION_NAME = "MARS EXPRESS"
MISSION_PHASE_NAME = ME_Phase_2
PROCESSING_LEVEL_ID = 3
PRODUCT_CREATION_TIME = 2016-04-07T13:48:30.000Z
PRODUCT_ID = "H2595_0001_S13.JP2"
RELEASE_ID = 0032
REVISION_ID = 0000
/* QUALITY DATA ELEMENTS */
DATA_QUALITY_ID = 2
DATA_QUALITY_DESC = "Data calculated based on photogrammetrically improved orbit and attitude data"
/* TIME DATA ELEMENTS */
SPACECRAFT_CLOCK_START_COUNT = "1/0085736545.07304"
SPACECRAFT_CLOCK_STOP_COUNT = "1/0085737269.47674"
START_TIME = 2006-01-19T07:42:30.930Z
STOP_TIME = 2006-01-19T07:48:01.292Z
/* ORBITAL DATA ELEMENTS */
ASCENDING_NODE_LONGITUDE = 173.84
MAXIMUM_RESOLUTION = 56.2
FOOTPRINT_POINT_LATITUDE = (-51.4202,-51.4444,-51.4749,-51.4898, -51.5006,-50.9771,-50.5111,-50.0401, -49.5648,-48.9206,-48.2667,-47.9366, -47.6045,-47.2687,-46.93,-46.5889, -46.2448,-45.8974,-45.5478,-45.1947, -44.8397,-44.4823,-44.1198,-43.7557, -43.3886,-43.018,-42.6458,-42.2696, -41.8891,-41.5056,-41.1185,-40.7264, -40.3307,-39.9306,-39.5301,-39.1247, -38.7162,-38.3038,-37.8878,-37.4682, -37.0435,-36.616,-36.1831,-35.5246, -35.0752,-34.6396,-34.1924,-33.7362, -33.2738,-32.8084,-32.5052,-32.5156, -32.5127,-32.51,-32.5027,-32.4966, -32.7019,-33.3836,-33.839,-34.2899, -34.7366,-35.1788,-35.8343,-36.2658, -36.6934,-37.1179,-37.5393,-37.9553, -38.3666,-38.7764,-39.183,-39.5807, -39.9894,-40.3831,-40.775,-41.149, -41.5351,-41.9212,-42.2959,-42.669, -43.0396,-43.4069,-43.7718,-44.1343, -44.4945,-44.852,-45.2061,-45.5567, -45.9028,-46.4186,-46.7589,-47.2676, -47.599,-48.2555,-48.9054,-49.3837, -50.1758,-50.7946,-51.2528,-51.4202)
FOOTPRINT_POINT_LONGITUDE = (22.9912,23.5572,24.4422,25.0097, 25.5428,25.806,25.8438,25.8804,25.9156, 25.9624,26.0075,26.0293,26.0506,26.0717 ,26.0927,26.1133,26.1337,26.1536, 26.1731,26.1927,26.2115,26.2296,26.2481 ,26.2657,26.283,26.3002,26.3163,26.3325 ,26.3487,26.3644,26.3799,26.3957, 26.4111,26.4265,26.4403,26.4543,26.4678 ,26.4809,26.4936,26.5059,26.5181, 26.5297,26.5414,26.5588,26.5718,26.5779 ,26.5863,26.5958,26.6056,26.6158,25.977 ,25.1606,24.5179,24.0887,23.5307, 22.9738,22.1941,22.2187,22.2348,22.25, 22.264,22.2772,22.295,22.3055,22.3151, 22.3241,22.3326,22.3396,22.3453,22.3509 ,22.3559,22.3583,22.3646,22.3664, 22.3679,22.3639,22.3642,22.3648,22.3619 ,22.3589,22.3555,22.3512,22.3463,22.341 ,22.335,22.3285,22.3211,22.313,22.3036, 22.2885,22.2777,22.2613,22.248,22.2199, 22.1901,22.1653,22.1234,22.085,22.0549, 22.9912)
ORBIT_NUMBER = 2595
ORBITAL_ECCENTRICITY = 0.571
ORBITAL_INCLINATION = 86.61
ORBITAL_SEMIMAJOR_AXIS = 8530.91
PERIAPSIS_ALTITUDE = 280.64
PERIAPSIS_ARGUMENT_ANGLE = 262.34
PERIAPSIS_TIME = 2006-01-19T07:31:17.000Z
SPACECRAFT_ORIENTATION = (0.0,-1.0,0.0)
^MEX_ORIENTATION_DESC = "MEX_ORIENTATION_DESC.TXT"
SPACECRAFT_POINTING_MODE = NADIR
^MEX_POINTING_DESC = "MEX_POINTING_DESC.TXT"
RIGHT_ASCENSION = -1e+32
DECLINATION = -1e+32
OFFSET_ANGLE = -1e+32
SPACECRAFT_SOLAR_DISTANCE = 2.32561e+08
TARGET_NAME = MARS
/* CAMERA DATA ELEMENTS */
DETECTOR_TEMPERATURE = 19.1861
FOCAL_PLANE_TEMPERATURE = 9.3989
INST_CMPRS_NAME = "DISCRETE COSINE TRANSFORMATION (DCT)"
INST_CMPRS_RATIO = 9.93096
INST_CMPRS_QUALITY = 0
INST_CMPRS_QUANTZ_TBL_ID = 0
INSTRUMENT_TEMPERATURE = 12.2535
LENS_TEMPERATURE = 9.8067
MACROPIXEL_SIZE = 2
MISSING_FRAMES = 0
PIXEL_SUBSAMPLING_FLAG = N
SIGNAL_CHAIN_ID = 1
/* RADIOMETRIC DATA ELEMENTS */
BANDWIDTH = 180.0
CENTER_FILTER_WAVELENGTH = 677.0
RADIANCE_OFFSET = 2.3976
RADIANCE_SCALING_FACTOR = 0.0129842
REFLECTANCE_SCALING_FACTOR = 0.000366383
MEX:REFLECTANCE_OFFSET = 0.0676544
/* IMAGE OBJECT DEFINITIONS */
OBJECT = IMAGE
  INTERCHANGE_FORMAT = BINARY
  LINES = 22467
  LINE_SAMPLES = 5226
  SAMPLE_TYPE = UNSIGNED_INTEGER
  SAMPLE_BITS = 8
  BANDS = 1
  BAND_STORAGE_TYPE = BAND_SEQUENTIAL
  MAXIMUM = 255
  MEAN = 129.054
  MINIMUM = 1
  STANDARD_DEVIATION = 25.4694
END_OBJECT = IMAGE
/* MAP OBJECT DEFINITIONS */
OBJECT = IMAGE_MAP_PROJECTION
  ^DATA_SET_MAP_PROJECTION_CATALOG= "DSMAP.CAT"
  A_AXIS_RADIUS = 3396.0
  B_AXIS_RADIUS = 3396.0
  C_AXIS_RADIUS = 3396.0
  CENTER_LATITUDE = 0.0
  CENTER_LONGITUDE = 24.0
  COORDINATE_SYSTEM_NAME = PLANETOGRAPHIC
  COORDINATE_SYSTEM_TYPE = "BODY-FIXED ROTATING"
  EASTERNMOST_LONGITUDE = 26.6158
  FIRST_STANDARD_PARALLEL = "N/A"
  LINE_FIRST_PIXEL = 1
  LINE_LAST_PIXEL = 22467
  LINE_PROJECTION_OFFSET = -38553.75
  MAP_PROJECTION_ROTATION = 0.0
  MAP_PROJECTION_TYPE = SINUSOIDAL
  MAP_RESOLUTION = 1185.42760773333
  MAP_SCALE = 0.05
  MAXIMUM_LATITUDE = -32.4966
  MINIMUM_LATITUDE = -51.5006
  POSITIVE_LONGITUDE_DIRECTION = EAST
  REFERENCE_LATITUDE = "N/A"
  REFERENCE_LONGITUDE = "N/A"
  SAMPLE_FIRST_PIXEL = 1
  SAMPLE_LAST_PIXEL = 5226
  SAMPLE_PROJECTION_OFFSET = 2265.25
  SECOND_STANDARD_PARALLEL = "N/A"
  WESTERNMOST_LONGITUDE = 22.0549
END_OBJECT = IMAGE_MAP_PROJECTION
/* The JPEG2000 image data file associated with this label. */
OBJECT = COMPRESSED_FILE
  FILE_NAME = "H2595_0001_S13.JP2"
  RECORD_TYPE = UNDEFINED
  FILE_RECORDS = UNK
  ENCODING_TYPE = "JP2"
  INTERCHANGE_FORMAT = BINARY
  UNCOMPRESSED_FILE_NAME = "H2595_0001_S13.IMG"
  REQUIRED_STORAGE_BYTES = "117438672"
  ^DESCRIPTION = "JP2INFO.TXT"
END_OBJECT = COMPRESSED_FILE
END
