PDS_VERSION_ID = PDS3
/* FILE DATA ELEMENTS */
RECORD_TYPE = STREAM
/* POINTERS TO DATA OBJECTS */
^COMPRESSED_FILE = "H2596_0000_BL3.JP2"
/* IDENTIFICATION DATA ELEMENTS */
DATA_SET_ID = "MEX-M-HRSC-5-REFDR-MAPPROJECTED-V3.0"
DATA_SET_NAME = "MARS EXPRESS HRSC MAP PROJECTED REFDR V3.0"
DETECTOR_ID = MEX_HRSC_BLUE
EVENT_TYPE = "MARS-REGIONAL-MAPPING-Im-Fl-Gl"
INSTRUMENT_HOST_ID = MEX
INSTRUMENT_HOST_NAME = "MARS EXPRESS"
INSTRUMENT_ID = HRSC
INSTRUMENT_NAME = "HIGH RESOLUTION STEREO CAMERA"
MISSION_NAME = "MARS EXPRESS"
MISSION_PHASE_NAME = ME_Phase_2
PROCESSING_LEVEL_ID = 3
PRODUCT_CREATION_TIME = 2016-04-07T13:48:30.000Z
PRODUCT_ID = "H2596_0000_BL3.JP2"
RELEASE_ID = 0032
REVISION_ID = 0000
/* QUALITY DATA ELEMENTS */
DATA_QUALITY_ID = 1
DATA_QUALITY_DESC = "Data calculated based on original SPICE kernels"
/* TIME DATA ELEMENTS */
SPACECRAFT_CLOCK_START_COUNT = "1/0085760374.09051"
SPACECRAFT_CLOCK_STOP_COUNT = "1/0085760649.17002"
START_TIME = 2006-01-19T14:20:19.178Z
STOP_TIME = 2006-01-19T14:23:24.740Z
/* ORBITAL DATA ELEMENTS */
ASCENDING_NODE_LONGITUDE = 173.82
MAXIMUM_RESOLUTION = 61.5
FOOTPRINT_POINT_LATITUDE = (-74.8498,-74.9465,-75.0279,-75.0995, -74.8963,-74.6941,-74.4908,-74.1852, -73.9825,-73.7803,-73.5797,-73.3773, -73.175,-72.9727,-72.7709,-72.5652, -72.3583,-72.1518,-71.9456,-71.6315, -71.4199,-71.2085,-70.9969,-70.7829, -70.5669,-70.3502,-70.1349,-69.8051, -69.5852,-69.3654,-69.0299,-68.8054, -68.5813,-68.2391,-68.0104,-67.7821, -67.5494,-67.3164,-67.0838,-66.8475, -66.6105,-66.3736,-66.1333,-65.8918, -65.651,-65.2833,-65.0383,-64.6654, -64.4163,-64.1644,-63.9994,-63.9668, -63.939,-63.9027,-63.8667,-63.9436, -64.1932,-64.4407,-64.8117,-65.0551, -65.2988,-65.66,-65.8995,-66.1388, -66.3739,-66.6094,-66.8443,-67.0752, -67.3065,-67.5378,-67.7645,-67.9914, -68.3314,-68.5538,-68.7765,-69.1096, -69.4368,-69.6551,-69.8729,-70.1933, -70.407,-70.7269,-70.9359,-71.1455, -71.355,-71.5641,-71.8705,-72.075, -72.2796,-72.6827,-73.0815,-73.2814, -73.4814,-73.6814,-73.8815,-74.0817, -74.2819,-74.4821,-74.7826,-74.8498)
FOOTPRINT_POINT_LONGITUDE = (276.285,277.807,279.247,280.359,280.52 ,280.679,280.831,281.047,281.189, 281.328,281.468,281.598,281.725,281.848 ,281.969,282.089,282.207,282.323, 282.435,282.6,282.707,282.812,282.913, 283.017,283.116,283.211,283.307,283.448 ,283.541,283.631,283.764,283.85,283.935 ,284.061,284.142,284.222,284.301, 284.379,284.454,284.53,284.604,284.676, 284.748,284.817,284.886,284.989,285.055 ,285.153,285.217,285.28,284.859,284.054 ,283.441,282.712,282.061,281.162,281.1, 281.028,280.918,280.844,280.768,280.65, 280.57,280.488,280.406,280.321,280.235, 280.147,280.058,279.966,279.874,279.779 ,279.633,279.533,279.432,279.274, 279.114,279.005,278.895,278.723,278.607 ,278.424,278.302,278.17,278.037,277.902 ,277.7,277.562,277.42,277.132,276.839, 276.68,276.517,276.349,276.177,275.999, 275.818,275.63,275.339,276.285)
ORBIT_NUMBER = 2596
ORBITAL_ECCENTRICITY = 0.571
ORBITAL_INCLINATION = 86.61
ORBITAL_SEMIMAJOR_AXIS = 8531.92
PERIAPSIS_ALTITUDE = 280.55
PERIAPSIS_ARGUMENT_ANGLE = 262.18
PERIAPSIS_TIME = 2006-01-19T14:14:33.000Z
SPACECRAFT_ORIENTATION = (0.0,-1.0,0.0)
^MEX_ORIENTATION_DESC = "MEX_ORIENTATION_DESC.TXT"
SPACECRAFT_POINTING_MODE = ACROSSTRACK
^MEX_POINTING_DESC = "MEX_POINTING_DESC.TXT"
RIGHT_ASCENSION = -1e+32
DECLINATION = -1e+32
OFFSET_ANGLE = 0.22
SPACECRAFT_SOLAR_DISTANCE = 2.32613e+08
TARGET_NAME = MARS
/* CAMERA DATA ELEMENTS */
DETECTOR_TEMPERATURE = 18.5744
FOCAL_PLANE_TEMPERATURE = 8.9911
INST_CMPRS_NAME = "DISCRETE COSINE TRANSFORMATION (DCT)"
INST_CMPRS_RATIO = 6.63903
INST_CMPRS_QUALITY = 0
INST_CMPRS_QUANTZ_TBL_ID = 0
INSTRUMENT_TEMPERATURE = 11.4379
LENS_TEMPERATURE = 9.3989
MACROPIXEL_SIZE = 4
MISSING_FRAMES = 0
PIXEL_SUBSAMPLING_FLAG = N
SIGNAL_CHAIN_ID = 2
/* RADIOMETRIC DATA ELEMENTS */
BANDWIDTH = 76.0
CENTER_FILTER_WAVELENGTH = 444.0
RADIANCE_OFFSET = 0.223862
RADIANCE_SCALING_FACTOR = 0.00126293
REFLECTANCE_SCALING_FACTOR = 7.02113e-05
MEX:REFLECTANCE_OFFSET = 0.0124454
/* IMAGE OBJECT DEFINITIONS */
OBJECT = IMAGE
  INTERCHANGE_FORMAT = BINARY
  LINES = 13384
  LINE_SAMPLES = 3963
  SAMPLE_TYPE = UNSIGNED_INTEGER
  SAMPLE_BITS = 8
  BANDS = 1
  BAND_STORAGE_TYPE = BAND_SEQUENTIAL
  MAXIMUM = 254
  MEAN = 138.516
  MINIMUM = 3
  STANDARD_DEVIATION = 46.5287
END_OBJECT = IMAGE
/* MAP OBJECT DEFINITIONS */
OBJECT = IMAGE_MAP_PROJECTION
  ^DATA_SET_MAP_PROJECTION_CATALOG= "DSMAP.CAT"
  A_AXIS_RADIUS = 3396.0
  B_AXIS_RADIUS = 3396.0
  C_AXIS_RADIUS = 3396.0
  CENTER_LATITUDE = 0.0
  CENTER_LONGITUDE = 281.0
  COORDINATE_SYSTEM_NAME = PLANETOGRAPHIC
  COORDINATE_SYSTEM_TYPE = "BODY-FIXED ROTATING"
  EASTERNMOST_LONGITUDE = 285.28
  FIRST_STANDARD_PARALLEL = "N/A"
  LINE_FIRST_PIXEL = 1
  LINE_LAST_PIXEL = 13384
  LINE_PROJECTION_OFFSET = -75642.625
  MAP_PROJECTION_ROTATION = 0.0
  MAP_PROJECTION_TYPE = SINUSOIDAL
  MAP_RESOLUTION = 1185.42760773333
  MAP_SCALE = 0.05
  MAXIMUM_LATITUDE = -63.8667
  MINIMUM_LATITUDE = -75.09950000000001
  POSITIVE_LONGITUDE_DIRECTION = EAST
  REFERENCE_LATITUDE = "N/A"
  REFERENCE_LONGITUDE = "N/A"
  SAMPLE_FIRST_PIXEL = 1
  SAMPLE_LAST_PIXEL = 3963
  SAMPLE_PROJECTION_OFFSET = 1710.875
  SECOND_STANDARD_PARALLEL = "N/A"
  WESTERNMOST_LONGITUDE = 275.339
END_OBJECT = IMAGE_MAP_PROJECTION
/* The JPEG2000 image data file associated with this label. */
OBJECT = COMPRESSED_FILE
  FILE_NAME = "H2596_0000_BL3.JP2"
  RECORD_TYPE = UNDEFINED
  FILE_RECORDS = UNK
  ENCODING_TYPE = "JP2"
  INTERCHANGE_FORMAT = BINARY
  UNCOMPRESSED_FILE_NAME = "H2596_0000_BL3.IMG"
  REQUIRED_STORAGE_BYTES = "53064570"
  ^DESCRIPTION = "JP2INFO.TXT"
END_OBJECT = COMPRESSED_FILE
END
