PDS_VERSION_ID = PDS3
/* FILE DATA ELEMENTS */
RECORD_TYPE = STREAM
/* POINTERS TO DATA OBJECTS */
^COMPRESSED_FILE = "H2596_0000_RE3.JP2"
/* IDENTIFICATION DATA ELEMENTS */
DATA_SET_ID = "MEX-M-HRSC-5-REFDR-MAPPROJECTED-V3.0"
DATA_SET_NAME = "MARS EXPRESS HRSC MAP PROJECTED REFDR V3.0"
DETECTOR_ID = MEX_HRSC_RED
EVENT_TYPE = "MARS-REGIONAL-MAPPING-Im-Fl-Gl"
INSTRUMENT_HOST_ID = MEX
INSTRUMENT_HOST_NAME = "MARS EXPRESS"
INSTRUMENT_ID = HRSC
INSTRUMENT_NAME = "HIGH RESOLUTION STEREO CAMERA"
MISSION_NAME = "MARS EXPRESS"
MISSION_PHASE_NAME = ME_Phase_2
PROCESSING_LEVEL_ID = 3
PRODUCT_CREATION_TIME = 2016-04-07T13:48:30.000Z
PRODUCT_ID = "H2596_0000_RE3.JP2"
RELEASE_ID = 0032
REVISION_ID = 0000
/* QUALITY DATA ELEMENTS */
DATA_QUALITY_ID = 1
DATA_QUALITY_DESC = "Data calculated based on original SPICE kernels"
/* TIME DATA ELEMENTS */
SPACECRAFT_CLOCK_START_COUNT = "1/0085760374.09051"
SPACECRAFT_CLOCK_STOP_COUNT = "1/0085760649.17002"
START_TIME = 2006-01-19T14:20:43.806Z
STOP_TIME = 2006-01-19T14:24:02.268Z
/* ORBITAL DATA ELEMENTS */
ASCENDING_NODE_LONGITUDE = 173.82
MAXIMUM_RESOLUTION = 66.8
FOOTPRINT_POINT_LATITUDE = (-74.7682,-74.816,-74.8913,-74.9717, -75.1073,-74.7223,-74.4277,-74.2289, -74.0303,-73.8319,-73.4421,-73.2385, -73.0342,-72.8309,-72.6279,-72.4215, -72.2146,-72.009,-71.8021,-71.5899, -71.2721,-70.9548,-70.7412,-70.5259, -70.3041,-70.0839,-69.867,-69.6491, -69.3163,-69.0937,-68.8716,-68.6456, -68.3067,-68.0784,-67.8484,-67.6188, -67.3865,-67.1528,-66.8011,-66.5642, -66.3278,-66.0874,-65.7259,-65.3603, -65.1164,-64.8684,-64.6218,-64.3715, -64.1206,-63.986,-63.9572,-63.932, -63.8989,-63.8717,-63.8557,-63.9503, -64.1928,-64.4416,-64.6866,-64.9327, -65.174,-65.5379,-65.895,-66.1335, -66.4857,-66.7208,-66.9521,-67.1836, -67.4137,-67.7553,-67.9834,-68.2074, -68.4314,-68.6563,-68.8766,-69.0975, -69.3185,-69.5354,-69.7506,-69.967, -70.1822,-70.3934,-70.6063,-70.9228, -71.1352,-71.3465,-71.5563,-71.7616, -71.966,-72.1717,-72.3743,-72.5735, -72.7752,-72.9737,-73.2688,-73.5641, -73.7607,-74.0543,-74.3425,-74.7682)
FOOTPRINT_POINT_LONGITUDE = (275.812,276.561,277.829,279.338, 280.508,280.815,281.032,281.172,281.313 ,281.45,281.715,281.843,281.969,282.092 ,282.211,282.33,282.447,282.561,282.671 ,282.781,282.941,283.097,283.2,283.299, 283.394,283.49,283.586,283.678,283.815, 283.904,283.991,284.078,284.204,284.286 ,284.368,284.447,284.526,284.604, 284.717,284.792,284.865,284.937,285.042 ,285.146,285.214,285.281,285.346, 285.411,285.475,284.762,283.979,283.36, 282.617,282.082,281.619,281.034,280.974 ,280.903,280.832,280.758,280.685, 280.568,280.452,280.371,280.248,280.164 ,280.078,279.991,279.901,279.764,279.67 ,279.574,279.477,279.376,279.275,279.17 ,279.064,278.956,278.849,278.738, 278.621,278.508,278.389,278.205,278.072 ,277.938,277.803,277.669,277.534, 277.393,277.253,277.112,276.961,276.815 ,276.59,276.348,276.182,275.925,275.662 ,275.812)
ORBIT_NUMBER = 2596
ORBITAL_ECCENTRICITY = 0.571
ORBITAL_INCLINATION = 86.61
ORBITAL_SEMIMAJOR_AXIS = 8531.92
PERIAPSIS_ALTITUDE = 280.55
PERIAPSIS_ARGUMENT_ANGLE = 262.18
PERIAPSIS_TIME = 2006-01-19T14:14:33.000Z
SPACECRAFT_ORIENTATION = (0.0,-1.0,0.0)
^MEX_ORIENTATION_DESC = "MEX_ORIENTATION_DESC.TXT"
SPACECRAFT_POINTING_MODE = ACROSSTRACK
^MEX_POINTING_DESC = "MEX_POINTING_DESC.TXT"
RIGHT_ASCENSION = -1e+32
DECLINATION = -1e+32
OFFSET_ANGLE = 0.22
SPACECRAFT_SOLAR_DISTANCE = 2.32613e+08
TARGET_NAME = MARS
/* CAMERA DATA ELEMENTS */
DETECTOR_TEMPERATURE = 18.5744
FOCAL_PLANE_TEMPERATURE = 8.9911
INST_CMPRS_NAME = "DISCRETE COSINE TRANSFORMATION (DCT)"
INST_CMPRS_RATIO = 35.4279
INST_CMPRS_QUALITY = 0
INST_CMPRS_QUANTZ_TBL_ID = 0
INSTRUMENT_TEMPERATURE = 11.4379
LENS_TEMPERATURE = 9.3989
MACROPIXEL_SIZE = 4
MISSING_FRAMES = 0
PIXEL_SUBSAMPLING_FLAG = N
SIGNAL_CHAIN_ID = 2
/* RADIOMETRIC DATA ELEMENTS */
BANDWIDTH = 48.0
CENTER_FILTER_WAVELENGTH = 748.0
RADIANCE_OFFSET = 0.255524
RADIANCE_SCALING_FACTOR = 0.00169097
REFLECTANCE_SCALING_FACTOR = 0.000208801
MEX:REFLECTANCE_OFFSET = 0.0315522
/* IMAGE OBJECT DEFINITIONS */
OBJECT = IMAGE
  INTERCHANGE_FORMAT = BINARY
  LINES = 13384
  LINE_SAMPLES = 3963
  SAMPLE_TYPE = UNSIGNED_INTEGER
  SAMPLE_BITS = 8
  BANDS = 1
  BAND_STORAGE_TYPE = BAND_SEQUENTIAL
  MAXIMUM = 255
  MEAN = 132.853
  MINIMUM = 1
  STANDARD_DEVIATION = 54.446
END_OBJECT = IMAGE
/* MAP OBJECT DEFINITIONS */
OBJECT = IMAGE_MAP_PROJECTION
  ^DATA_SET_MAP_PROJECTION_CATALOG= "DSMAP.CAT"
  A_AXIS_RADIUS = 3396.0
  B_AXIS_RADIUS = 3396.0
  C_AXIS_RADIUS = 3396.0
  CENTER_LATITUDE = 0.0
  CENTER_LONGITUDE = 281.0
  COORDINATE_SYSTEM_NAME = PLANETOGRAPHIC
  COORDINATE_SYSTEM_TYPE = "BODY-FIXED ROTATING"
  EASTERNMOST_LONGITUDE = 285.475
  FIRST_STANDARD_PARALLEL = "N/A"
  LINE_FIRST_PIXEL = 1
  LINE_LAST_PIXEL = 13384
  LINE_PROJECTION_OFFSET = -75642.625
  MAP_PROJECTION_ROTATION = 0.0
  MAP_PROJECTION_TYPE = SINUSOIDAL
  MAP_RESOLUTION = 1185.42760773333
  MAP_SCALE = 0.05
  MAXIMUM_LATITUDE = -63.8557
  MINIMUM_LATITUDE = -75.1073
  POSITIVE_LONGITUDE_DIRECTION = EAST
  REFERENCE_LATITUDE = "N/A"
  REFERENCE_LONGITUDE = "N/A"
  SAMPLE_FIRST_PIXEL = 1
  SAMPLE_LAST_PIXEL = 3963
  SAMPLE_PROJECTION_OFFSET = 1710.875
  SECOND_STANDARD_PARALLEL = "N/A"
  WESTERNMOST_LONGITUDE = 275.662
END_OBJECT = IMAGE_MAP_PROJECTION
/* The JPEG2000 image data file associated with this label. */
OBJECT = COMPRESSED_FILE
  FILE_NAME = "H2596_0000_RE3.JP2"
  RECORD_TYPE = UNDEFINED
  FILE_RECORDS = UNK
  ENCODING_TYPE = "JP2"
  INTERCHANGE_FORMAT = BINARY
  UNCOMPRESSED_FILE_NAME = "H2596_0000_RE3.IMG"
  REQUIRED_STORAGE_BYTES = "53064570"
  ^DESCRIPTION = "JP2INFO.TXT"
END_OBJECT = COMPRESSED_FILE
END
