PDS_VERSION_ID = PDS3
/* FILE DATA ELEMENTS */
RECORD_TYPE = STREAM
/* POINTERS TO DATA OBJECTS */
^COMPRESSED_FILE = "H2598_0000_S13.JP2"
/* IDENTIFICATION DATA ELEMENTS */
DATA_SET_ID = "MEX-M-HRSC-5-REFDR-MAPPROJECTED-V3.0"
DATA_SET_NAME = "MARS EXPRESS HRSC MAP PROJECTED REFDR V3.0"
DETECTOR_ID = MEX_HRSC_S1
EVENT_TYPE = "MARS-REGIONAL-MAPPING-Im-Gl"
INSTRUMENT_HOST_ID = MEX
INSTRUMENT_HOST_NAME = "MARS EXPRESS"
INSTRUMENT_ID = HRSC
INSTRUMENT_NAME = "HIGH RESOLUTION STEREO CAMERA"
MISSION_NAME = "MARS EXPRESS"
MISSION_PHASE_NAME = ME_Phase_2
PROCESSING_LEVEL_ID = 3
PRODUCT_CREATION_TIME = 2016-04-07T13:48:30.000Z
PRODUCT_ID = "H2598_0000_S13.JP2"
RELEASE_ID = 0032
REVISION_ID = 0000
/* QUALITY DATA ELEMENTS */
DATA_QUALITY_ID = 2
DATA_QUALITY_DESC = "Data calculated based on photogrammetrically improved orbit and attitude data"
/* TIME DATA ELEMENTS */
SPACECRAFT_CLOCK_START_COUNT = "1/0085808722.09043"
SPACECRAFT_CLOCK_STOP_COUNT = "1/0085808999.58040"
START_TIME = 2006-01-20T03:45:27.904Z
STOP_TIME = 2006-01-20T03:48:25.143Z
/* ORBITAL DATA ELEMENTS */
ASCENDING_NODE_LONGITUDE = 173.78
MAXIMUM_RESOLUTION = 30.8
FOOTPRINT_POINT_LATITUDE = (-76.8544,-76.9751,-77.0845,-77.1621, -76.9258,-76.7249,-76.5264,-76.3309, -76.1361,-75.8521,-75.644,-75.446, -75.2479,-74.9565,-74.7567,-74.4589, -74.2292,-73.9916,-73.7553,-73.5199, -73.2838,-73.0476,-72.8133,-72.577, -72.3406,-72.1052,-71.8675,-71.6301, -71.3956,-71.164,-70.9397,-70.7058, -70.4672,-70.2233,-69.9848,-69.6078, -69.2454,-69.0042,-68.7705,-68.5168, -68.269,-67.896,-67.6453,-67.4026, -67.0169,-66.754,-66.4956,-66.2373, -65.974,-65.709,-65.438,-65.3753, -65.3467,-65.2897,-65.2587,-65.2109, -65.578,-65.8451,-66.2378,-66.4969, -66.7536,-67.1379,-67.3922,-67.637, -67.8806,-68.1269,-68.3781,-68.7503, -68.9805,-69.223,-69.4612,-69.7004, -69.9341,-70.1685,-70.4043,-70.7535, -70.9872,-71.339,-71.6787,-71.904, -72.1384,-72.3775,-72.6264,-72.8583, -73.0906,-73.3272,-73.6833,-73.9198, -74.1494,-74.3446,-74.6342,-74.925, -75.2188,-75.4147,-75.6099,-75.8061, -76.0008,-76.1921,-76.4798,-76.8544)
FOOTPRINT_POINT_LONGITUDE = (77.6942,79.4875,81.364,82.9101,83.3039 ,83.4946,83.6748,83.8438,84.0064,84.227 ,84.4015,84.5535,84.7013,84.9062,85.047 ,85.2479,85.3984,85.5488,85.6929, 85.8313,85.9665,86.0981,86.2232,86.3473 ,86.4682,86.5844,86.7004,86.8128, 86.9188,87.0187,87.1077,87.2053,87.3056 ,87.4092,87.5044,87.6569,87.7885, 87.8731,87.9454,88.0344,88.1156,88.2334 ,88.3088,88.3751,88.4898,88.5663,88.637 ,88.7062,88.7747,88.8428,88.9141, 88.4607,87.7298,86.5828,86.0491,85.2885 ,84.8506,84.7691,84.6437,84.5579, 84.4692,84.3345,84.2424,84.146,84.0482, 83.9502,83.8502,83.6944,83.5878,83.48, 83.3687,83.2543,83.1395,83.022,82.9012, 82.7133,82.5835,82.382,82.171,82.0252, 81.8756,81.7214,81.5624,81.3984,81.2293 ,81.0548,80.7823,80.5933,80.3992, 80.2309,79.9701,79.6982,79.414,79.2175, 79.0154,78.8071,78.5927,78.3728,78.03, 77.6942)
ORBIT_NUMBER = 2598
ORBITAL_ECCENTRICITY = 0.571
ORBITAL_INCLINATION = 86.63
ORBITAL_SEMIMAJOR_AXIS = 8529.89
PERIAPSIS_ALTITUDE = 279.86
PERIAPSIS_ARGUMENT_ANGLE = 261.83
PERIAPSIS_TIME = 2006-01-20T03:40:57.000Z
SPACECRAFT_ORIENTATION = (0.0,-1.0,0.0)
^MEX_ORIENTATION_DESC = "MEX_ORIENTATION_DESC.TXT"
SPACECRAFT_POINTING_MODE = ALONGTRACK
^MEX_POINTING_DESC = "MEX_POINTING_DESC.TXT"
RIGHT_ASCENSION = -1e+32
DECLINATION = -1e+32
OFFSET_ANGLE = 0.7
SPACECRAFT_SOLAR_DISTANCE = 2.32717e+08
TARGET_NAME = MARS
/* CAMERA DATA ELEMENTS */
DETECTOR_TEMPERATURE = 17.5549
FOCAL_PLANE_TEMPERATURE = 8.5833
INST_CMPRS_NAME = "DISCRETE COSINE TRANSFORMATION (DCT)"
INST_CMPRS_RATIO = 14.2815
INST_CMPRS_QUALITY = 0
INST_CMPRS_QUANTZ_TBL_ID = 0
INSTRUMENT_TEMPERATURE = 11.4379
LENS_TEMPERATURE = 8.9911
MACROPIXEL_SIZE = 2
MISSING_FRAMES = 0
PIXEL_SUBSAMPLING_FLAG = N
SIGNAL_CHAIN_ID = 1
/* RADIOMETRIC DATA ELEMENTS */
BANDWIDTH = 180.0
CENTER_FILTER_WAVELENGTH = 677.0
RADIANCE_OFFSET = 1.11106
RADIANCE_SCALING_FACTOR = 0.0103481
REFLECTANCE_SCALING_FACTOR = 0.000292391
MEX:REFLECTANCE_OFFSET = 0.0313936
/* IMAGE OBJECT DEFINITIONS */
OBJECT = IMAGE
  INTERCHANGE_FORMAT = BINARY
  LINES = 27980
  LINE_SAMPLES = 7793
  SAMPLE_TYPE = UNSIGNED_INTEGER
  SAMPLE_BITS = 8
  BANDS = 1
  BAND_STORAGE_TYPE = BAND_SEQUENTIAL
  MAXIMUM = 255
  MEAN = 102.352
  MINIMUM = 1
  STANDARD_DEVIATION = 36.178
END_OBJECT = IMAGE
/* MAP OBJECT DEFINITIONS */
OBJECT = IMAGE_MAP_PROJECTION
  ^DATA_SET_MAP_PROJECTION_CATALOG= "DSMAP.CAT"
  A_AXIS_RADIUS = 3396.0
  B_AXIS_RADIUS = 3396.0
  C_AXIS_RADIUS = 3396.0
  CENTER_LATITUDE = 0.0
  CENTER_LONGITUDE = 85.0
  COORDINATE_SYSTEM_NAME = PLANETOGRAPHIC
  COORDINATE_SYSTEM_TYPE = "BODY-FIXED ROTATING"
  EASTERNMOST_LONGITUDE = 88.9141
  FIRST_STANDARD_PARALLEL = "N/A"
  LINE_FIRST_PIXEL = 1
  LINE_LAST_PIXEL = 27980
  LINE_PROJECTION_OFFSET = -154580.75
  MAP_PROJECTION_ROTATION = 0.0
  MAP_PROJECTION_TYPE = SINUSOIDAL
  MAP_RESOLUTION = 2370.85521546667
  MAP_SCALE = 0.025
  MAXIMUM_LATITUDE = -65.2109
  MINIMUM_LATITUDE = -77.1621
  POSITIVE_LONGITUDE_DIRECTION = EAST
  REFERENCE_LATITUDE = "N/A"
  REFERENCE_LONGITUDE = "N/A"
  SAMPLE_FIRST_PIXEL = 1
  SAMPLE_LAST_PIXEL = 7793
  SAMPLE_PROJECTION_OFFSET = 3895.75
  SECOND_STANDARD_PARALLEL = "N/A"
  WESTERNMOST_LONGITUDE = 77.6942
END_OBJECT = IMAGE_MAP_PROJECTION
/* The JPEG2000 image data file associated with this label. */
OBJECT = COMPRESSED_FILE
  FILE_NAME = "H2598_0000_S13.JP2"
  RECORD_TYPE = UNDEFINED
  FILE_RECORDS = UNK
  ENCODING_TYPE = "JP2"
  INTERCHANGE_FORMAT = BINARY
  UNCOMPRESSED_FILE_NAME = "H2598_0000_S13.IMG"
  REQUIRED_STORAGE_BYTES = "218079312"
  ^DESCRIPTION = "JP2INFO.TXT"
END_OBJECT = COMPRESSED_FILE
END
