PDS_VERSION_ID = PDS3
/* FILE DATA ELEMENTS */
RECORD_TYPE = STREAM
/* POINTERS TO DATA OBJECTS */
^COMPRESSED_FILE = "H2598_0001_P13.JP2"
/* IDENTIFICATION DATA ELEMENTS */
DATA_SET_ID = "MEX-M-HRSC-5-REFDR-MAPPROJECTED-V3.0"
DATA_SET_NAME = "MARS EXPRESS HRSC MAP PROJECTED REFDR V3.0"
DETECTOR_ID = MEX_HRSC_P1
EVENT_TYPE = "MARS-REGIONAL-MAPPING-Vo-Fl"
INSTRUMENT_HOST_ID = MEX
INSTRUMENT_HOST_NAME = "MARS EXPRESS"
INSTRUMENT_ID = HRSC
INSTRUMENT_NAME = "HIGH RESOLUTION STEREO CAMERA"
MISSION_NAME = "MARS EXPRESS"
MISSION_PHASE_NAME = ME_Phase_2
PROCESSING_LEVEL_ID = 3
PRODUCT_CREATION_TIME = 2016-04-07T13:48:30.000Z
PRODUCT_ID = "H2598_0001_P13.JP2"
RELEASE_ID = 0032
REVISION_ID = 0000
/* QUALITY DATA ELEMENTS */
DATA_QUALITY_ID = 2
DATA_QUALITY_DESC = "Data calculated based on photogrammetrically improved orbit and attitude data"
/* TIME DATA ELEMENTS */
SPACECRAFT_CLOCK_START_COUNT = "1/0085809242.09080"
SPACECRAFT_CLOCK_STOP_COUNT = "1/0085809885.19445"
START_TIME = 2006-01-20T03:54:37.921Z
STOP_TIME = 2006-01-20T03:58:41.887Z
/* ORBITAL DATA ELEMENTS */
ASCENDING_NODE_LONGITUDE = 173.78
MAXIMUM_RESOLUTION = 69.3
FOOTPRINT_POINT_LATITUDE = (-44.118,-44.1427,-44.1672,-44.1792, -44.1865,-44.1942,-44.1966,-44.1975, -43.7847,-43.2252,-42.7707,-42.4318, -41.9706,-41.5054,-41.035,-40.6792, -40.3205,-40.0796,-39.8372,-39.5917, -39.3514,-39.1041,-38.8573,-38.6082, -38.3582,-38.1066,-37.7267,-37.4725, -37.0874,-36.8296,-36.5701,-36.3086, -36.0423,-35.7798,-35.5149,-35.2452, -34.9681,-34.6995,-34.2999,-34.027, -33.7513,-33.4734,-33.1947,-32.914, -32.4902,-32.207,-31.9216,-31.6336, -31.4039,-31.4117,-31.4174,-31.4231, -31.4292,-31.4318,-31.4304,-31.4262, -31.4219,-31.4158,-31.4089,-31.4, -31.8267,-32.1111,-32.3934,-32.6747, -32.954,-33.3711,-33.6466,-33.9208, -34.1888,-34.4591,-34.7282,-34.9955, -35.262,-35.6624,-36.0491,-36.3105, -36.5705,-36.8275,-37.0836,-37.4664, -37.7187,-37.9697,-38.2198,-38.4682, -38.7149,-39.0839,-39.3291,-39.5704, -39.8119,-40.0527,-40.2909,-40.5295, -40.7664,-41.2336,-41.6983,-42.0432, -42.6108,-43.1731,-43.7286,-44.118)
FOOTPRINT_POINT_LONGITUDE = (87.7076,88.3328,89.1147,89.6226, 90.0136,90.6397,90.9927,91.3459,91.4962 ,91.5225,91.5441,91.5572,91.5771,91.596 ,91.6145,91.6279,91.6411,91.6498, 91.6587,91.668,91.6741,91.683,91.6907, 91.6988,91.7066,91.7144,91.7257,91.7329 ,91.7436,91.7504,91.7571,91.7639, 91.7721,91.7778,91.7838,91.7911,91.801, 91.8062,91.8108,91.8158,91.8212,91.8268 ,91.8318,91.8368,91.8441,91.8481, 91.8521,91.8564,91.6314,91.3088,91.0323 ,90.71,90.2505,89.883,89.3776,88.8715, 88.3193,87.9509,87.6282,87.2589,87.1248 ,87.1383,87.1511,87.1639,87.176,87.1938 ,87.205,87.2159,87.2244,87.2341,87.2436 ,87.2527,87.2617,87.2759,87.2849, 87.2926,87.3,87.3064,87.3128,87.3221, 87.3275,87.3326,87.3374,87.3417,87.3456 ,87.3514,87.3553,87.3578,87.3604,87.363 ,87.3649,87.367,87.3686,87.37,87.371, 87.3708,87.3682,87.365,87.3599,87.7076)
ORBIT_NUMBER = 2598
ORBITAL_ECCENTRICITY = 0.571
ORBITAL_INCLINATION = 86.63
ORBITAL_SEMIMAJOR_AXIS = 8529.89
PERIAPSIS_ALTITUDE = 279.86
PERIAPSIS_ARGUMENT_ANGLE = 261.83
PERIAPSIS_TIME = 2006-01-20T03:40:57.000Z
SPACECRAFT_ORIENTATION = (0.0,-1.0,0.0)
^MEX_ORIENTATION_DESC = "MEX_ORIENTATION_DESC.TXT"
SPACECRAFT_POINTING_MODE = ALONGTRACK
^MEX_POINTING_DESC = "MEX_POINTING_DESC.TXT"
RIGHT_ASCENSION = -1e+32
DECLINATION = -1e+32
OFFSET_ANGLE = 0.7
SPACECRAFT_SOLAR_DISTANCE = 2.32717e+08
TARGET_NAME = MARS
/* CAMERA DATA ELEMENTS */
DETECTOR_TEMPERATURE = 18.9822
FOCAL_PLANE_TEMPERATURE = 8.7872
INST_CMPRS_NAME = "DISCRETE COSINE TRANSFORMATION (DCT)"
INST_CMPRS_RATIO = 9.51382
INST_CMPRS_QUALITY = 0
INST_CMPRS_QUANTZ_TBL_ID = 0
INSTRUMENT_TEMPERATURE = 13.273
LENS_TEMPERATURE = 9.195
MACROPIXEL_SIZE = 2
MISSING_FRAMES = 0
PIXEL_SUBSAMPLING_FLAG = N
SIGNAL_CHAIN_ID = 3
/* RADIOMETRIC DATA ELEMENTS */
BANDWIDTH = 174.0
CENTER_FILTER_WAVELENGTH = 675.0
RADIANCE_OFFSET = 3.25189
RADIANCE_SCALING_FACTOR = 0.0114878
REFLECTANCE_SCALING_FACTOR = 0.000334647
MEX:REFLECTANCE_OFFSET = 0.0947296
/* IMAGE OBJECT DEFINITIONS */
OBJECT = IMAGE
  INTERCHANGE_FORMAT = BINARY
  LINES = 15137
  LINE_SAMPLES = 5403
  SAMPLE_TYPE = UNSIGNED_INTEGER
  SAMPLE_BITS = 8
  BANDS = 1
  BAND_STORAGE_TYPE = BAND_SEQUENTIAL
  MAXIMUM = 255
  MEAN = 123.438
  MINIMUM = 1
  STANDARD_DEVIATION = 27.0082
END_OBJECT = IMAGE
/* MAP OBJECT DEFINITIONS */
OBJECT = IMAGE_MAP_PROJECTION
  ^DATA_SET_MAP_PROJECTION_CATALOG= "DSMAP.CAT"
  A_AXIS_RADIUS = 3396.0
  B_AXIS_RADIUS = 3396.0
  C_AXIS_RADIUS = 3396.0
  CENTER_LATITUDE = 0.0
  CENTER_LONGITUDE = 89.0
  COORDINATE_SYSTEM_NAME = PLANETOGRAPHIC
  COORDINATE_SYSTEM_TYPE = "BODY-FIXED ROTATING"
  EASTERNMOST_LONGITUDE = 91.85639999999999
  FIRST_STANDARD_PARALLEL = "N/A"
  LINE_FIRST_PIXEL = 1
  LINE_LAST_PIXEL = 15137
  LINE_PROJECTION_OFFSET = -37197.25
  MAP_PROJECTION_ROTATION = 0.0
  MAP_PROJECTION_TYPE = SINUSOIDAL
  MAP_RESOLUTION = 1185.42760773333
  MAP_SCALE = 0.05
  MAXIMUM_LATITUDE = -31.4
  MINIMUM_LATITUDE = -44.1975
  POSITIVE_LONGITUDE_DIRECTION = EAST
  REFERENCE_LATITUDE = "N/A"
  REFERENCE_LONGITUDE = "N/A"
  SAMPLE_FIRST_PIXEL = 1
  SAMPLE_LAST_PIXEL = 5403
  SAMPLE_PROJECTION_OFFSET = 2251.75
  SECOND_STANDARD_PARALLEL = "N/A"
  WESTERNMOST_LONGITUDE = 87.12479999999999
END_OBJECT = IMAGE_MAP_PROJECTION
/* The JPEG2000 image data file associated with this label. */
OBJECT = COMPRESSED_FILE
  FILE_NAME = "H2598_0001_P13.JP2"
  RECORD_TYPE = UNDEFINED
  FILE_RECORDS = UNK
  ENCODING_TYPE = "JP2"
  INTERCHANGE_FORMAT = BINARY
  UNCOMPRESSED_FILE_NAME = "H2598_0001_P13.IMG"
  REQUIRED_STORAGE_BYTES = "81812226"
  ^DESCRIPTION = "JP2INFO.TXT"
END_OBJECT = COMPRESSED_FILE
END
