PDS_VERSION_ID = PDS3
/* FILE DATA ELEMENTS */
RECORD_TYPE = STREAM
/* POINTERS TO DATA OBJECTS */
^COMPRESSED_FILE = "H2600_0000_P13.JP2"
/* IDENTIFICATION DATA ELEMENTS */
DATA_SET_ID = "MEX-M-HRSC-5-REFDR-MAPPROJECTED-V3.0"
DATA_SET_NAME = "MARS EXPRESS HRSC MAP PROJECTED REFDR V3.0"
DETECTOR_ID = MEX_HRSC_P1
EVENT_TYPE = "MARS-REGIONAL-MAPPING-Vo-Te-Im"
INSTRUMENT_HOST_ID = MEX
INSTRUMENT_HOST_NAME = "MARS EXPRESS"
INSTRUMENT_ID = HRSC
INSTRUMENT_NAME = "HIGH RESOLUTION STEREO CAMERA"
MISSION_NAME = "MARS EXPRESS"
MISSION_PHASE_NAME = ME_Phase_2
PROCESSING_LEVEL_ID = 3
PRODUCT_CREATION_TIME = 2016-04-07T13:48:30.000Z
PRODUCT_ID = "H2600_0000_P13.JP2"
RELEASE_ID = 0032
REVISION_ID = 0000
/* QUALITY DATA ELEMENTS */
DATA_QUALITY_ID = 2
DATA_QUALITY_DESC = "Data calculated based on photogrammetrically improved orbit and attitude data"
/* TIME DATA ELEMENTS */
SPACECRAFT_CLOCK_START_COUNT = "1/0085857146.09073"
SPACECRAFT_CLOCK_STOP_COUNT = "1/0085858144.12726"
START_TIME = 2006-01-20T17:12:43.180Z
STOP_TIME = 2006-01-20T17:23:54.889Z
/* ORBITAL DATA ELEMENTS */
ASCENDING_NODE_LONGITUDE = 173.72
MAXIMUM_RESOLUTION = 30.5
FOOTPRINT_POINT_LATITUDE = (-75.1644,-75.0161,-74.2033,-73.1152, -72.3057,-71.4874,-70.3684,-69.218, -68.6276,-68.0339,-67.4286,-66.8123, -66.1875,-65.5538,-64.9101,-64.2551, -63.5904,-62.9124,-62.2229,-61.5218, -60.8072,-60.0803,-59.3409,-58.5851, -57.8195,-57.0359,-56.2383,-55.4239, -54.5943,-53.7459,-52.8802,-51.9955, -51.0927,-50.1707,-49.2278,-48.2625, -47.2731,-46.2625,-45.2285,-44.1684, -43.0823,-41.9692,-40.8274,-39.6567, -39.0599,-38.4563,-37.8531,-37.2357, -36.6049,-35.882,-35.8836,-35.8762, -35.857,-35.8347,-36.4697,-37.0969, -37.7074,-38.3167,-38.9183,-40.0981, -41.248,-42.3695,-43.4636,-44.5315, -45.5747,-46.5928,-47.5908,-48.5649, -49.5125,-50.4421,-51.3495,-52.239, -53.1108,-53.9652,-54.8012,-55.6238, -56.4176,-57.6018,-58.3668,-59.1174, -59.8549,-60.5804,-61.2936,-61.9923, -62.6789,-63.3539,-64.0169,-64.6687, -65.3105,-65.9418,-66.5652,-67.1736, -67.7798,-68.956,-70.0985,-71.2074, -72.0189,-73.09,-74.1611,-75.1644)
FOOTPRINT_POINT_LONGITUDE = (244.484,248.196,248.751,249.416, 249.847,250.245,250.733,251.176,251.386 ,251.58,251.769,251.95,252.123,252.289, 252.448,252.6,252.745,252.886,253.022, 253.152,253.277,253.397,253.512,253.625 ,253.73,253.833,253.931,254.025,254.116 ,254.204,254.288,254.369,254.446, 254.519,254.589,254.657,254.723,254.784 ,254.843,254.899,254.951,255.001, 255.048,255.091,255.112,255.131,255.145 ,255.161,255.18,254.632,253.758,252.709 ,251.614,250.679,250.698,250.716, 250.728,250.741,250.752,250.768,250.776 ,250.778,250.772,250.76,250.742,250.717 ,250.687,250.651,250.606,250.556, 250.499,250.437,250.369,250.296,250.217 ,250.133,250.035,249.89,249.783,249.668 ,249.547,249.42,249.285,249.142,248.992 ,248.834,248.667,248.492,248.308, 248.114,247.911,247.693,247.472,246.984 ,246.447,245.849,245.358,244.628, 243.784,244.484)
ORBIT_NUMBER = 2600
ORBITAL_ECCENTRICITY = 0.571
ORBITAL_INCLINATION = 86.62
ORBITAL_SEMIMAJOR_AXIS = 8531.28
PERIAPSIS_ALTITUDE = 279.05
PERIAPSIS_ARGUMENT_ANGLE = 261.47
PERIAPSIS_TIME = 2006-01-20T17:07:17.000Z
SPACECRAFT_ORIENTATION = (0.0,-1.0,0.0)
^MEX_ORIENTATION_DESC = "MEX_ORIENTATION_DESC.TXT"
SPACECRAFT_POINTING_MODE = NADIR
^MEX_POINTING_DESC = "MEX_POINTING_DESC.TXT"
RIGHT_ASCENSION = -1e+32
DECLINATION = -1e+32
OFFSET_ANGLE = -1e+32
SPACECRAFT_SOLAR_DISTANCE = 2.32822e+08
TARGET_NAME = MARS
/* CAMERA DATA ELEMENTS */
DETECTOR_TEMPERATURE = 17.9627
FOCAL_PLANE_TEMPERATURE = 8.7872
INST_CMPRS_NAME = "DISCRETE COSINE TRANSFORMATION (DCT)"
INST_CMPRS_RATIO = 16.7393
INST_CMPRS_QUALITY = 0
INST_CMPRS_QUANTZ_TBL_ID = 0
INSTRUMENT_TEMPERATURE = 11.234
LENS_TEMPERATURE = 9.3989
MACROPIXEL_SIZE = 2
MISSING_FRAMES = 0
PIXEL_SUBSAMPLING_FLAG = N
SIGNAL_CHAIN_ID = 3
/* RADIOMETRIC DATA ELEMENTS */
BANDWIDTH = 174.0
CENTER_FILTER_WAVELENGTH = 675.0
RADIANCE_OFFSET = 0.997013
RADIANCE_SCALING_FACTOR = 0.0169799
REFLECTANCE_SCALING_FACTOR = 0.000495075
MEX:REFLECTANCE_OFFSET = 0.0290694
/* IMAGE OBJECT DEFINITIONS */
OBJECT = IMAGE
  INTERCHANGE_FORMAT = BINARY
  LINES = 93521
  LINE_SAMPLES = 13561
  SAMPLE_TYPE = UNSIGNED_INTEGER
  SAMPLE_BITS = 8
  BANDS = 1
  BAND_STORAGE_TYPE = BAND_SEQUENTIAL
  MAXIMUM = 255
  MEAN = 101.605
  MINIMUM = 1
  STANDARD_DEVIATION = 45.3811
END_OBJECT = IMAGE
/* MAP OBJECT DEFINITIONS */
OBJECT = IMAGE_MAP_PROJECTION
  ^DATA_SET_MAP_PROJECTION_CATALOG= "DSMAP.CAT"
  A_AXIS_RADIUS = 3396.0
  B_AXIS_RADIUS = 3396.0
  C_AXIS_RADIUS = 3396.0
  CENTER_LATITUDE = 0.0
  CENTER_LONGITUDE = 251.0
  COORDINATE_SYSTEM_NAME = PLANETOGRAPHIC
  COORDINATE_SYSTEM_TYPE = "BODY-FIXED ROTATING"
  EASTERNMOST_LONGITUDE = 255.18
  FIRST_STANDARD_PARALLEL = "N/A"
  LINE_FIRST_PIXEL = 1
  LINE_LAST_PIXEL = 93521
  LINE_PROJECTION_OFFSET = -84960.25
  MAP_PROJECTION_ROTATION = 0.0
  MAP_PROJECTION_TYPE = SINUSOIDAL
  MAP_RESOLUTION = 2370.85521546667
  MAP_SCALE = 0.025
  MAXIMUM_LATITUDE = -35.8347
  MINIMUM_LATITUDE = -75.1644
  POSITIVE_LONGITUDE_DIRECTION = EAST
  REFERENCE_LATITUDE = "N/A"
  REFERENCE_LONGITUDE = "N/A"
  SAMPLE_FIRST_PIXEL = 1
  SAMPLE_LAST_PIXEL = 13561
  SAMPLE_PROJECTION_OFFSET = 4960.25
  SECOND_STANDARD_PARALLEL = "N/A"
  WESTERNMOST_LONGITUDE = 243.784
END_OBJECT = IMAGE_MAP_PROJECTION
/* The JPEG2000 image data file associated with this label. */
OBJECT = COMPRESSED_FILE
  FILE_NAME = "H2600_0000_P13.JP2"
  RECORD_TYPE = UNDEFINED
  FILE_RECORDS = UNK
  ENCODING_TYPE = "JP2"
  INTERCHANGE_FORMAT = BINARY
  UNCOMPRESSED_FILE_NAME = "H2600_0000_P13.IMG"
  REQUIRED_STORAGE_BYTES = "1268278964"
  ^DESCRIPTION = "JP2INFO.TXT"
END_OBJECT = COMPRESSED_FILE
END
