PDS_VERSION_ID = PDS3
/* FILE DATA ELEMENTS */
RECORD_TYPE = STREAM
/* POINTERS TO DATA OBJECTS */
^COMPRESSED_FILE = "H2607_0000_S23.JP2"
/* IDENTIFICATION DATA ELEMENTS */
DATA_SET_ID = "MEX-M-HRSC-5-REFDR-MAPPROJECTED-V3.0"
DATA_SET_NAME = "MARS EXPRESS HRSC MAP PROJECTED REFDR V3.0"
DETECTOR_ID = MEX_HRSC_S2
EVENT_TYPE = "MARS-REGIONAL-MAPPING-Te-Fl"
INSTRUMENT_HOST_ID = MEX
INSTRUMENT_HOST_NAME = "MARS EXPRESS"
INSTRUMENT_ID = HRSC
INSTRUMENT_NAME = "HIGH RESOLUTION STEREO CAMERA"
MISSION_NAME = "MARS EXPRESS"
MISSION_PHASE_NAME = ME_Phase_2
PROCESSING_LEVEL_ID = 3
PRODUCT_CREATION_TIME = 2016-04-08T01:44:18.000Z
PRODUCT_ID = "H2607_0000_S23.JP2"
RELEASE_ID = 0033
REVISION_ID = 0000
/* QUALITY DATA ELEMENTS */
DATA_QUALITY_ID = 2
DATA_QUALITY_DESC = "Data calculated based on photogrammetrically improved orbit and attitude data"
/* TIME DATA ELEMENTS */
SPACECRAFT_CLOCK_START_COUNT = "1/0086026640.08264"
SPACECRAFT_CLOCK_STOP_COUNT = "1/0086027333.63899"
START_TIME = 2006-01-22T16:19:11.177Z
STOP_TIME = 2006-01-22T16:28:57.901Z
/* ORBITAL DATA ELEMENTS */
ASCENDING_NODE_LONGITUDE = 173.58
MAXIMUM_RESOLUTION = 48.8
FOOTPRINT_POINT_LATITUDE = (-65.5255,-65.5868,-65.6463,-65.7749, -65.0106,-64.2331,-63.2493,-62.8359, -62.0265,-61.6091,-61.1931,-60.7718, -60.3464,-59.9158,-59.4806,-59.0409, -58.5966,-58.1504,-57.6968,-57.2389, -56.7775,-56.3101,-55.83,-55.3582, -54.8773,-54.3896,-53.898,-53.3992, -52.8933,-52.3827,-51.8676,-51.3486, -50.8218,-50.2887,-49.7542,-49.2127, -48.6662,-48.1138,-47.5529,-46.9868, -46.4145,-45.8315,-45.2484,-44.6606, -44.0653,-43.4612,-42.8492,-41.92, -41.2999,-41.3049,-41.3226,-41.332, -41.3499,-41.3528,-41.3429,-41.6514, -42.2618,-42.8673,-43.4664,-44.06, -44.6476,-45.2281,-45.8036,-46.3754, -46.9388,-47.4973,-48.0508,-48.5988, -49.1403,-49.6761,-50.2063,-50.7309, -51.2461,-51.7557,-52.5159,-53.0177, -53.5157,-54.0102,-54.4979,-54.9795, -55.4532,-55.9254,-56.3899,-56.851, -57.3073,-57.7583,-58.2052,-58.6477, -59.0862,-59.5199,-59.9496,-60.3753, -60.7957,-61.2115,-62.0274,-62.8385, -63.6317,-64.4115,-65.1762,-65.5255)
FOOTPRINT_POINT_LONGITUDE = (281.027,282.306,283.772,284.762, 284.961,285.15,285.38,285.462,285.634, 285.715,285.796,285.876,285.954,286.03, 286.104,286.177,286.248,286.319,286.388 ,286.456,286.522,286.588,286.649, 286.715,286.778,286.839,286.9,286.959, 287.017,287.074,287.131,287.188,287.244 ,287.298,287.354,287.409,287.464, 287.518,287.571,287.624,287.677,287.728 ,287.781,287.835,287.888,287.94,287.992 ,288.07,288.126,286.994,285.865,284.976 ,284.084,283.429,282.598,281.991, 282.011,282.028,282.042,282.053,282.062 ,282.068,282.071,282.071,282.069, 282.065,282.057,282.047,282.035,282.02, 282.003,281.984,281.964,281.943,281.902 ,281.871,281.837,281.8,281.761,281.72, 281.679,281.633,281.587,281.537,281.486 ,281.432,281.375,281.316,281.254,281.19 ,281.123,281.053,280.981,280.907, 280.755,280.581,280.398,280.2,279.991, 281.027)
ORBIT_NUMBER = 2607
ORBITAL_ECCENTRICITY = 0.571
ORBITAL_INCLINATION = 86.61
ORBITAL_SEMIMAJOR_AXIS = 8532.61
PERIAPSIS_ALTITUDE = 279.95
PERIAPSIS_ARGUMENT_ANGLE = 260.27
PERIAPSIS_TIME = 2006-01-22T16:09:27.000Z
SPACECRAFT_ORIENTATION = (0.0,-1.0,0.0)
^MEX_ORIENTATION_DESC = "MEX_ORIENTATION_DESC.TXT"
SPACECRAFT_POINTING_MODE = NADIR
^MEX_POINTING_DESC = "MEX_POINTING_DESC.TXT"
RIGHT_ASCENSION = -1e+32
DECLINATION = -1e+32
OFFSET_ANGLE = -1e+32
SPACECRAFT_SOLAR_DISTANCE = 2.33184e+08
TARGET_NAME = MARS
/* CAMERA DATA ELEMENTS */
DETECTOR_TEMPERATURE = 18.3705
FOCAL_PLANE_TEMPERATURE = 8.5833
INST_CMPRS_NAME = "DISCRETE COSINE TRANSFORMATION (DCT)"
INST_CMPRS_RATIO = 12.8519
INST_CMPRS_QUALITY = 0
INST_CMPRS_QUANTZ_TBL_ID = 0
INSTRUMENT_TEMPERATURE = 11.0301
LENS_TEMPERATURE = 9.3989
MACROPIXEL_SIZE = 2
MISSING_FRAMES = 0
PIXEL_SUBSAMPLING_FLAG = N
SIGNAL_CHAIN_ID = 1
/* RADIOMETRIC DATA ELEMENTS */
BANDWIDTH = 178.0
CENTER_FILTER_WAVELENGTH = 679.0
RADIANCE_OFFSET = 1.56587
RADIANCE_SCALING_FACTOR = 0.0106365
REFLECTANCE_SCALING_FACTOR = 0.000306289
MEX:REFLECTANCE_OFFSET = 0.0450908
/* IMAGE OBJECT DEFINITIONS */
OBJECT = IMAGE
  INTERCHANGE_FORMAT = BINARY
  LINES = 29018
  LINE_SAMPLES = 4930
  SAMPLE_TYPE = UNSIGNED_INTEGER
  SAMPLE_BITS = 8
  BANDS = 1
  BAND_STORAGE_TYPE = BAND_SEQUENTIAL
  MAXIMUM = 255
  MEAN = 120.88
  MINIMUM = 1
  STANDARD_DEVIATION = 40.3255
END_OBJECT = IMAGE
/* MAP OBJECT DEFINITIONS */
OBJECT = IMAGE_MAP_PROJECTION
  ^DATA_SET_MAP_PROJECTION_CATALOG= "DSMAP.CAT"
  A_AXIS_RADIUS = 3396.0
  B_AXIS_RADIUS = 3396.0
  C_AXIS_RADIUS = 3396.0
  CENTER_LATITUDE = 0.0
  CENTER_LONGITUDE = 284.0
  COORDINATE_SYSTEM_NAME = PLANETOGRAPHIC
  COORDINATE_SYSTEM_TYPE = "BODY-FIXED ROTATING"
  EASTERNMOST_LONGITUDE = 288.126
  FIRST_STANDARD_PARALLEL = "N/A"
  LINE_FIRST_PIXEL = 1
  LINE_LAST_PIXEL = 29018
  LINE_PROJECTION_OFFSET = -48968.75
  MAP_PROJECTION_ROTATION = 0.0
  MAP_PROJECTION_TYPE = SINUSOIDAL
  MAP_RESOLUTION = 1185.42760773333
  MAP_SCALE = 0.05
  MAXIMUM_LATITUDE = -41.2999
  MINIMUM_LATITUDE = -65.7749
  POSITIVE_LONGITUDE_DIRECTION = EAST
  REFERENCE_LATITUDE = "N/A"
  REFERENCE_LONGITUDE = "N/A"
  SAMPLE_FIRST_PIXEL = 1
  SAMPLE_LAST_PIXEL = 4930
  SAMPLE_PROJECTION_OFFSET = 1924.75
  SECOND_STANDARD_PARALLEL = "N/A"
  WESTERNMOST_LONGITUDE = 279.991
END_OBJECT = IMAGE_MAP_PROJECTION
/* The JPEG2000 image data file associated with this label. */
OBJECT = COMPRESSED_FILE
  FILE_NAME = "H2607_0000_S23.JP2"
  RECORD_TYPE = UNDEFINED
  FILE_RECORDS = UNK
  ENCODING_TYPE = "JP2"
  INTERCHANGE_FORMAT = BINARY
  UNCOMPRESSED_FILE_NAME = "H2607_0000_S23.IMG"
  REQUIRED_STORAGE_BYTES = "143083390"
  ^DESCRIPTION = "JP2INFO.TXT"
END_OBJECT = COMPRESSED_FILE
END
