PDS_VERSION_ID = PDS3
/* FILE DATA ELEMENTS */
RECORD_TYPE = STREAM
/* POINTERS TO DATA OBJECTS */
^COMPRESSED_FILE = "H2609_0000_ND3.JP2"
/* IDENTIFICATION DATA ELEMENTS */
DATA_SET_ID = "MEX-M-HRSC-5-REFDR-MAPPROJECTED-V3.0"
DATA_SET_NAME = "MARS EXPRESS HRSC MAP PROJECTED REFDR V3.0"
DETECTOR_ID = MEX_HRSC_NADIR
EVENT_TYPE = "MARS-LOCAL-STEREO-Vo-Fl-Mw"
INSTRUMENT_HOST_ID = MEX
INSTRUMENT_HOST_NAME = "MARS EXPRESS"
INSTRUMENT_ID = HRSC
INSTRUMENT_NAME = "HIGH RESOLUTION STEREO CAMERA"
MISSION_NAME = "MARS EXPRESS"
MISSION_PHASE_NAME = ME_Phase_2
PROCESSING_LEVEL_ID = 3
PRODUCT_CREATION_TIME = 2016-04-08T01:44:18.000Z
PRODUCT_ID = "H2609_0000_ND3.JP2"
RELEASE_ID = 0033
REVISION_ID = 0000
/* QUALITY DATA ELEMENTS */
DATA_QUALITY_ID = 2
DATA_QUALITY_DESC = "Data calculated based on photogrammetrically improved orbit and attitude data"
/* TIME DATA ELEMENTS */
SPACECRAFT_CLOCK_START_COUNT = "1/0086075377.07317"
SPACECRAFT_CLOCK_STOP_COUNT = "1/0086075947.55700"
START_TIME = 2006-01-23T05:51:24.364Z
STOP_TIME = 2006-01-23T05:54:56.411Z
/* ORBITAL DATA ELEMENTS */
ASCENDING_NODE_LONGITUDE = 173.53
MAXIMUM_RESOLUTION = 38.9
FOOTPRINT_POINT_LATITUDE = (-44.2699,-44.2807,-44.2893,-44.297, -44.3047,-44.3112,-44.3182,-44.3219, -44.325,-44.3259,-44.3255,-44.3253, -44.1274,-43.929,-43.7295,-43.5302, -43.3314,-43.1331,-42.9353,-42.7379, -42.5411,-42.3448,-42.1489,-41.9536, -41.7587,-41.5643,-41.3704,-41.177, -40.984,-40.7916,-40.5996,-40.4081, -40.2171,-40.0266,-39.8365,-39.6469, -39.4578,-39.2692,-38.8934,-38.5195, -38.1475,-37.7773,-37.409,-37.0426, -36.6781,-36.3154,-35.9545,-35.5954, -35.2382,-34.8828,-34.8882,-34.8996, -34.908,-34.9166,-34.9213,-34.9248, -34.9275,-34.9288,-34.928,-34.9261, -34.924,-34.9215,-34.9182,-35.0027, -35.3537,-35.7064,-36.0611,-36.4175, -36.7759,-37.1362,-37.4984,-37.8626, -38.2286,-38.5966,-38.9666,-39.3385, -39.7124,-40.0882,-40.2769,-40.4661, -40.6557,-40.8459,-41.0365,-41.2277, -41.4193,-41.6115,-41.8041,-41.9972, -42.1909,-42.385,-42.5797,-42.7749, -42.9705,-43.1667,-43.3634,-43.5605, -43.7582,-44.0535,-44.2496,-44.2699)
FOOTPRINT_POINT_LONGITUDE = (86.4319,86.8006,87.1229,87.4455, 87.8142,88.1828,88.6894,89.0576,89.5648 ,89.9342,90.3506,90.6939,90.7045,90.715 ,90.7251,90.7357,90.746,90.756,90.7659, 90.7754,90.7853,90.7952,90.8048,90.8141 ,90.8234,90.8325,90.841,90.8498,90.8579 ,90.8665,90.8761,90.8846,90.8908, 90.8988,90.9065,90.9143,90.922,90.9295, 90.9436,90.9577,90.9719,90.9851,90.9981 ,91.0107,91.023,91.0352,91.0454,91.0577 ,91.0673,91.0778,90.7073,90.2297,89.806 ,89.2771,88.9072,88.5372,88.114,87.5315 ,87.1075,86.7367,86.4726,86.2075, 85.9432,85.7095,85.7213,85.738,85.7523, 85.7678,85.7827,85.7966,85.8103,85.8235 ,85.8359,85.8473,85.8577,85.868,85.8779 ,85.8866,85.8906,85.8942,85.8977, 85.9011,85.9043,85.9074,85.9104,85.9129 ,85.9155,85.918,85.9197,85.9211,85.922, 85.9222,85.9226,85.9245,85.9255,85.9255 ,85.9254,85.9248,85.9245,86.4319)
ORBIT_NUMBER = 2609
ORBITAL_ECCENTRICITY = 0.571
ORBITAL_INCLINATION = 86.62
ORBITAL_SEMIMAJOR_AXIS = 8530.33
PERIAPSIS_ALTITUDE = 279.24
PERIAPSIS_ARGUMENT_ANGLE = 259.91
PERIAPSIS_TIME = 2006-01-23T05:35:48.000Z
SPACECRAFT_ORIENTATION = (0.0,-1.0,0.0)
^MEX_ORIENTATION_DESC = "MEX_ORIENTATION_DESC.TXT"
SPACECRAFT_POINTING_MODE = NADIR
^MEX_POINTING_DESC = "MEX_POINTING_DESC.TXT"
RIGHT_ASCENSION = -1e+32
DECLINATION = -1e+32
OFFSET_ANGLE = -1e+32
SPACECRAFT_SOLAR_DISTANCE = 2.33288e+08
TARGET_NAME = MARS
/* CAMERA DATA ELEMENTS */
DETECTOR_TEMPERATURE = 18.3705
FOCAL_PLANE_TEMPERATURE = 8.7872
INST_CMPRS_NAME = "DISCRETE COSINE TRANSFORMATION (DCT)"
INST_CMPRS_RATIO = 7.22212
INST_CMPRS_QUALITY = 0
INST_CMPRS_QUANTZ_TBL_ID = 0
INSTRUMENT_TEMPERATURE = 11.234
LENS_TEMPERATURE = 9.195
MACROPIXEL_SIZE = 1
MISSING_FRAMES = 0
PIXEL_SUBSAMPLING_FLAG = N
SIGNAL_CHAIN_ID = 0
/* RADIOMETRIC DATA ELEMENTS */
BANDWIDTH = 177.0
CENTER_FILTER_WAVELENGTH = 677.5
RADIANCE_OFFSET = 3.30839
RADIANCE_SCALING_FACTOR = 0.00968732
REFLECTANCE_SCALING_FACTOR = 0.000280077
MEX:REFLECTANCE_OFFSET = 0.0956512
/* IMAGE OBJECT DEFINITIONS */
OBJECT = IMAGE
  INTERCHANGE_FORMAT = BINARY
  LINES = 11198
  LINE_SAMPLES = 5274
  SAMPLE_TYPE = UNSIGNED_INTEGER
  SAMPLE_BITS = 8
  BANDS = 1
  BAND_STORAGE_TYPE = BAND_SEQUENTIAL
  MAXIMUM = 255
  MEAN = 109.065
  MINIMUM = 1
  STANDARD_DEVIATION = 32.3435
END_OBJECT = IMAGE
/* MAP OBJECT DEFINITIONS */
OBJECT = IMAGE_MAP_PROJECTION
  ^DATA_SET_MAP_PROJECTION_CATALOG= "DSMAP.CAT"
  A_AXIS_RADIUS = 3396.0
  B_AXIS_RADIUS = 3396.0
  C_AXIS_RADIUS = 3396.0
  CENTER_LATITUDE = 0.0
  CENTER_LONGITUDE = 88.0
  COORDINATE_SYSTEM_NAME = PLANETOGRAPHIC
  COORDINATE_SYSTEM_TYPE = "BODY-FIXED ROTATING"
  EASTERNMOST_LONGITUDE = 91.0778
  FIRST_STANDARD_PARALLEL = "N/A"
  LINE_FIRST_PIXEL = 1
  LINE_LAST_PIXEL = 11198
  LINE_PROJECTION_OFFSET = -41351.0
  MAP_PROJECTION_ROTATION = 0.0
  MAP_PROJECTION_TYPE = SINUSOIDAL
  MAP_RESOLUTION = 1185.42760773333
  MAP_SCALE = 0.05
  MAXIMUM_LATITUDE = -34.8828
  MINIMUM_LATITUDE = -44.3259
  POSITIVE_LONGITUDE_DIRECTION = EAST
  REFERENCE_LATITUDE = "N/A"
  REFERENCE_LONGITUDE = "N/A"
  SAMPLE_FIRST_PIXEL = 1
  SAMPLE_LAST_PIXEL = 5274
  SAMPLE_PROJECTION_OFFSET = 2255.0
  SECOND_STANDARD_PARALLEL = "N/A"
  WESTERNMOST_LONGITUDE = 85.70950000000001
END_OBJECT = IMAGE_MAP_PROJECTION
/* The JPEG2000 image data file associated with this label. */
OBJECT = COMPRESSED_FILE
  FILE_NAME = "H2609_0000_ND3.JP2"
  RECORD_TYPE = UNDEFINED
  FILE_RECORDS = UNK
  ENCODING_TYPE = "JP2"
  INTERCHANGE_FORMAT = BINARY
  UNCOMPRESSED_FILE_NAME = "H2609_0000_ND3.IMG"
  REQUIRED_STORAGE_BYTES = "59084622"
  ^DESCRIPTION = "JP2INFO.TXT"
END_OBJECT = COMPRESSED_FILE
END
